BEGIN:VCALENDAR
VERSION:1.0
BEGIN:VEVENT
DTSTART:20260108T174000
DTEND:20260108T182000
SUMMARY:McElfresh/McElfresh vs. Stuhlman/Stuhlman
DESCRIPTION:LSL Thursday Night Low Int./Rec League - Winter '26 - Paddle Up Pickleball Club
LOCATION:Court 3
CATEGORIES:QuickScores; Pickleball Game
TRANSP:0
DALARM:20260108T154000;PT10M;2;McElfresh/McElfresh vs. Stuhlman/Stuhlman
END:VEVENT
BEGIN:VEVENT
DTSTART:20260108T190000
DTEND:20260108T194000
SUMMARY:McElfresh/McElfresh vs. Nettler/Denny
DESCRIPTION:LSL Thursday Night Low Int./Rec League - Winter '26 - Paddle Up Pickleball Club
LOCATION:Court 3
CATEGORIES:QuickScores; Pickleball Game
TRANSP:0
DALARM:20260108T170000;PT10M;2;McElfresh/McElfresh vs. Nettler/Denny
END:VEVENT
BEGIN:VEVENT
DTSTART:20260115T174000
DTEND:20260115T182000
SUMMARY:McElfresh/McElfresh vs. Wallis/Curtit
DESCRIPTION:LSL Thursday Night Low Int./Rec League - Winter '26 - Paddle Up Pickleball Club
LOCATION:Court 3
CATEGORIES:QuickScores; Pickleball Game
TRANSP:0
DALARM:20260115T154000;PT10M;2;McElfresh/McElfresh vs. Wallis/Curtit
END:VEVENT
BEGIN:VEVENT
DTSTART:20260115T182000
DTEND:20260115T190000
SUMMARY:Beavers/DeBrower vs. McElfresh/McElfresh
DESCRIPTION:LSL Thursday Night Low Int./Rec League - Winter '26 - Paddle Up Pickleball Club
LOCATION:Court 5
CATEGORIES:QuickScores; Pickleball Game
TRANSP:0
DALARM:20260115T162000;PT10M;2;Beavers/DeBrower vs. McElfresh/McElfresh
END:VEVENT
BEGIN:VEVENT
DTSTART:20260122T194000
DTEND:20260122T202000
SUMMARY:McElfresh/McElfresh vs. Hornbach/Tillman
DESCRIPTION:LSL Thursday Night Low Int./Rec League - Winter '26 - Paddle Up Pickleball Club
LOCATION:Court 3
CATEGORIES:QuickScores; Pickleball Game
TRANSP:0
DALARM:20260122T174000;PT10M;2;McElfresh/McElfresh vs. Hornbach/Tillman
END:VEVENT
BEGIN:VEVENT
DTSTART:20260122T202000
DTEND:20260122T210000
SUMMARY:Nettler/Denny vs. McElfresh/McElfresh
DESCRIPTION:LSL Thursday Night Low Int./Rec League - Winter '26 - Paddle Up Pickleball Club
LOCATION:Court 5
CATEGORIES:QuickScores; Pickleball Game
TRANSP:0
DALARM:20260122T182000;PT10M;2;Nettler/Denny vs. McElfresh/McElfresh
END:VEVENT
BEGIN:VEVENT
DTSTART:20260129T174000
DTEND:20260129T182000
SUMMARY:McElfresh/McElfresh vs. Wallis/Curtit
DESCRIPTION:LSL Thursday Night Low Int./Rec League - Winter '26 - Paddle Up Pickleball Club
LOCATION:Court 3
CATEGORIES:QuickScores; Pickleball Game
TRANSP:0
DALARM:20260129T154000;PT10M;2;McElfresh/McElfresh vs. Wallis/Curtit
END:VEVENT
BEGIN:VEVENT
DTSTART:20260129T190000
DTEND:20260129T194000
SUMMARY:Mundschenk/Mundschenk vs. McElfresh/McElfresh
DESCRIPTION:LSL Thursday Night Low Int./Rec League - Winter '26 - Paddle Up Pickleball Club
LOCATION:Court 4
CATEGORIES:QuickScores; Pickleball Game
TRANSP:0
DALARM:20260129T170000;PT10M;2;Mundschenk/Mundschenk vs. McElfresh/McElfresh
END:VEVENT
BEGIN:VEVENT
DTSTART:20260205T174000
DTEND:20260205T182000
SUMMARY:McElfresh/McElfresh vs. Hornbach/Tillman
DESCRIPTION:LSL Thursday Night Low Int./Rec League - Winter '26 - Paddle Up Pickleball Club
LOCATION:Court 3
CATEGORIES:QuickScores; Pickleball Game
TRANSP:0
DALARM:20260205T154000;PT10M;2;McElfresh/McElfresh vs. Hornbach/Tillman
END:VEVENT
BEGIN:VEVENT
DTSTART:20260205T182000
DTEND:20260205T190000
SUMMARY:McElfresh/McElfresh vs. Tegeler/Tegeler
DESCRIPTION:LSL Thursday Night Low Int./Rec League - Winter '26 - Paddle Up Pickleball Club
LOCATION:Court 3
CATEGORIES:QuickScores; Pickleball Game
TRANSP:0
DALARM:20260205T162000;PT10M;2;McElfresh/McElfresh vs. Tegeler/Tegeler
END:VEVENT
BEGIN:VEVENT
DTSTART:20260212T180000
DTEND:20260212T183000
SUMMARY:[5] McElfresh/McElfresh vs. [12] Purdy/Carney
DESCRIPTION:LSL Thursday Night Low Int./Rec League - Winter '26 - Paddle Up Pickleball Club
LOCATION:Court 3
CATEGORIES:QuickScores; Pickleball Game
TRANSP:0
DALARM:20260212T160000;PT10M;2;[5] McElfresh/McElfresh vs. [12] Purdy/Carney
END:VEVENT
END:VCALENDAR
