BEGIN:VCALENDAR
VERSION:1.0
BEGIN:VEVENT
DTSTART:20260107T180000
DTEND:20260107T184000
SUMMARY:Wolf/Albietz vs. Donovan/Snell
DESCRIPTION:LSL Wednesday Low Int Doubles Tm. Lg. - Winter 26 - Paddle Up Pickleball Club
LOCATION:Court 6
CATEGORIES:QuickScores; Pickleball Game
TRANSP:0
DALARM:20260107T160000;PT10M;2;Wolf/Albietz vs. Donovan/Snell
END:VEVENT
BEGIN:VEVENT
DTSTART:20260107T184000
DTEND:20260107T192000
SUMMARY:Huff/Huff vs. Donovan/Snell
DESCRIPTION:LSL Wednesday Low Int Doubles Tm. Lg. - Winter 26 - Paddle Up Pickleball Club
LOCATION:Court 6
CATEGORIES:QuickScores; Pickleball Game
TRANSP:0
DALARM:20260107T164000;PT10M;2;Huff/Huff vs. Donovan/Snell
END:VEVENT
BEGIN:VEVENT
DTSTART:20260114T180000
DTEND:20260114T184000
SUMMARY:Donovan/Snell vs. Hull/Deatherage
DESCRIPTION:LSL Wednesday Low Int Doubles Tm. Lg. - Winter 26 - Paddle Up Pickleball Club
LOCATION:Court 6
CATEGORIES:QuickScores; Pickleball Game
TRANSP:0
DALARM:20260114T160000;PT10M;2;Donovan/Snell vs. Hull/Deatherage
END:VEVENT
BEGIN:VEVENT
DTSTART:20260114T192000
DTEND:20260114T200000
SUMMARY:Roppa/Roppa vs. Donovan/Snell
DESCRIPTION:LSL Wednesday Low Int Doubles Tm. Lg. - Winter 26 - Paddle Up Pickleball Club
LOCATION:Court 7
CATEGORIES:QuickScores; Pickleball Game
TRANSP:0
DALARM:20260114T172000;PT10M;2;Roppa/Roppa vs. Donovan/Snell
END:VEVENT
BEGIN:VEVENT
DTSTART:20260121T180000
DTEND:20260121T184000
SUMMARY:Donovan/Snell vs. Buenger/Hamilton
DESCRIPTION:LSL Wednesday Low Int Doubles Tm. Lg. - Winter 26 - Paddle Up Pickleball Club
LOCATION:Court 6
CATEGORIES:QuickScores; Pickleball Game
TRANSP:0
DALARM:20260121T160000;PT10M;2;Donovan/Snell vs. Buenger/Hamilton
END:VEVENT
BEGIN:VEVENT
DTSTART:20260121T184000
DTEND:20260121T192000
SUMMARY:Donovan/Snell vs. Wolf/Albietz
DESCRIPTION:LSL Wednesday Low Int Doubles Tm. Lg. - Winter 26 - Paddle Up Pickleball Club
LOCATION:Court 6
CATEGORIES:QuickScores; Pickleball Game
TRANSP:0
DALARM:20260121T164000;PT10M;2;Donovan/Snell vs. Wolf/Albietz
END:VEVENT
BEGIN:VEVENT
DTSTART:20260128T180000
DTEND:20260128T184000
SUMMARY:Hull/Deatherage vs. Donovan/Snell
DESCRIPTION:LSL Wednesday Low Int Doubles Tm. Lg. - Winter 26 - Paddle Up Pickleball Club
LOCATION:Court 6
CATEGORIES:QuickScores; Pickleball Game
TRANSP:0
DALARM:20260128T160000;PT10M;2;Hull/Deatherage vs. Donovan/Snell
END:VEVENT
BEGIN:VEVENT
DTSTART:20260128T192000
DTEND:20260128T200000
SUMMARY:Donovan/Snell vs. Hollander/Lee2
DESCRIPTION:LSL Wednesday Low Int Doubles Tm. Lg. - Winter 26 - Paddle Up Pickleball Club
LOCATION:Court 7
CATEGORIES:QuickScores; Pickleball Game
TRANSP:0
DALARM:20260128T172000;PT10M;2;Donovan/Snell vs. Hollander/Lee2
END:VEVENT
BEGIN:VEVENT
DTSTART:20260204T180000
DTEND:20260204T184000
SUMMARY:Donovan/Snell vs. Buenger/Hamilton
DESCRIPTION:LSL Wednesday Low Int Doubles Tm. Lg. - Winter 26 - Paddle Up Pickleball Club
LOCATION:Court 6
CATEGORIES:QuickScores; Pickleball Game
TRANSP:0
DALARM:20260204T160000;PT10M;2;Donovan/Snell vs. Buenger/Hamilton
END:VEVENT
BEGIN:VEVENT
DTSTART:20260204T184000
DTEND:20260204T192000
SUMMARY:Roppa/Roppa vs. Donovan/Snell
DESCRIPTION:LSL Wednesday Low Int Doubles Tm. Lg. - Winter 26 - Paddle Up Pickleball Club
LOCATION:Court 6
CATEGORIES:QuickScores; Pickleball Game
TRANSP:0
DALARM:20260204T164000;PT10M;2;Roppa/Roppa vs. Donovan/Snell
END:VEVENT
BEGIN:VEVENT
DTSTART:20260211T183000
DTEND:20260211T190000
SUMMARY:[1] Donovan/Snell vs. Winner of Game 1
DESCRIPTION:LSL Wednesday Low Int Doubles Tm. Lg. - Winter 26 - Paddle Up Pickleball Club
LOCATION:Court 6
CATEGORIES:QuickScores; Pickleball Game
TRANSP:0
DALARM:20260211T163000;PT10M;2;[1] Donovan/Snell vs. Winner of Game 1
END:VEVENT
END:VCALENDAR
