BEGIN:VCALENDAR
VERSION:1.0
BEGIN:VEVENT
DTSTART:20260107T200000
DTEND:20260107T204000
SUMMARY:Spicknall/Hester vs. Yuan/Yuan
DESCRIPTION:CHST Wednesday  Rec. League - Winter 26 - Paddle Up Pickleball Club
LOCATION:CHST Court 7
CATEGORIES:QuickScores; Pickleball Game
TRANSP:0
DALARM:20260107T180000;PT10M;2;Spicknall/Hester vs. Yuan/Yuan
END:VEVENT
BEGIN:VEVENT
DTSTART:20260107T204000
DTEND:20260107T212000
SUMMARY:Yuan/Yuan vs. Baerveldt/Pratte
DESCRIPTION:CHST Wednesday  Rec. League - Winter 26 - Paddle Up Pickleball Club
LOCATION:CHST Court 1
CATEGORIES:QuickScores; Pickleball Game
TRANSP:0
DALARM:20260107T184000;PT10M;2;Yuan/Yuan vs. Baerveldt/Pratte
END:VEVENT
BEGIN:VEVENT
DTSTART:20260114T200000
DTEND:20260114T204000
SUMMARY:Yuan/Yuan vs. Moolsintong/Hillman
DESCRIPTION:CHST Wednesday  Rec. League - Winter 26 - Paddle Up Pickleball Club
LOCATION:CHST Court 5
CATEGORIES:QuickScores; Pickleball Game
TRANSP:0
DALARM:20260114T180000;PT10M;2;Yuan/Yuan vs. Moolsintong/Hillman
END:VEVENT
BEGIN:VEVENT
DTSTART:20260114T204000
DTEND:20260114T212000
SUMMARY:Gordon/Gordon vs. Yuan/Yuan
DESCRIPTION:CHST Wednesday  Rec. League - Winter 26 - Paddle Up Pickleball Club
LOCATION:CHST Court 1
CATEGORIES:QuickScores; Pickleball Game
TRANSP:0
DALARM:20260114T184000;PT10M;2;Gordon/Gordon vs. Yuan/Yuan
END:VEVENT
BEGIN:VEVENT
DTSTART:20260121T200000
DTEND:20260121T204000
SUMMARY:Yuan/Yuan vs. Macleod/Bommarito
DESCRIPTION:CHST Wednesday  Rec. League - Winter 26 - Paddle Up Pickleball Club
LOCATION:CHST Court 5
CATEGORIES:QuickScores; Pickleball Game
TRANSP:0
DALARM:20260121T180000;PT10M;2;Yuan/Yuan vs. Macleod/Bommarito
END:VEVENT
BEGIN:VEVENT
DTSTART:20260121T204000
DTEND:20260121T212000
SUMMARY:Roam/Johnson vs. Yuan/Yuan
DESCRIPTION:CHST Wednesday  Rec. League - Winter 26 - Paddle Up Pickleball Club
LOCATION:CHST Court 1
CATEGORIES:QuickScores; Pickleball Game
TRANSP:0
DALARM:20260121T184000;PT10M;2;Roam/Johnson vs. Yuan/Yuan
END:VEVENT
BEGIN:VEVENT
DTSTART:20260128T180000
DTEND:20260128T184000
SUMMARY:Gordon/Gordon vs. Yuan/Yuan
DESCRIPTION:CHST Wednesday  Rec. League - Winter 26 - Paddle Up Pickleball Club
LOCATION:CHST Court 4
CATEGORIES:QuickScores; Pickleball Game
TRANSP:0
DALARM:20260128T160000;PT10M;2;Gordon/Gordon vs. Yuan/Yuan
END:VEVENT
BEGIN:VEVENT
DTSTART:20260128T184000
DTEND:20260128T192000
SUMMARY:Settle/Ehrhardt vs. Yuan/Yuan
DESCRIPTION:CHST Wednesday  Rec. League - Winter 26 - Paddle Up Pickleball Club
LOCATION:CHST Court 1
CATEGORIES:QuickScores; Pickleball Game
TRANSP:0
DALARM:20260128T164000;PT10M;2;Settle/Ehrhardt vs. Yuan/Yuan
END:VEVENT
BEGIN:VEVENT
DTSTART:20260204T184000
DTEND:20260204T192000
SUMMARY:Yuan/Yuan vs. Spicknall/Hester
DESCRIPTION:CHST Wednesday  Rec. League - Winter 26 - Paddle Up Pickleball Club
LOCATION:CHST Court 1
CATEGORIES:QuickScores; Pickleball Game
TRANSP:0
DALARM:20260204T164000;PT10M;2;Yuan/Yuan vs. Spicknall/Hester
END:VEVENT
BEGIN:VEVENT
DTSTART:20260204T192000
DTEND:20260204T200000
SUMMARY:Macleod/Bommarito vs. Yuan/Yuan
DESCRIPTION:CHST Wednesday  Rec. League - Winter 26 - Paddle Up Pickleball Club
LOCATION:CHST Court 1
CATEGORIES:QuickScores; Pickleball Game
TRANSP:0
DALARM:20260204T172000;PT10M;2;Macleod/Bommarito vs. Yuan/Yuan
END:VEVENT
BEGIN:VEVENT
DTSTART:20260211T183000
DTEND:20260211T190000
SUMMARY:[8] Yuan/Yuan vs. [9] Moolsintong/Hillman
DESCRIPTION:CHST Wednesday  Rec. League - Winter 26 - Paddle Up Pickleball Club
LOCATION:CHST Court 1
CATEGORIES:QuickScores; Pickleball Game
TRANSP:0
DALARM:20260211T163000;PT10M;2;[8] Yuan/Yuan vs. [9] Moolsintong/Hillman
END:VEVENT
BEGIN:VEVENT
DTSTART:20260211T190000
DTEND:20260211T193000
SUMMARY:[1] Settle/Ehrhardt vs. [8] Yuan/Yuan
DESCRIPTION:CHST Wednesday  Rec. League - Winter 26 - Paddle Up Pickleball Club
LOCATION:CHST Court 1
CATEGORIES:QuickScores; Pickleball Game
TRANSP:0
DALARM:20260211T170000;PT10M;2;[1] Settle/Ehrhardt vs. [8] Yuan/Yuan
END:VEVENT
END:VCALENDAR
