BEGIN:VCALENDAR
VERSION:1.0
BEGIN:VEVENT
DTSTART:20260108T194000
DTEND:20260108T202000
SUMMARY:Nettler/Denny vs. Wallis/Curtit
DESCRIPTION:LSL Thursday Night Low Int./Rec League - Winter '26 - Paddle Up Pickleball Club
LOCATION:Court 3
CATEGORIES:QuickScores; Pickleball Game
TRANSP:0
DALARM:20260108T174000;PT10M;2;Nettler/Denny vs. Wallis/Curtit
END:VEVENT
BEGIN:VEVENT
DTSTART:20260108T210000
DTEND:20260108T214000
SUMMARY:Mundschenk/Mundschenk vs. Wallis/Curtit
DESCRIPTION:LSL Thursday Night Low Int./Rec League - Winter '26 - Paddle Up Pickleball Club
LOCATION:Court 3
CATEGORIES:QuickScores; Pickleball Game
TRANSP:0
DALARM:20260108T190000;PT10M;2;Mundschenk/Mundschenk vs. Wallis/Curtit
END:VEVENT
BEGIN:VEVENT
DTSTART:20260115T174000
DTEND:20260115T182000
SUMMARY:McElfresh/McElfresh vs. Wallis/Curtit
DESCRIPTION:LSL Thursday Night Low Int./Rec League - Winter '26 - Paddle Up Pickleball Club
LOCATION:Court 3
CATEGORIES:QuickScores; Pickleball Game
TRANSP:0
DALARM:20260115T154000;PT10M;2;McElfresh/McElfresh vs. Wallis/Curtit
END:VEVENT
BEGIN:VEVENT
DTSTART:20260115T190000
DTEND:20260115T194000
SUMMARY:Hornbach/Tillman vs. Wallis/Curtit
DESCRIPTION:LSL Thursday Night Low Int./Rec League - Winter '26 - Paddle Up Pickleball Club
LOCATION:Court 5
CATEGORIES:QuickScores; Pickleball Game
TRANSP:0
DALARM:20260115T170000;PT10M;2;Hornbach/Tillman vs. Wallis/Curtit
END:VEVENT
BEGIN:VEVENT
DTSTART:20260122T174000
DTEND:20260122T182000
SUMMARY:Kowalik/Rodriguez vs. Wallis/Curtit
DESCRIPTION:LSL Thursday Night Low Int./Rec League - Winter '26 - Paddle Up Pickleball Club
LOCATION:Court 5
CATEGORIES:QuickScores; Pickleball Game
TRANSP:0
DALARM:20260122T154000;PT10M;2;Kowalik/Rodriguez vs. Wallis/Curtit
END:VEVENT
BEGIN:VEVENT
DTSTART:20260122T190000
DTEND:20260122T194000
SUMMARY:Wallis/Curtit vs. Ellebrecht/Brewer
DESCRIPTION:LSL Thursday Night Low Int./Rec League - Winter '26 - Paddle Up Pickleball Club
LOCATION:Court 5
CATEGORIES:QuickScores; Pickleball Game
TRANSP:0
DALARM:20260122T170000;PT10M;2;Wallis/Curtit vs. Ellebrecht/Brewer
END:VEVENT
BEGIN:VEVENT
DTSTART:20260129T174000
DTEND:20260129T182000
SUMMARY:McElfresh/McElfresh vs. Wallis/Curtit
DESCRIPTION:LSL Thursday Night Low Int./Rec League - Winter '26 - Paddle Up Pickleball Club
LOCATION:Court 3
CATEGORIES:QuickScores; Pickleball Game
TRANSP:0
DALARM:20260129T154000;PT10M;2;McElfresh/McElfresh vs. Wallis/Curtit
END:VEVENT
BEGIN:VEVENT
DTSTART:20260129T182000
DTEND:20260129T190000
SUMMARY:Beavers/DeBrower vs. Wallis/Curtit
DESCRIPTION:LSL Thursday Night Low Int./Rec League - Winter '26 - Paddle Up Pickleball Club
LOCATION:Court 5
CATEGORIES:QuickScores; Pickleball Game
TRANSP:0
DALARM:20260129T162000;PT10M;2;Beavers/DeBrower vs. Wallis/Curtit
END:VEVENT
BEGIN:VEVENT
DTSTART:20260205T194000
DTEND:20260205T202000
SUMMARY:Wallis/Curtit vs. Ellebrecht/Brewer
DESCRIPTION:LSL Thursday Night Low Int./Rec League - Winter '26 - Paddle Up Pickleball Club
LOCATION:Court 3
CATEGORIES:QuickScores; Pickleball Game
TRANSP:0
DALARM:20260205T174000;PT10M;2;Wallis/Curtit vs. Ellebrecht/Brewer
END:VEVENT
BEGIN:VEVENT
DTSTART:20260205T202000
DTEND:20260205T210000
SUMMARY:Wallis/Curtit vs. Lemery/Lemery
DESCRIPTION:LSL Thursday Night Low Int./Rec League - Winter '26 - Paddle Up Pickleball Club
LOCATION:Court 5
CATEGORIES:QuickScores; Pickleball Game
TRANSP:0
DALARM:20260205T182000;PT10M;2;Wallis/Curtit vs. Lemery/Lemery
END:VEVENT
BEGIN:VEVENT
DTSTART:20260212T183000
DTEND:20260212T190000
SUMMARY:[6] Wallis/Curtit vs. [11] Ellebrecht/Brewer
DESCRIPTION:LSL Thursday Night Low Int./Rec League - Winter '26 - Paddle Up Pickleball Club
LOCATION:Court 6
CATEGORIES:QuickScores; Pickleball Game
TRANSP:0
DALARM:20260212T163000;PT10M;2;[6] Wallis/Curtit vs. [11] Ellebrecht/Brewer
END:VEVENT
END:VCALENDAR
