BEGIN:VCALENDAR
VERSION:1.0
BEGIN:VEVENT
DTSTART:20260107T192000
DTEND:20260107T200000
SUMMARY:Fisher/Wilson vs. McCandless/Guthrie
DESCRIPTION:CHST Wednesday Intermediate League - Winter 26 - Paddle Up Pickleball Club
LOCATION:CHST Court 2
CATEGORIES:QuickScores; Pickleball Game
TRANSP:0
DALARM:20260107T172000;PT10M;2;Fisher/Wilson vs. McCandless/Guthrie
END:VEVENT
BEGIN:VEVENT
DTSTART:20260107T200000
DTEND:20260107T204000
SUMMARY:McCandless/Guthrie vs. Langston/Luber
DESCRIPTION:CHST Wednesday Intermediate League - Winter 26 - Paddle Up Pickleball Club
LOCATION:CHST Court 3
CATEGORIES:QuickScores; Pickleball Game
TRANSP:0
DALARM:20260107T180000;PT10M;2;McCandless/Guthrie vs. Langston/Luber
END:VEVENT
BEGIN:VEVENT
DTSTART:20260114T192000
DTEND:20260114T200000
SUMMARY:McCandless/Guthrie vs. Havrilka/Havrilka
DESCRIPTION:CHST Wednesday Intermediate League - Winter 26 - Paddle Up Pickleball Club
LOCATION:CHST Court 5
CATEGORIES:QuickScores; Pickleball Game
TRANSP:0
DALARM:20260114T172000;PT10M;2;McCandless/Guthrie vs. Havrilka/Havrilka
END:VEVENT
BEGIN:VEVENT
DTSTART:20260114T204000
DTEND:20260114T212000
SUMMARY:Olsen/Griskauskas vs. McCandless/Guthrie
DESCRIPTION:CHST Wednesday Intermediate League - Winter 26 - Paddle Up Pickleball Club
LOCATION:CHST Court 4
CATEGORIES:QuickScores; Pickleball Game
TRANSP:0
DALARM:20260114T184000;PT10M;2;Olsen/Griskauskas vs. McCandless/Guthrie
END:VEVENT
BEGIN:VEVENT
DTSTART:20260121T192000
DTEND:20260121T200000
SUMMARY:McCandless/Guthrie vs. Meier/Parmley
DESCRIPTION:CHST Wednesday Intermediate League - Winter 26 - Paddle Up Pickleball Club
LOCATION:CHST Court 2
CATEGORIES:QuickScores; Pickleball Game
TRANSP:0
DALARM:20260121T172000;PT10M;2;McCandless/Guthrie vs. Meier/Parmley
END:VEVENT
BEGIN:VEVENT
DTSTART:20260121T200000
DTEND:20260121T204000
SUMMARY:Stout/Marcotte vs. McCandless/Guthrie
DESCRIPTION:CHST Wednesday Intermediate League - Winter 26 - Paddle Up Pickleball Club
LOCATION:CHST Court 3
CATEGORIES:QuickScores; Pickleball Game
TRANSP:0
DALARM:20260121T180000;PT10M;2;Stout/Marcotte vs. McCandless/Guthrie
END:VEVENT
BEGIN:VEVENT
DTSTART:20260128T192000
DTEND:20260128T200000
SUMMARY:McCandless/Guthrie vs. Tooley/Balthozor
DESCRIPTION:CHST Wednesday Intermediate League - Winter 26 - Paddle Up Pickleball Club
LOCATION:CHST Court 2
CATEGORIES:QuickScores; Pickleball Game
TRANSP:0
DALARM:20260128T172000;PT10M;2;McCandless/Guthrie vs. Tooley/Balthozor
END:VEVENT
BEGIN:VEVENT
DTSTART:20260128T204000
DTEND:20260128T212000
SUMMARY:Lohkamp/Smallwood vs. McCandless/Guthrie
DESCRIPTION:CHST Wednesday Intermediate League - Winter 26 - Paddle Up Pickleball Club
LOCATION:CHST Court 2
CATEGORIES:QuickScores; Pickleball Game
TRANSP:0
DALARM:20260128T184000;PT10M;2;Lohkamp/Smallwood vs. McCandless/Guthrie
END:VEVENT
BEGIN:VEVENT
DTSTART:20260204T180000
DTEND:20260204T184000
SUMMARY:McCandless/Guthrie vs. Havrilka/Havrilka
DESCRIPTION:CHST Wednesday Intermediate League - Winter 26 - Paddle Up Pickleball Club
LOCATION:CHST Court 2
CATEGORIES:QuickScores; Pickleball Game
TRANSP:0
DALARM:20260204T160000;PT10M;2;McCandless/Guthrie vs. Havrilka/Havrilka
END:VEVENT
BEGIN:VEVENT
DTSTART:20260204T192000
DTEND:20260204T200000
SUMMARY:Butz/Gray vs. McCandless/Guthrie
DESCRIPTION:CHST Wednesday Intermediate League - Winter 26 - Paddle Up Pickleball Club
LOCATION:CHST Court 4
CATEGORIES:QuickScores; Pickleball Game
TRANSP:0
DALARM:20260204T172000;PT10M;2;Butz/Gray vs. McCandless/Guthrie
END:VEVENT
BEGIN:VEVENT
DTSTART:20260211T180000
DTEND:20260211T183000
SUMMARY:McCandless/Guthrie vs. Davis/Klumb
DESCRIPTION:CHST Wednesday Intermediate League - Winter 26 - Paddle Up Pickleball Club
LOCATION:CHST Court 3
CATEGORIES:QuickScores; Pickleball Game
TRANSP:0
DALARM:20260211T160000;PT10M;2;McCandless/Guthrie vs. Davis/Klumb
END:VEVENT
BEGIN:VEVENT
DTSTART:20260211T190000
DTEND:20260211T193000
SUMMARY:McCandless/Guthrie vs. Baker/Olsen
DESCRIPTION:CHST Wednesday Intermediate League - Winter 26 - Paddle Up Pickleball Club
LOCATION:CHST Court 5
CATEGORIES:QuickScores; Pickleball Game
TRANSP:0
DALARM:20260211T170000;PT10M;2;McCandless/Guthrie vs. Baker/Olsen
END:VEVENT
END:VCALENDAR
