BEGIN:VCALENDAR
VERSION:1.0
BEGIN:VEVENT
DTSTART:20260107T200000
DTEND:20260107T204000
SUMMARY:Robinson/Malloy vs. Keane/Keane
DESCRIPTION:CHST Wednesday Intermediate League - Winter 26 - Paddle Up Pickleball Club
LOCATION:CHST Court 4
CATEGORIES:QuickScores; Pickleball Game
TRANSP:0
DALARM:20260107T180000;PT10M;2;Robinson/Malloy vs. Keane/Keane
END:VEVENT
BEGIN:VEVENT
DTSTART:20260107T204000
DTEND:20260107T212000
SUMMARY:Keane/Keane vs. Havrilka/Havrilka
DESCRIPTION:CHST Wednesday Intermediate League - Winter 26 - Paddle Up Pickleball Club
LOCATION:CHST Court 3
CATEGORIES:QuickScores; Pickleball Game
TRANSP:0
DALARM:20260107T184000;PT10M;2;Keane/Keane vs. Havrilka/Havrilka
END:VEVENT
BEGIN:VEVENT
DTSTART:20260114T180000
DTEND:20260114T184000
SUMMARY:Langston/Luber vs. Keane/Keane
DESCRIPTION:CHST Wednesday Intermediate League - Winter 26 - Paddle Up Pickleball Club
LOCATION:CHST Court 4
CATEGORIES:QuickScores; Pickleball Game
TRANSP:0
DALARM:20260114T160000;PT10M;2;Langston/Luber vs. Keane/Keane
END:VEVENT
BEGIN:VEVENT
DTSTART:20260114T184000
DTEND:20260114T192000
SUMMARY:Keane/Keane vs. Tooley/Balthozor
DESCRIPTION:CHST Wednesday Intermediate League - Winter 26 - Paddle Up Pickleball Club
LOCATION:CHST Court 5
CATEGORIES:QuickScores; Pickleball Game
TRANSP:0
DALARM:20260114T164000;PT10M;2;Keane/Keane vs. Tooley/Balthozor
END:VEVENT
BEGIN:VEVENT
DTSTART:20260128T200000
DTEND:20260128T204000
SUMMARY:Tooley/Balthozor vs. Keane/Keane
DESCRIPTION:CHST Wednesday Intermediate League - Winter 26 - Paddle Up Pickleball Club
LOCATION:CHST Court 3
CATEGORIES:QuickScores; Pickleball Game
TRANSP:0
DALARM:20260128T180000;PT10M;2;Tooley/Balthozor vs. Keane/Keane
END:VEVENT
BEGIN:VEVENT
DTSTART:20260128T204000
DTEND:20260128T212000
SUMMARY:Keane/Keane vs. Stout/Marcotte
DESCRIPTION:CHST Wednesday Intermediate League - Winter 26 - Paddle Up Pickleball Club
LOCATION:CHST Court 3
CATEGORIES:QuickScores; Pickleball Game
TRANSP:0
DALARM:20260128T184000;PT10M;2;Keane/Keane vs. Stout/Marcotte
END:VEVENT
BEGIN:VEVENT
DTSTART:20260204T192000
DTEND:20260204T200000
SUMMARY:Keane/Keane vs. Fisher/Wilson
DESCRIPTION:CHST Wednesday Intermediate League - Winter 26 - Paddle Up Pickleball Club
LOCATION:CHST Court 7
CATEGORIES:QuickScores; Pickleball Game
TRANSP:0
DALARM:20260204T172000;PT10M;2;Keane/Keane vs. Fisher/Wilson
END:VEVENT
BEGIN:VEVENT
DTSTART:20260204T200000
DTEND:20260204T204000
SUMMARY:Olsen/Griskauskas vs. Keane/Keane
DESCRIPTION:CHST Wednesday Intermediate League - Winter 26 - Paddle Up Pickleball Club
LOCATION:CHST Court 6
CATEGORIES:QuickScores; Pickleball Game
TRANSP:0
DALARM:20260204T180000;PT10M;2;Olsen/Griskauskas vs. Keane/Keane
END:VEVENT
BEGIN:VEVENT
DTSTART:20260211T180000
DTEND:20260211T183000
SUMMARY:Olsen/Griskauskas vs. Keane/Keane
DESCRIPTION:CHST Wednesday Intermediate League - Winter 26 - Paddle Up Pickleball Club
LOCATION:CHST Court 2
CATEGORIES:QuickScores; Pickleball Game
TRANSP:0
DALARM:20260211T160000;PT10M;2;Olsen/Griskauskas vs. Keane/Keane
END:VEVENT
END:VCALENDAR
