BEGIN:VCALENDAR
VERSION:1.0
BEGIN:VEVENT
DTSTART:20260107T200000
DTEND:20260107T204000
SUMMARY:Robinson/Malloy vs. Keane/Keane
DESCRIPTION:CHST Wednesday Intermediate League - Winter 26 - Paddle Up Pickleball Club
LOCATION:CHST Court 4
CATEGORIES:QuickScores; Pickleball Game
TRANSP:0
DALARM:20260107T180000;PT10M;2;Robinson/Malloy vs. Keane/Keane
END:VEVENT
BEGIN:VEVENT
DTSTART:20260107T204000
DTEND:20260107T212000
SUMMARY:Langston/Luber vs. Robinson/Malloy
DESCRIPTION:CHST Wednesday Intermediate League - Winter 26 - Paddle Up Pickleball Club
LOCATION:CHST Court 4
CATEGORIES:QuickScores; Pickleball Game
TRANSP:0
DALARM:20260107T184000;PT10M;2;Langston/Luber vs. Robinson/Malloy
END:VEVENT
BEGIN:VEVENT
DTSTART:20260114T192000
DTEND:20260114T200000
SUMMARY:Robinson/Malloy vs. Lohkamp/Smallwood
DESCRIPTION:CHST Wednesday Intermediate League - Winter 26 - Paddle Up Pickleball Club
LOCATION:CHST Court 2
CATEGORIES:QuickScores; Pickleball Game
TRANSP:0
DALARM:20260114T172000;PT10M;2;Robinson/Malloy vs. Lohkamp/Smallwood
END:VEVENT
BEGIN:VEVENT
DTSTART:20260114T200000
DTEND:20260114T204000
SUMMARY:Robinson/Malloy vs. Davis/Klumb
DESCRIPTION:CHST Wednesday Intermediate League - Winter 26 - Paddle Up Pickleball Club
LOCATION:CHST Court 3
CATEGORIES:QuickScores; Pickleball Game
TRANSP:0
DALARM:20260114T180000;PT10M;2;Robinson/Malloy vs. Davis/Klumb
END:VEVENT
BEGIN:VEVENT
DTSTART:20260121T192000
DTEND:20260121T200000
SUMMARY:Robinson/Malloy vs. Olsen/Griskauskas
DESCRIPTION:CHST Wednesday Intermediate League - Winter 26 - Paddle Up Pickleball Club
LOCATION:CHST Court 3
CATEGORIES:QuickScores; Pickleball Game
TRANSP:0
DALARM:20260121T172000;PT10M;2;Robinson/Malloy vs. Olsen/Griskauskas
END:VEVENT
BEGIN:VEVENT
DTSTART:20260121T204000
DTEND:20260121T212000
SUMMARY:Stout/Marcotte vs. Robinson/Malloy
DESCRIPTION:CHST Wednesday Intermediate League - Winter 26 - Paddle Up Pickleball Club
LOCATION:CHST Court 3
CATEGORIES:QuickScores; Pickleball Game
TRANSP:0
DALARM:20260121T184000;PT10M;2;Stout/Marcotte vs. Robinson/Malloy
END:VEVENT
BEGIN:VEVENT
DTSTART:20260128T180000
DTEND:20260128T184000
SUMMARY:Robinson/Malloy vs. Baker/Olsen
DESCRIPTION:CHST Wednesday Intermediate League - Winter 26 - Paddle Up Pickleball Club
LOCATION:CHST Court 3
CATEGORIES:QuickScores; Pickleball Game
TRANSP:0
DALARM:20260128T160000;PT10M;2;Robinson/Malloy vs. Baker/Olsen
END:VEVENT
BEGIN:VEVENT
DTSTART:20260128T184000
DTEND:20260128T192000
SUMMARY:Robinson/Malloy vs. Butz/Gray
DESCRIPTION:CHST Wednesday Intermediate League - Winter 26 - Paddle Up Pickleball Club
LOCATION:CHST Court 3
CATEGORIES:QuickScores; Pickleball Game
TRANSP:0
DALARM:20260128T164000;PT10M;2;Robinson/Malloy vs. Butz/Gray
END:VEVENT
BEGIN:VEVENT
DTSTART:20260204T180000
DTEND:20260204T184000
SUMMARY:Tooley/Balthozor vs. Robinson/Malloy
DESCRIPTION:CHST Wednesday Intermediate League - Winter 26 - Paddle Up Pickleball Club
LOCATION:CHST Court 4
CATEGORIES:QuickScores; Pickleball Game
TRANSP:0
DALARM:20260204T160000;PT10M;2;Tooley/Balthozor vs. Robinson/Malloy
END:VEVENT
BEGIN:VEVENT
DTSTART:20260204T184000
DTEND:20260204T192000
SUMMARY:Russell/Ploch vs. Robinson/Malloy
DESCRIPTION:CHST Wednesday Intermediate League - Winter 26 - Paddle Up Pickleball Club
LOCATION:CHST Court 4
CATEGORIES:QuickScores; Pickleball Game
TRANSP:0
DALARM:20260204T164000;PT10M;2;Russell/Ploch vs. Robinson/Malloy
END:VEVENT
BEGIN:VEVENT
DTSTART:20260211T183000
DTEND:20260211T190000
SUMMARY:Robinson/Malloy vs. Havrilka/Havrilka
DESCRIPTION:CHST Wednesday Intermediate League - Winter 26 - Paddle Up Pickleball Club
LOCATION:CHST Court 4
CATEGORIES:QuickScores; Pickleball Game
TRANSP:0
DALARM:20260211T163000;PT10M;2;Robinson/Malloy vs. Havrilka/Havrilka
END:VEVENT
BEGIN:VEVENT
DTSTART:20260211T193000
DTEND:20260211T200000
SUMMARY:Robinson/Malloy vs. Meier/Parmley
DESCRIPTION:CHST Wednesday Intermediate League - Winter 26 - Paddle Up Pickleball Club
LOCATION:CHST Court 4
CATEGORIES:QuickScores; Pickleball Game
TRANSP:0
DALARM:20260211T173000;PT10M;2;Robinson/Malloy vs. Meier/Parmley
END:VEVENT
BEGIN:VEVENT
DTSTART:20260211T200000
DTEND:20260211T203000
SUMMARY:Robinson/Malloy vs. Ikeda/Clever
DESCRIPTION:CHST Wednesday Intermediate League - Winter 26 - Paddle Up Pickleball Club
LOCATION:CHST Court 3
CATEGORIES:QuickScores; Pickleball Game
TRANSP:0
DALARM:20260211T180000;PT10M;2;Robinson/Malloy vs. Ikeda/Clever
END:VEVENT
BEGIN:VEVENT
DTSTART:20260211T203000
DTEND:20260211T210000
SUMMARY:Baker/Olsen vs. Robinson/Malloy
DESCRIPTION:CHST Wednesday Intermediate League - Winter 26 - Paddle Up Pickleball Club
LOCATION:CHST Court 4
CATEGORIES:QuickScores; Pickleball Game
TRANSP:0
DALARM:20260211T183000;PT10M;2;Baker/Olsen vs. Robinson/Malloy
END:VEVENT
END:VCALENDAR
