BEGIN:VCALENDAR
VERSION:1.0
BEGIN:VEVENT
DTSTART:20260108T202000
DTEND:20260108T210000
SUMMARY:Mundschenk/Mundschenk vs. Ellebrecht/Brewer
DESCRIPTION:LSL Thursday Night Low Int./Rec League - Winter '26 - Paddle Up Pickleball Club
LOCATION:Court 3
CATEGORIES:QuickScores; Pickleball Game
TRANSP:0
DALARM:20260108T182000;PT10M;2;Mundschenk/Mundschenk vs. Ellebrecht/Brewer
END:VEVENT
BEGIN:VEVENT
DTSTART:20260108T210000
DTEND:20260108T214000
SUMMARY:Mundschenk/Mundschenk vs. Wallis/Curtit
DESCRIPTION:LSL Thursday Night Low Int./Rec League - Winter '26 - Paddle Up Pickleball Club
LOCATION:Court 3
CATEGORIES:QuickScores; Pickleball Game
TRANSP:0
DALARM:20260108T190000;PT10M;2;Mundschenk/Mundschenk vs. Wallis/Curtit
END:VEVENT
BEGIN:VEVENT
DTSTART:20260122T190000
DTEND:20260122T194000
SUMMARY:Stuhlman/Stuhlman vs. Mundschenk/Mundschenk
DESCRIPTION:LSL Thursday Night Low Int./Rec League - Winter '26 - Paddle Up Pickleball Club
LOCATION:Court 3
CATEGORIES:QuickScores; Pickleball Game
TRANSP:0
DALARM:20260122T170000;PT10M;2;Stuhlman/Stuhlman vs. Mundschenk/Mundschenk
END:VEVENT
BEGIN:VEVENT
DTSTART:20260122T202000
DTEND:20260122T210000
SUMMARY:Mundschenk/Mundschenk vs. Hornbach/Tillman
DESCRIPTION:LSL Thursday Night Low Int./Rec League - Winter '26 - Paddle Up Pickleball Club
LOCATION:Court 3
CATEGORIES:QuickScores; Pickleball Game
TRANSP:0
DALARM:20260122T182000;PT10M;2;Mundschenk/Mundschenk vs. Hornbach/Tillman
END:VEVENT
BEGIN:VEVENT
DTSTART:20260129T190000
DTEND:20260129T194000
SUMMARY:Mundschenk/Mundschenk vs. McElfresh/McElfresh
DESCRIPTION:LSL Thursday Night Low Int./Rec League - Winter '26 - Paddle Up Pickleball Club
LOCATION:Court 4
CATEGORIES:QuickScores; Pickleball Game
TRANSP:0
DALARM:20260129T170000;PT10M;2;Mundschenk/Mundschenk vs. McElfresh/McElfresh
END:VEVENT
BEGIN:VEVENT
DTSTART:20260129T202000
DTEND:20260129T210000
SUMMARY:Kowalik/Rodriguez vs. Mundschenk/Mundschenk
DESCRIPTION:LSL Thursday Night Low Int./Rec League - Winter '26 - Paddle Up Pickleball Club
LOCATION:Court 3
CATEGORIES:QuickScores; Pickleball Game
TRANSP:0
DALARM:20260129T182000;PT10M;2;Kowalik/Rodriguez vs. Mundschenk/Mundschenk
END:VEVENT
BEGIN:VEVENT
DTSTART:20260205T190000
DTEND:20260205T194000
SUMMARY:Nettler/Denny vs. Mundschenk/Mundschenk
DESCRIPTION:LSL Thursday Night Low Int./Rec League - Winter '26 - Paddle Up Pickleball Club
LOCATION:Court 4
CATEGORIES:QuickScores; Pickleball Game
TRANSP:0
DALARM:20260205T170000;PT10M;2;Nettler/Denny vs. Mundschenk/Mundschenk
END:VEVENT
BEGIN:VEVENT
DTSTART:20260205T202000
DTEND:20260205T210000
SUMMARY:Ellebrecht/Brewer vs. Mundschenk/Mundschenk
DESCRIPTION:LSL Thursday Night Low Int./Rec League - Winter '26 - Paddle Up Pickleball Club
LOCATION:Court 3
CATEGORIES:QuickScores; Pickleball Game
TRANSP:0
DALARM:20260205T182000;PT10M;2;Ellebrecht/Brewer vs. Mundschenk/Mundschenk
END:VEVENT
BEGIN:VEVENT
DTSTART:20260212T190000
DTEND:20260212T193000
SUMMARY:[1] Mundschenk/Mundschenk vs. Winner of Game 1
DESCRIPTION:LSL Thursday Night Low Int./Rec League - Winter '26 - Paddle Up Pickleball Club
LOCATION:Court 3
CATEGORIES:QuickScores; Pickleball Game
TRANSP:0
DALARM:20260212T170000;PT10M;2;[1] Mundschenk/Mundschenk vs. Winner of Game 1
END:VEVENT
END:VCALENDAR
