BEGIN:VCALENDAR
VERSION:1.0
BEGIN:VEVENT
DTSTART:20251206T132000
DTEND:20251206T140000
SUMMARY:Mizzou 1 - CadenDavis/BenBecker/KayleeSmith/Stafan vs. Illinois 2 - CalebBrinkman/EddieFlannery/JozelynMe
DESCRIPTION:University of Missouri vs. University of Illinois (12/6) - Quincy - Paddle Up Pickleball Club
LOCATION:Quincy Court 2
CATEGORIES:QuickScores; Pickleball Game
TRANSP:0
DALARM:20251206T112000;PT10M;2;Mizzou 1 - CadenDavis/BenBecker/KayleeSmith/Stafan vs. Illinois 2 - CalebBrinkman/EddieFlannery/JozelynMe
END:VEVENT
BEGIN:VEVENT
DTSTART:20251206T144000
DTEND:20251206T152000
SUMMARY:Illinois 1 -PeterSmith/AdhityanTamilselvan/Kaitlyn vs. Mizzou 1 - CadenDavis/BenBecker/KayleeSmith/Stafan
DESCRIPTION:University of Missouri vs. University of Illinois (12/6) - Quincy - Paddle Up Pickleball Club
LOCATION:Quincy Court 2
CATEGORIES:QuickScores; Pickleball Game
TRANSP:0
DALARM:20251206T124000;PT10M;2;Illinois 1 -PeterSmith/AdhityanTamilselvan/Kaitlyn vs. Mizzou 1 - CadenDavis/BenBecker/KayleeSmith/Stafan
END:VEVENT
BEGIN:VEVENT
DTSTART:20251206T160000
DTEND:20251206T164000
SUMMARY:Mizzou 1 - CadenDavis/BenBecker/KayleeSmith/Stafan vs. Illinois 3 - JasonSze/GauthamShankar/GianaXiao/Cas
DESCRIPTION:University of Missouri vs. University of Illinois (12/6) - Quincy - Paddle Up Pickleball Club
LOCATION:Quincy Court 4
CATEGORIES:QuickScores; Pickleball Game
TRANSP:0
DALARM:20251206T140000;PT10M;2;Mizzou 1 - CadenDavis/BenBecker/KayleeSmith/Stafan vs. Illinois 3 - JasonSze/GauthamShankar/GianaXiao/Cas
END:VEVENT
END:VCALENDAR
