BEGIN:VCALENDAR
VERSION:1.0
BEGIN:VEVENT
DTSTART:20251220T133000
DTEND:20251220T135000
SUMMARY:LukeBovee/NathanReichert vs. ChrisMiles/DanBuck
DESCRIPTION:2025 Santa Smash Men's Doubles - Dec. 20th (1:00pm Start) - Paddle Up Pickleball Club
LOCATION:Court 9
CATEGORIES:QuickScores; Pickleball Game
TRANSP:0
DALARM:20251220T113000;PT10M;2;LukeBovee/NathanReichert vs. ChrisMiles/DanBuck
END:VEVENT
BEGIN:VEVENT
DTSTART:20251220T141000
DTEND:20251220T143000
SUMMARY:ChrisMiles/DanBuck vs. JohnTuason/BlaineArmbruster
DESCRIPTION:2025 Santa Smash Men's Doubles - Dec. 20th (1:00pm Start) - Paddle Up Pickleball Club
LOCATION:Court 2
CATEGORIES:QuickScores; Pickleball Game
TRANSP:0
DALARM:20251220T121000;PT10M;2;ChrisMiles/DanBuck vs. JohnTuason/BlaineArmbruster
END:VEVENT
BEGIN:VEVENT
DTSTART:20251220T143000
DTEND:20251220T145000
SUMMARY:TerryAllan/JasonJones vs. ChrisMiles/DanBuck
DESCRIPTION:2025 Santa Smash Men's Doubles - Dec. 20th (1:00pm Start) - Paddle Up Pickleball Club
LOCATION:Court 4
CATEGORIES:QuickScores; Pickleball Game
TRANSP:0
DALARM:20251220T123000;PT10M;2;TerryAllan/JasonJones vs. ChrisMiles/DanBuck
END:VEVENT
BEGIN:VEVENT
DTSTART:20251220T145000
DTEND:20251220T151000
SUMMARY:TyeMalone/TrevorMalone vs. ChrisMiles/DanBuck
DESCRIPTION:2025 Santa Smash Men's Doubles - Dec. 20th (1:00pm Start) - Paddle Up Pickleball Club
LOCATION:Court 2
CATEGORIES:QuickScores; Pickleball Game
TRANSP:0
DALARM:20251220T125000;PT10M;2;TyeMalone/TrevorMalone vs. ChrisMiles/DanBuck
END:VEVENT
BEGIN:VEVENT
DTSTART:20251220T151000
DTEND:20251220T153000
SUMMARY:ChrisMiles/DanBuck vs. MichealBerry/BrettZimmer
DESCRIPTION:2025 Santa Smash Men's Doubles - Dec. 20th (1:00pm Start) - Paddle Up Pickleball Club
LOCATION:Court 8
CATEGORIES:QuickScores; Pickleball Game
TRANSP:0
DALARM:20251220T131000;PT10M;2;ChrisMiles/DanBuck vs. MichealBerry/BrettZimmer
END:VEVENT
BEGIN:VEVENT
DTSTART:20251220T155000
DTEND:20251220T161000
SUMMARY:ChrisMiles/DanBuck vs. NickBorger/MattLandolt
DESCRIPTION:2025 Santa Smash Men's Doubles - Dec. 20th (1:00pm Start) - Paddle Up Pickleball Club
LOCATION:Court 5
CATEGORIES:QuickScores; Pickleball Game
TRANSP:0
DALARM:20251220T135000;PT10M;2;ChrisMiles/DanBuck vs. NickBorger/MattLandolt
END:VEVENT
END:VCALENDAR
