BEGIN:VCALENDAR
VERSION:1.0
BEGIN:VEVENT
DTSTART:20251109T190000
DTEND:20251109T194000
SUMMARY:Behlmann/Liston vs. Groeller/Fesser
DESCRIPTION:CHST PUPC Mixed Doubles Championship League - EarlyWinter25 - Paddle Up Pickleball Club
LOCATION:CHST Court 1
CATEGORIES:QuickScores; Pickleball Game
TRANSP:0
DALARM:20251109T170000;PT10M;2;Behlmann/Liston vs. Groeller/Fesser
END:VEVENT
BEGIN:VEVENT
DTSTART:20251109T195500
DTEND:20251109T203500
SUMMARY:Behlmann/Liston vs. Blickhan/Trokey
DESCRIPTION:CHST PUPC Mixed Doubles Championship League - EarlyWinter25 - Paddle Up Pickleball Club
LOCATION:CHST Court 1
CATEGORIES:QuickScores; Pickleball Game
TRANSP:0
DALARM:20251109T175500;PT10M;2;Behlmann/Liston vs. Blickhan/Trokey
END:VEVENT
BEGIN:VEVENT
DTSTART:20251123T190000
DTEND:20251123T194000
SUMMARY:Behlmann/Liston vs. Kruse/Alwood
DESCRIPTION:CHST PUPC Mixed Doubles Championship League - EarlyWinter25 - Paddle Up Pickleball Club
LOCATION:CHST Court 2
CATEGORIES:QuickScores; Pickleball Game
TRANSP:0
DALARM:20251123T170000;PT10M;2;Behlmann/Liston vs. Kruse/Alwood
END:VEVENT
BEGIN:VEVENT
DTSTART:20251123T195500
DTEND:20251123T203500
SUMMARY:Landolt/Nowak vs. Behlmann/Liston
DESCRIPTION:CHST PUPC Mixed Doubles Championship League - EarlyWinter25 - Paddle Up Pickleball Club
LOCATION:CHST Court 3
CATEGORIES:QuickScores; Pickleball Game
TRANSP:0
DALARM:20251123T175500;PT10M;2;Landolt/Nowak vs. Behlmann/Liston
END:VEVENT
BEGIN:VEVENT
DTSTART:20251130T190000
DTEND:20251130T194000
SUMMARY:Behlmann/Liston vs. Richert/Richert
DESCRIPTION:CHST PUPC Mixed Doubles Championship League - EarlyWinter25 - Paddle Up Pickleball Club
LOCATION:CHST Court 3
CATEGORIES:QuickScores; Pickleball Game
TRANSP:0
DALARM:20251130T170000;PT10M;2;Behlmann/Liston vs. Richert/Richert
END:VEVENT
BEGIN:VEVENT
DTSTART:20251130T195500
DTEND:20251130T203500
SUMMARY:Ola/Ola vs. Behlmann/Liston
DESCRIPTION:CHST PUPC Mixed Doubles Championship League - EarlyWinter25 - Paddle Up Pickleball Club
LOCATION:CHST Court 2
CATEGORIES:QuickScores; Pickleball Game
TRANSP:0
DALARM:20251130T175500;PT10M;2;Ola/Ola vs. Behlmann/Liston
END:VEVENT
BEGIN:VEVENT
DTSTART:20251207T190000
DTEND:20251207T194000
SUMMARY:Behlmann/Liston vs. Schmidt/Schmidt
DESCRIPTION:CHST PUPC Mixed Doubles Championship League - EarlyWinter25 - Paddle Up Pickleball Club
LOCATION:CHST Court 1
CATEGORIES:QuickScores; Pickleball Game
TRANSP:0
DALARM:20251207T170000;PT10M;2;Behlmann/Liston vs. Schmidt/Schmidt
END:VEVENT
BEGIN:VEVENT
DTSTART:20251207T195500
DTEND:20251207T203500
SUMMARY:Behlmann/Liston vs. Windham/Reque
DESCRIPTION:CHST PUPC Mixed Doubles Championship League - EarlyWinter25 - Paddle Up Pickleball Club
LOCATION:CHST Court 1
CATEGORIES:QuickScores; Pickleball Game
TRANSP:0
DALARM:20251207T175500;PT10M;2;Behlmann/Liston vs. Windham/Reque
END:VEVENT
BEGIN:VEVENT
DTSTART:20251214T190000
DTEND:20251214T194000
SUMMARY:Van Matre/Haave vs. Behlmann/Liston
DESCRIPTION:CHST PUPC Mixed Doubles Championship League - EarlyWinter25 - Paddle Up Pickleball Club
LOCATION:CHST Court 1
CATEGORIES:QuickScores; Pickleball Game
TRANSP:0
DALARM:20251214T170000;PT10M;2;Van Matre/Haave vs. Behlmann/Liston
END:VEVENT
BEGIN:VEVENT
DTSTART:20251214T195500
DTEND:20251214T203500
SUMMARY:Behlmann/Liston vs. DeLuca/Sevilla
DESCRIPTION:CHST PUPC Mixed Doubles Championship League - EarlyWinter25 - Paddle Up Pickleball Club
LOCATION:CHST Court 5
CATEGORIES:QuickScores; Pickleball Game
TRANSP:0
DALARM:20251214T175500;PT10M;2;Behlmann/Liston vs. DeLuca/Sevilla
END:VEVENT
BEGIN:VEVENT
DTSTART:20251221T190000
DTEND:20251221T193000
SUMMARY:[4] Behlmann/Liston vs. [5] Schmidt/Schmidt
DESCRIPTION:CHST PUPC Mixed Doubles Championship League - EarlyWinter25 - Paddle Up Pickleball Club
LOCATION:CHST Court 2
CATEGORIES:QuickScores; Pickleball Game
TRANSP:0
DALARM:20251221T170000;PT10M;2;[4] Behlmann/Liston vs. [5] Schmidt/Schmidt
END:VEVENT
END:VCALENDAR
