BEGIN:VCALENDAR
VERSION:1.0
BEGIN:VEVENT
DTSTART:20251109T190000
DTEND:20251109T194000
SUMMARY:Schmidt/Schmidt vs. Kruse/Alwood
DESCRIPTION:CHST PUPC Mixed Doubles Championship League - EarlyWinter25 - Paddle Up Pickleball Club
LOCATION:CHST Court 6
CATEGORIES:QuickScores; Pickleball Game
TRANSP:0
DALARM:20251109T170000;PT10M;2;Schmidt/Schmidt vs. Kruse/Alwood
END:VEVENT
BEGIN:VEVENT
DTSTART:20251109T195500
DTEND:20251109T203500
SUMMARY:Kruse/Alwood vs. Markham/Markham
DESCRIPTION:CHST PUPC Mixed Doubles Championship League - EarlyWinter25 - Paddle Up Pickleball Club
LOCATION:CHST Court 2
CATEGORIES:QuickScores; Pickleball Game
TRANSP:0
DALARM:20251109T175500;PT10M;2;Kruse/Alwood vs. Markham/Markham
END:VEVENT
BEGIN:VEVENT
DTSTART:20251123T190000
DTEND:20251123T194000
SUMMARY:Behlmann/Liston vs. Kruse/Alwood
DESCRIPTION:CHST PUPC Mixed Doubles Championship League - EarlyWinter25 - Paddle Up Pickleball Club
LOCATION:CHST Court 2
CATEGORIES:QuickScores; Pickleball Game
TRANSP:0
DALARM:20251123T170000;PT10M;2;Behlmann/Liston vs. Kruse/Alwood
END:VEVENT
BEGIN:VEVENT
DTSTART:20251123T195500
DTEND:20251123T203500
SUMMARY:Van Matre/Haave vs. Kruse/Alwood
DESCRIPTION:CHST PUPC Mixed Doubles Championship League - EarlyWinter25 - Paddle Up Pickleball Club
LOCATION:CHST Court 4
CATEGORIES:QuickScores; Pickleball Game
TRANSP:0
DALARM:20251123T175500;PT10M;2;Van Matre/Haave vs. Kruse/Alwood
END:VEVENT
BEGIN:VEVENT
DTSTART:20251130T190000
DTEND:20251130T194000
SUMMARY:Ola/Ola vs. Kruse/Alwood
DESCRIPTION:CHST PUPC Mixed Doubles Championship League - EarlyWinter25 - Paddle Up Pickleball Club
LOCATION:CHST Court 4
CATEGORIES:QuickScores; Pickleball Game
TRANSP:0
DALARM:20251130T170000;PT10M;2;Ola/Ola vs. Kruse/Alwood
END:VEVENT
BEGIN:VEVENT
DTSTART:20251130T195500
DTEND:20251130T203500
SUMMARY:Kruse/Alwood vs. DeLuca/Sevilla
DESCRIPTION:CHST PUPC Mixed Doubles Championship League - EarlyWinter25 - Paddle Up Pickleball Club
LOCATION:CHST Court 1
CATEGORIES:QuickScores; Pickleball Game
TRANSP:0
DALARM:20251130T175500;PT10M;2;Kruse/Alwood vs. DeLuca/Sevilla
END:VEVENT
BEGIN:VEVENT
DTSTART:20251207T190000
DTEND:20251207T194000
SUMMARY:Landolt/Nowak vs. Kruse/Alwood
DESCRIPTION:CHST PUPC Mixed Doubles Championship League - EarlyWinter25 - Paddle Up Pickleball Club
LOCATION:CHST Court 3
CATEGORIES:QuickScores; Pickleball Game
TRANSP:0
DALARM:20251207T170000;PT10M;2;Landolt/Nowak vs. Kruse/Alwood
END:VEVENT
BEGIN:VEVENT
DTSTART:20251207T195500
DTEND:20251207T203500
SUMMARY:Richert/Richert vs. Kruse/Alwood
DESCRIPTION:CHST PUPC Mixed Doubles Championship League - EarlyWinter25 - Paddle Up Pickleball Club
LOCATION:CHST Court 3
CATEGORIES:QuickScores; Pickleball Game
TRANSP:0
DALARM:20251207T175500;PT10M;2;Richert/Richert vs. Kruse/Alwood
END:VEVENT
BEGIN:VEVENT
DTSTART:20251214T190000
DTEND:20251214T194000
SUMMARY:Windham/Reque vs. Kruse/Alwood
DESCRIPTION:CHST PUPC Mixed Doubles Championship League - EarlyWinter25 - Paddle Up Pickleball Club
LOCATION:CHST Court 2
CATEGORIES:QuickScores; Pickleball Game
TRANSP:0
DALARM:20251214T170000;PT10M;2;Windham/Reque vs. Kruse/Alwood
END:VEVENT
BEGIN:VEVENT
DTSTART:20251214T195500
DTEND:20251214T203500
SUMMARY:Kruse/Alwood vs. Van Matre/Haave
DESCRIPTION:CHST PUPC Mixed Doubles Championship League - EarlyWinter25 - Paddle Up Pickleball Club
LOCATION:CHST Court 4
CATEGORIES:QuickScores; Pickleball Game
TRANSP:0
DALARM:20251214T175500;PT10M;2;Kruse/Alwood vs. Van Matre/Haave
END:VEVENT
BEGIN:VEVENT
DTSTART:20251221T190000
DTEND:20251221T193000
SUMMARY:[1] Van Matre/Haave vs. [8] Kruse/Alwood
DESCRIPTION:CHST PUPC Mixed Doubles Championship League - EarlyWinter25 - Paddle Up Pickleball Club
LOCATION:CHST Court 1
CATEGORIES:QuickScores; Pickleball Game
TRANSP:0
DALARM:20251221T170000;PT10M;2;[1] Van Matre/Haave vs. [8] Kruse/Alwood
END:VEVENT
END:VCALENDAR
