BEGIN:VCALENDAR
VERSION:1.0
BEGIN:VEVENT
DTSTART:20251109T190000
DTEND:20251109T194000
SUMMARY:Landolt/Nowak vs. Blickhan/Trokey
DESCRIPTION:CHST PUPC Mixed Doubles Championship League - EarlyWinter25 - Paddle Up Pickleball Club
LOCATION:CHST Court 4
CATEGORIES:QuickScores; Pickleball Game
TRANSP:0
DALARM:20251109T170000;PT10M;2;Landolt/Nowak vs. Blickhan/Trokey
END:VEVENT
BEGIN:VEVENT
DTSTART:20251109T195500
DTEND:20251109T203500
SUMMARY:Behlmann/Liston vs. Blickhan/Trokey
DESCRIPTION:CHST PUPC Mixed Doubles Championship League - EarlyWinter25 - Paddle Up Pickleball Club
LOCATION:CHST Court 1
CATEGORIES:QuickScores; Pickleball Game
TRANSP:0
DALARM:20251109T175500;PT10M;2;Behlmann/Liston vs. Blickhan/Trokey
END:VEVENT
BEGIN:VEVENT
DTSTART:20251130T190000
DTEND:20251130T194000
SUMMARY:Blickhan/Trokey vs. DeLuca/Sevilla
DESCRIPTION:CHST PUPC Mixed Doubles Championship League - EarlyWinter25 - Paddle Up Pickleball Club
LOCATION:CHST Court 2
CATEGORIES:QuickScores; Pickleball Game
TRANSP:0
DALARM:20251130T170000;PT10M;2;Blickhan/Trokey vs. DeLuca/Sevilla
END:VEVENT
BEGIN:VEVENT
DTSTART:20251130T195500
DTEND:20251130T203500
SUMMARY:Schmidt/Schmidt vs. Blickhan/Trokey
DESCRIPTION:CHST PUPC Mixed Doubles Championship League - EarlyWinter25 - Paddle Up Pickleball Club
LOCATION:CHST Court 3
CATEGORIES:QuickScores; Pickleball Game
TRANSP:0
DALARM:20251130T175500;PT10M;2;Schmidt/Schmidt vs. Blickhan/Trokey
END:VEVENT
END:VCALENDAR
