BEGIN:VCALENDAR
VERSION:1.0
BEGIN:VEVENT
DTSTART:20251103T174000
DTEND:20251103T182000
SUMMARY:Schaefer/Weber vs. Stamper/Kornfeld2
DESCRIPTION:CHST PUPC - Monday Low Int./High Int. League - Early Winter 25 - Paddle Up Pickleball Club
LOCATION:CHST Court 3
CATEGORIES:QuickScores; Pickleball Game
TRANSP:0
DALARM:20251103T154000;PT10M;2;Schaefer/Weber vs. Stamper/Kornfeld2
END:VEVENT
BEGIN:VEVENT
DTSTART:20251103T190000
DTEND:20251103T194000
SUMMARY:Stamper/Kornfeld2 vs. Odell/Rogalski
DESCRIPTION:CHST PUPC - Monday Low Int./High Int. League - Early Winter 25 - Paddle Up Pickleball Club
LOCATION:CHST Court 2
CATEGORIES:QuickScores; Pickleball Game
TRANSP:0
DALARM:20251103T170000;PT10M;2;Stamper/Kornfeld2 vs. Odell/Rogalski
END:VEVENT
BEGIN:VEVENT
DTSTART:20251110T202000
DTEND:20251110T210000
SUMMARY:Coffelt/Bolinger vs. Stamper/Kornfeld2
DESCRIPTION:CHST PUPC - Monday Low Int./High Int. League - Early Winter 25 - Paddle Up Pickleball Club
LOCATION:CHST Court 2
CATEGORIES:QuickScores; Pickleball Game
TRANSP:0
DALARM:20251110T182000;PT10M;2;Coffelt/Bolinger vs. Stamper/Kornfeld2
END:VEVENT
BEGIN:VEVENT
DTSTART:20251110T210000
DTEND:20251110T214000
SUMMARY:Stamper/Kornfeld2 vs. Leeker/Tipton
DESCRIPTION:CHST PUPC - Monday Low Int./High Int. League - Early Winter 25 - Paddle Up Pickleball Club
LOCATION:CHST Court 1
CATEGORIES:QuickScores; Pickleball Game
TRANSP:0
DALARM:20251110T190000;PT10M;2;Stamper/Kornfeld2 vs. Leeker/Tipton
END:VEVENT
BEGIN:VEVENT
DTSTART:20251124T194000
DTEND:20251124T202000
SUMMARY:Stamper/Kornfeld2 vs. Fisher/Wilson
DESCRIPTION:CHST PUPC - Monday Low Int./High Int. League - Early Winter 25 - Paddle Up Pickleball Club
LOCATION:CHST Court 2
CATEGORIES:QuickScores; Pickleball Game
TRANSP:0
DALARM:20251124T174000;PT10M;2;Stamper/Kornfeld2 vs. Fisher/Wilson
END:VEVENT
BEGIN:VEVENT
DTSTART:20251124T202000
DTEND:20251124T210000
SUMMARY:Dickherber/O'Connell vs. Stamper/Kornfeld2
DESCRIPTION:CHST PUPC - Monday Low Int./High Int. League - Early Winter 25 - Paddle Up Pickleball Club
LOCATION:CHST Court 3
CATEGORIES:QuickScores; Pickleball Game
TRANSP:0
DALARM:20251124T182000;PT10M;2;Dickherber/O'Connell vs. Stamper/Kornfeld2
END:VEVENT
BEGIN:VEVENT
DTSTART:20251208T184000
DTEND:20251208T191000
SUMMARY:[1] Stamper/Kornfeld2 vs. [8] RCathcart/TCordes
DESCRIPTION:CHST PUPC - Monday Low Int./High Int. League - Early Winter 25 - Paddle Up Pickleball Club
LOCATION:CHST Court 3
CATEGORIES:QuickScores; Pickleball Game
TRANSP:0
DALARM:20251208T164000;PT10M;2;[1] Stamper/Kornfeld2 vs. [8] RCathcart/TCordes
END:VEVENT
END:VCALENDAR
