BEGIN:VCALENDAR
VERSION:1.0
BEGIN:VEVENT
DTSTART:20251105T192000
DTEND:20251105T200000
SUMMARY:DStearns/JVinograd vs. McCarthy/Meuse
DESCRIPTION:LSL Wednesday Rec./Low Int Doubles Tm. Lg. - Early Winter 25 - Paddle Up Pickleball Club
LOCATION:Court 6
CATEGORIES:QuickScores; Pickleball Game
TRANSP:0
DALARM:20251105T172000;PT10M;2;DStearns/JVinograd vs. McCarthy/Meuse
END:VEVENT
BEGIN:VEVENT
DTSTART:20251105T200000
DTEND:20251105T204000
SUMMARY:Bathe/Bathe vs. McCarthy/Meuse
DESCRIPTION:LSL Wednesday Rec./Low Int Doubles Tm. Lg. - Early Winter 25 - Paddle Up Pickleball Club
LOCATION:Court 7
CATEGORIES:QuickScores; Pickleball Game
TRANSP:0
DALARM:20251105T180000;PT10M;2;Bathe/Bathe vs. McCarthy/Meuse
END:VEVENT
BEGIN:VEVENT
DTSTART:20251112T184000
DTEND:20251112T192000
SUMMARY:McCarthy/Meuse vs. KStearns/RVinograd
DESCRIPTION:LSL Wednesday Rec./Low Int Doubles Tm. Lg. - Early Winter 25 - Paddle Up Pickleball Club
LOCATION:Court 8
CATEGORIES:QuickScores; Pickleball Game
TRANSP:0
DALARM:20251112T164000;PT10M;2;McCarthy/Meuse vs. KStearns/RVinograd
END:VEVENT
BEGIN:VEVENT
DTSTART:20251112T200000
DTEND:20251112T204000
SUMMARY:Mahoney/Trower vs. McCarthy/Meuse
DESCRIPTION:LSL Wednesday Rec./Low Int Doubles Tm. Lg. - Early Winter 25 - Paddle Up Pickleball Club
LOCATION:Court 7
CATEGORIES:QuickScores; Pickleball Game
TRANSP:0
DALARM:20251112T180000;PT10M;2;Mahoney/Trower vs. McCarthy/Meuse
END:VEVENT
BEGIN:VEVENT
DTSTART:20251119T184000
DTEND:20251119T192000
SUMMARY:McCarthy/Meuse vs. KStearns/RVinograd
DESCRIPTION:LSL Wednesday Rec./Low Int Doubles Tm. Lg. - Early Winter 25 - Paddle Up Pickleball Club
LOCATION:Court 4
CATEGORIES:QuickScores; Pickleball Game
TRANSP:0
DALARM:20251119T164000;PT10M;2;McCarthy/Meuse vs. KStearns/RVinograd
END:VEVENT
BEGIN:VEVENT
DTSTART:20251119T200000
DTEND:20251119T204000
SUMMARY:DStearns/JVinograd vs. McCarthy/Meuse
DESCRIPTION:LSL Wednesday Rec./Low Int Doubles Tm. Lg. - Early Winter 25 - Paddle Up Pickleball Club
LOCATION:Court 4
CATEGORIES:QuickScores; Pickleball Game
TRANSP:0
DALARM:20251119T180000;PT10M;2;DStearns/JVinograd vs. McCarthy/Meuse
END:VEVENT
BEGIN:VEVENT
DTSTART:20251203T190000
DTEND:20251203T193000
SUMMARY:[3] DStearns/JVinograd vs. [6] McCarthy/Meuse
DESCRIPTION:LSL Wednesday Rec./Low Int Doubles Tm. Lg. - Early Winter 25 - Paddle Up Pickleball Club
LOCATION:Court 8
CATEGORIES:QuickScores; Pickleball Game
TRANSP:0
DALARM:20251203T170000;PT10M;2;[3] DStearns/JVinograd vs. [6] McCarthy/Meuse
END:VEVENT
END:VCALENDAR
