BEGIN:VCALENDAR
VERSION:1.0
BEGIN:VEVENT
DTSTART:20251027T202000
DTEND:20251027T210000
SUMMARY:Moolsintong/Lattanand vs. RCathcart/TCordes (out for playoffs)
DESCRIPTION:CHST PUPC - Monday High Int./Adv. League - Early Winter 25 - Paddle Up Pickleball Club
LOCATION:CHST Court 4
CATEGORIES:QuickScores; Pickleball Game
TRANSP:0
DALARM:20251027T182000;PT10M;2;Moolsintong/Lattanand vs. RCathcart/TCordes (out for playoffs)
END:VEVENT
BEGIN:VEVENT
DTSTART:20251027T210000
DTEND:20251027T214000
SUMMARY:Kruse/Alwood vs. RCathcart/TCordes (out for playoffs)
DESCRIPTION:CHST PUPC - Monday High Int./Adv. League - Early Winter 25 - Paddle Up Pickleball Club
LOCATION:CHST Court 4
CATEGORIES:QuickScores; Pickleball Game
TRANSP:0
DALARM:20251027T190000;PT10M;2;Kruse/Alwood vs. RCathcart/TCordes (out for playoffs)
END:VEVENT
BEGIN:VEVENT
DTSTART:20251103T182000
DTEND:20251103T190000
SUMMARY:RCathcart/TCordes (out for playoffs) vs. Bowman/Grelle
DESCRIPTION:CHST PUPC - Monday High Int./Adv. League - Early Winter 25 - Paddle Up Pickleball Club
LOCATION:CHST Court 4
CATEGORIES:QuickScores; Pickleball Game
TRANSP:0
DALARM:20251103T162000;PT10M;2;RCathcart/TCordes (out for playoffs) vs. Bowman/Grelle
END:VEVENT
BEGIN:VEVENT
DTSTART:20251103T194000
DTEND:20251103T202000
SUMMARY:RCathcart/TCordes (out for playoffs) vs. Minton/Howell
DESCRIPTION:CHST PUPC - Monday High Int./Adv. League - Early Winter 25 - Paddle Up Pickleball Club
LOCATION:CHST Court 4
CATEGORIES:QuickScores; Pickleball Game
TRANSP:0
DALARM:20251103T174000;PT10M;2;RCathcart/TCordes (out for playoffs) vs. Minton/Howell
END:VEVENT
BEGIN:VEVENT
DTSTART:20251110T190000
DTEND:20251110T194000
SUMMARY:RCathcart/TCordes (out for playoffs) vs. Moolsintong/Lattanand
DESCRIPTION:CHST PUPC - Monday High Int./Adv. League - Early Winter 25 - Paddle Up Pickleball Club
LOCATION:CHST Court 4
CATEGORIES:QuickScores; Pickleball Game
TRANSP:0
DALARM:20251110T170000;PT10M;2;RCathcart/TCordes (out for playoffs) vs. Moolsintong/Lattanand
END:VEVENT
BEGIN:VEVENT
DTSTART:20251110T202000
DTEND:20251110T210000
SUMMARY:RCathcart/TCordes (out for playoffs) vs. Kruse/Alwood
DESCRIPTION:CHST PUPC - Monday High Int./Adv. League - Early Winter 25 - Paddle Up Pickleball Club
LOCATION:CHST Court 4
CATEGORIES:QuickScores; Pickleball Game
TRANSP:0
DALARM:20251110T182000;PT10M;2;RCathcart/TCordes (out for playoffs) vs. Kruse/Alwood
END:VEVENT
BEGIN:VEVENT
DTSTART:20251117T194000
DTEND:20251117T202000
SUMMARY:Bowman/Grelle vs. RCathcart/TCordes (out for playoffs)
DESCRIPTION:CHST PUPC - Monday High Int./Adv. League - Early Winter 25 - Paddle Up Pickleball Club
LOCATION:CHST Court 4
CATEGORIES:QuickScores; Pickleball Game
TRANSP:0
DALARM:20251117T174000;PT10M;2;Bowman/Grelle vs. RCathcart/TCordes (out for playoffs)
END:VEVENT
BEGIN:VEVENT
DTSTART:20251117T210000
DTEND:20251117T214000
SUMMARY:Minton/Howell vs. RCathcart/TCordes (out for playoffs)
DESCRIPTION:CHST PUPC - Monday High Int./Adv. League - Early Winter 25 - Paddle Up Pickleball Club
LOCATION:CHST Court 4
CATEGORIES:QuickScores; Pickleball Game
TRANSP:0
DALARM:20251117T190000;PT10M;2;Minton/Howell vs. RCathcart/TCordes (out for playoffs)
END:VEVENT
END:VCALENDAR
