BEGIN:VCALENDAR
VERSION:1.0
BEGIN:VEVENT
DTSTART:20251027T194000
DTEND:20251027T202000
SUMMARY:Minton/Howell vs. Kruse/Alwood
DESCRIPTION:CHST PUPC - Monday High Int./Adv. League - Early Winter 25 - Paddle Up Pickleball Club
LOCATION:CHST Court 4
CATEGORIES:QuickScores; Pickleball Game
TRANSP:0
DALARM:20251027T174000;PT10M;2;Minton/Howell vs. Kruse/Alwood
END:VEVENT
BEGIN:VEVENT
DTSTART:20251027T210000
DTEND:20251027T214000
SUMMARY:Kruse/Alwood vs. RCathcart/TCordes (out for playoffs)
DESCRIPTION:CHST PUPC - Monday High Int./Adv. League - Early Winter 25 - Paddle Up Pickleball Club
LOCATION:CHST Court 4
CATEGORIES:QuickScores; Pickleball Game
TRANSP:0
DALARM:20251027T190000;PT10M;2;Kruse/Alwood vs. RCathcart/TCordes (out for playoffs)
END:VEVENT
BEGIN:VEVENT
DTSTART:20251103T190000
DTEND:20251103T194000
SUMMARY:Bowman/Grelle vs. Kruse/Alwood
DESCRIPTION:CHST PUPC - Monday High Int./Adv. League - Early Winter 25 - Paddle Up Pickleball Club
LOCATION:CHST Court 4
CATEGORIES:QuickScores; Pickleball Game
TRANSP:0
DALARM:20251103T170000;PT10M;2;Bowman/Grelle vs. Kruse/Alwood
END:VEVENT
BEGIN:VEVENT
DTSTART:20251103T202000
DTEND:20251103T210000
SUMMARY:Kruse/Alwood vs. Moolsintong/Lattanand
DESCRIPTION:CHST PUPC - Monday High Int./Adv. League - Early Winter 25 - Paddle Up Pickleball Club
LOCATION:CHST Court 4
CATEGORIES:QuickScores; Pickleball Game
TRANSP:0
DALARM:20251103T182000;PT10M;2;Kruse/Alwood vs. Moolsintong/Lattanand
END:VEVENT
BEGIN:VEVENT
DTSTART:20251110T202000
DTEND:20251110T210000
SUMMARY:RCathcart/TCordes (out for playoffs) vs. Kruse/Alwood
DESCRIPTION:CHST PUPC - Monday High Int./Adv. League - Early Winter 25 - Paddle Up Pickleball Club
LOCATION:CHST Court 4
CATEGORIES:QuickScores; Pickleball Game
TRANSP:0
DALARM:20251110T182000;PT10M;2;RCathcart/TCordes (out for playoffs) vs. Kruse/Alwood
END:VEVENT
BEGIN:VEVENT
DTSTART:20251110T210000
DTEND:20251110T214000
SUMMARY:Kruse/Alwood vs. Minton/Howell
DESCRIPTION:CHST PUPC - Monday High Int./Adv. League - Early Winter 25 - Paddle Up Pickleball Club
LOCATION:CHST Court 4
CATEGORIES:QuickScores; Pickleball Game
TRANSP:0
DALARM:20251110T190000;PT10M;2;Kruse/Alwood vs. Minton/Howell
END:VEVENT
BEGIN:VEVENT
DTSTART:20251117T182000
DTEND:20251117T190000
SUMMARY:Kruse/Alwood vs. Bowman/Grelle
DESCRIPTION:CHST PUPC - Monday High Int./Adv. League - Early Winter 25 - Paddle Up Pickleball Club
LOCATION:CHST Court 4
CATEGORIES:QuickScores; Pickleball Game
TRANSP:0
DALARM:20251117T162000;PT10M;2;Kruse/Alwood vs. Bowman/Grelle
END:VEVENT
BEGIN:VEVENT
DTSTART:20251117T190000
DTEND:20251117T194000
SUMMARY:Moolsintong/Lattanand vs. Kruse/Alwood
DESCRIPTION:CHST PUPC - Monday High Int./Adv. League - Early Winter 25 - Paddle Up Pickleball Club
LOCATION:CHST Court 4
CATEGORIES:QuickScores; Pickleball Game
TRANSP:0
DALARM:20251117T170000;PT10M;2;Moolsintong/Lattanand vs. Kruse/Alwood
END:VEVENT
BEGIN:VEVENT
DTSTART:20251124T190000
DTEND:20251124T194000
SUMMARY:Moolsintong/Lattanand vs. Kruse/Alwood
DESCRIPTION:CHST PUPC - Monday High Int./Adv. League - Early Winter 25 - Paddle Up Pickleball Club
LOCATION:CHST Court 4
CATEGORIES:QuickScores; Pickleball Game
TRANSP:0
DALARM:20251124T170000;PT10M;2;Moolsintong/Lattanand vs. Kruse/Alwood
END:VEVENT
BEGIN:VEVENT
DTSTART:20251124T202000
DTEND:20251124T210000
SUMMARY:Kruse/Alwood vs. Minton/Howell
DESCRIPTION:CHST PUPC - Monday High Int./Adv. League - Early Winter 25 - Paddle Up Pickleball Club
LOCATION:CHST Court 4
CATEGORIES:QuickScores; Pickleball Game
TRANSP:0
DALARM:20251124T182000;PT10M;2;Kruse/Alwood vs. Minton/Howell
END:VEVENT
BEGIN:VEVENT
DTSTART:20251208T191000
DTEND:20251208T194000
SUMMARY:[2] Bowman/Grelle vs. [3] Kruse/Alwood
DESCRIPTION:CHST PUPC - Monday High Int./Adv. League - Early Winter 25 - Paddle Up Pickleball Club
LOCATION:CHST Court 1
CATEGORIES:QuickScores; Pickleball Game
TRANSP:0
DALARM:20251208T171000;PT10M;2;[2] Bowman/Grelle vs. [3] Kruse/Alwood
END:VEVENT
END:VCALENDAR
