BEGIN:VCALENDAR
VERSION:1.0
BEGIN:VEVENT
DTSTART:20251011T135000
DTEND:20251011T141000
SUMMARY:SteveDuBois/LonnieNeckerman vs. ShivDalla/MichaelRubeiz
DESCRIPTION:Komen Pickleball For The Cure Mens Doubles - 10/11 (1:00PM Start) - Paddle Up Pickleball Club
LOCATION:Court 4
CATEGORIES:QuickScores; Pickleball Game
TRANSP:0
DALARM:20251011T115000;PT10M;2;SteveDuBois/LonnieNeckerman vs. ShivDalla/MichaelRubeiz
END:VEVENT
BEGIN:VEVENT
DTSTART:20251011T141000
DTEND:20251011T143000
SUMMARY:TomHollander/StefanMarin vs. ShivDalla/MichaelRubeiz
DESCRIPTION:Komen Pickleball For The Cure Mens Doubles - 10/11 (1:00PM Start) - Paddle Up Pickleball Club
LOCATION:Court 8
CATEGORIES:QuickScores; Pickleball Game
TRANSP:0
DALARM:20251011T121000;PT10M;2;TomHollander/StefanMarin vs. ShivDalla/MichaelRubeiz
END:VEVENT
BEGIN:VEVENT
DTSTART:20251011T143000
DTEND:20251011T145000
SUMMARY:ShivDalla/MichaelRubeiz vs. SteveDuBois/LonnieNeckerman
DESCRIPTION:Komen Pickleball For The Cure Mens Doubles - 10/11 (1:00PM Start) - Paddle Up Pickleball Club
LOCATION:Court 8
CATEGORIES:QuickScores; Pickleball Game
TRANSP:0
DALARM:20251011T123000;PT10M;2;ShivDalla/MichaelRubeiz vs. SteveDuBois/LonnieNeckerman
END:VEVENT
BEGIN:VEVENT
DTSTART:20251011T145000
DTEND:20251011T151000
SUMMARY:ShivDalla/MichaelRubeiz vs. BrianMcgee/TonyVaughn
DESCRIPTION:Komen Pickleball For The Cure Mens Doubles - 10/11 (1:00PM Start) - Paddle Up Pickleball Club
LOCATION:Court 4
CATEGORIES:QuickScores; Pickleball Game
TRANSP:0
DALARM:20251011T125000;PT10M;2;ShivDalla/MichaelRubeiz vs. BrianMcgee/TonyVaughn
END:VEVENT
BEGIN:VEVENT
DTSTART:20251011T151000
DTEND:20251011T153000
SUMMARY:SeanYates/AidanGuion vs. ShivDalla/MichaelRubeiz
DESCRIPTION:Komen Pickleball For The Cure Mens Doubles - 10/11 (1:00PM Start) - Paddle Up Pickleball Club
LOCATION:Court 4
CATEGORIES:QuickScores; Pickleball Game
TRANSP:0
DALARM:20251011T131000;PT10M;2;SeanYates/AidanGuion vs. ShivDalla/MichaelRubeiz
END:VEVENT
BEGIN:VEVENT
DTSTART:20251011T153000
DTEND:20251011T155000
SUMMARY:ShivDalla/MichaelRubeiz vs. SeanYates/AidanGuion
DESCRIPTION:Komen Pickleball For The Cure Mens Doubles - 10/11 (1:00PM Start) - Paddle Up Pickleball Club
LOCATION:Court 5
CATEGORIES:QuickScores; Pickleball Game
TRANSP:0
DALARM:20251011T133000;PT10M;2;ShivDalla/MichaelRubeiz vs. SeanYates/AidanGuion
END:VEVENT
END:VCALENDAR
