BEGIN:VCALENDAR
VERSION:1.0
BEGIN:VEVENT
DTSTART:20251011T133000
DTEND:20251011T135000
SUMMARY:KeithFletcher/BrettTaylor vs. BradDonley/PrestonLanglois
DESCRIPTION:Komen Pickleball For The Cure Mens Doubles - 10/11 (1:00PM Start) - Paddle Up Pickleball Club
LOCATION:Court 9
CATEGORIES:QuickScores; Pickleball Game
TRANSP:0
DALARM:20251011T113000;PT10M;2;KeithFletcher/BrettTaylor vs. BradDonley/PrestonLanglois
END:VEVENT
BEGIN:VEVENT
DTSTART:20251011T135000
DTEND:20251011T141000
SUMMARY:BradDonley/PrestonLanglois vs. TerryAllan/EvanPrice
DESCRIPTION:Komen Pickleball For The Cure Mens Doubles - 10/11 (1:00PM Start) - Paddle Up Pickleball Club
LOCATION:Court 5
CATEGORIES:QuickScores; Pickleball Game
TRANSP:0
DALARM:20251011T115000;PT10M;2;BradDonley/PrestonLanglois vs. TerryAllan/EvanPrice
END:VEVENT
BEGIN:VEVENT
DTSTART:20251011T141000
DTEND:20251011T143000
SUMMARY:BradDonley/PrestonLanglois vs. RobertBlick/MyronRoberts
DESCRIPTION:Komen Pickleball For The Cure Mens Doubles - 10/11 (1:00PM Start) - Paddle Up Pickleball Club
LOCATION:Court 2
CATEGORIES:QuickScores; Pickleball Game
TRANSP:0
DALARM:20251011T121000;PT10M;2;BradDonley/PrestonLanglois vs. RobertBlick/MyronRoberts
END:VEVENT
BEGIN:VEVENT
DTSTART:20251011T143000
DTEND:20251011T145000
SUMMARY:JeffBee/KyleGottuso vs. BradDonley/PrestonLanglois
DESCRIPTION:Komen Pickleball For The Cure Mens Doubles - 10/11 (1:00PM Start) - Paddle Up Pickleball Club
LOCATION:Court 9
CATEGORIES:QuickScores; Pickleball Game
TRANSP:0
DALARM:20251011T123000;PT10M;2;JeffBee/KyleGottuso vs. BradDonley/PrestonLanglois
END:VEVENT
BEGIN:VEVENT
DTSTART:20251011T145000
DTEND:20251011T151000
SUMMARY:NickBorger/KevinReque vs. BradDonley/PrestonLanglois
DESCRIPTION:Komen Pickleball For The Cure Mens Doubles - 10/11 (1:00PM Start) - Paddle Up Pickleball Club
LOCATION:Court 2
CATEGORIES:QuickScores; Pickleball Game
TRANSP:0
DALARM:20251011T125000;PT10M;2;NickBorger/KevinReque vs. BradDonley/PrestonLanglois
END:VEVENT
BEGIN:VEVENT
DTSTART:20251011T151000
DTEND:20251011T153000
SUMMARY:BradDonley/PrestonLanglois vs. NickBorger/KevinReque
DESCRIPTION:Komen Pickleball For The Cure Mens Doubles - 10/11 (1:00PM Start) - Paddle Up Pickleball Club
LOCATION:Court 2
CATEGORIES:QuickScores; Pickleball Game
TRANSP:0
DALARM:20251011T131000;PT10M;2;BradDonley/PrestonLanglois vs. NickBorger/KevinReque
END:VEVENT
END:VCALENDAR
