BEGIN:VCALENDAR
VERSION:1.0
BEGIN:VEVENT
DTSTART:20250919T160000
DTEND:20250919T162000
SUMMARY:Meggie R & Mary Dev (Devereux/Rehmer) vs. the Volley Vixens (Lehrmann/Warner-Ashley)
DESCRIPTION:Nerinx Hall Tournament - 9/19 - Paddle Up Pickleball Club
LOCATION:Court 6
CATEGORIES:QuickScores; Pickleball Game
TRANSP:0
DALARM:20250919T140000;PT10M;2;Meggie R & Mary Dev (Devereux/Rehmer) vs. the Volley Vixens (Lehrmann/Warner-Ashley)
END:VEVENT
BEGIN:VEVENT
DTSTART:20250919T164000
DTEND:20250919T170000
SUMMARY:the Volley Vixens (Lehrmann/Warner-Ashley) vs. Sophmore Kitchen-Sinkers (Dokal/LaRose)
DESCRIPTION:Nerinx Hall Tournament - 9/19 - Paddle Up Pickleball Club
LOCATION:Court 3
CATEGORIES:QuickScores; Pickleball Game
TRANSP:0
DALARM:20250919T144000;PT10M;2;the Volley Vixens (Lehrmann/Warner-Ashley) vs. Sophmore Kitchen-Sinkers (Dokal/LaRose)
END:VEVENT
BEGIN:VEVENT
DTSTART:20250919T170000
DTEND:20250919T172000
SUMMARY:the Volley Vixens (Lehrmann/Warner-Ashley) vs. The Big Dill (Freund/Freund)
DESCRIPTION:Nerinx Hall Tournament - 9/19 - Paddle Up Pickleball Club
LOCATION:Court 4
CATEGORIES:QuickScores; Pickleball Game
TRANSP:0
DALARM:20250919T150000;PT10M;2;the Volley Vixens (Lehrmann/Warner-Ashley) vs. The Big Dill (Freund/Freund)
END:VEVENT
BEGIN:VEVENT
DTSTART:20250919T174000
DTEND:20250919T180000
SUMMARY:Bruns (Bruns/Bruns) vs. the Volley Vixens (Lehrmann/Warner-Ashley)
DESCRIPTION:Nerinx Hall Tournament - 9/19 - Paddle Up Pickleball Club
LOCATION:Court 2
CATEGORIES:QuickScores; Pickleball Game
TRANSP:0
DALARM:20250919T154000;PT10M;2;Bruns (Bruns/Bruns) vs. the Volley Vixens (Lehrmann/Warner-Ashley)
END:VEVENT
END:VCALENDAR
