BEGIN:VCALENDAR
VERSION:1.0
BEGIN:VEVENT
DTSTART:20250919T160000
DTEND:20250919T162000
SUMMARY:The Big Dill (Freund/Freund) vs. (VanBergen/Casso)
DESCRIPTION:Nerinx Hall Tournament - 9/19 - Paddle Up Pickleball Club
LOCATION:Court 2
CATEGORIES:QuickScores; Pickleball Game
TRANSP:0
DALARM:20250919T140000;PT10M;2;The Big Dill (Freund/Freund) vs. (VanBergen/Casso)
END:VEVENT
BEGIN:VEVENT
DTSTART:20250919T162000
DTEND:20250919T164000
SUMMARY:The Big Dill (Freund/Freund) vs. Bruns (Bruns/Bruns)
DESCRIPTION:Nerinx Hall Tournament - 9/19 - Paddle Up Pickleball Club
LOCATION:Court 6
CATEGORIES:QuickScores; Pickleball Game
TRANSP:0
DALARM:20250919T142000;PT10M;2;The Big Dill (Freund/Freund) vs. Bruns (Bruns/Bruns)
END:VEVENT
BEGIN:VEVENT
DTSTART:20250919T170000
DTEND:20250919T172000
SUMMARY:the Volley Vixens (Lehrmann/Warner-Ashley) vs. The Big Dill (Freund/Freund)
DESCRIPTION:Nerinx Hall Tournament - 9/19 - Paddle Up Pickleball Club
LOCATION:Court 4
CATEGORIES:QuickScores; Pickleball Game
TRANSP:0
DALARM:20250919T150000;PT10M;2;the Volley Vixens (Lehrmann/Warner-Ashley) vs. The Big Dill (Freund/Freund)
END:VEVENT
BEGIN:VEVENT
DTSTART:20250919T174000
DTEND:20250919T180000
SUMMARY:Bundren Sisters (McNelley/Tappendorf) vs. The Big Dill (Freund/Freund)
DESCRIPTION:Nerinx Hall Tournament - 9/19 - Paddle Up Pickleball Club
LOCATION:Court 1
CATEGORIES:QuickScores; Pickleball Game
TRANSP:0
DALARM:20250919T154000;PT10M;2;Bundren Sisters (McNelley/Tappendorf) vs. The Big Dill (Freund/Freund)
END:VEVENT
END:VCALENDAR
