BEGIN:VCALENDAR
VERSION:1.0
BEGIN:VEVENT
DTSTART:20250919T160000
DTEND:20250919T162000
SUMMARY:Team Millaway (Millaway/Millaway) vs. Bundren Sisters (McNelley/Tappendorf)
DESCRIPTION:Nerinx Hall Tournament - 9/19 - Paddle Up Pickleball Club
LOCATION:Court 4
CATEGORIES:QuickScores; Pickleball Game
TRANSP:0
DALARM:20250919T140000;PT10M;2;Team Millaway (Millaway/Millaway) vs. Bundren Sisters (McNelley/Tappendorf)
END:VEVENT
BEGIN:VEVENT
DTSTART:20250919T164000
DTEND:20250919T170000
SUMMARY:(VanBergen/Casso) vs. Team Millaway (Millaway/Millaway)
DESCRIPTION:Nerinx Hall Tournament - 9/19 - Paddle Up Pickleball Club
LOCATION:Court 5
CATEGORIES:QuickScores; Pickleball Game
TRANSP:0
DALARM:20250919T144000;PT10M;2;(VanBergen/Casso) vs. Team Millaway (Millaway/Millaway)
END:VEVENT
BEGIN:VEVENT
DTSTART:20250919T170000
DTEND:20250919T172000
SUMMARY:Team Millaway (Millaway/Millaway) vs. Bruns (Bruns/Bruns)
DESCRIPTION:Nerinx Hall Tournament - 9/19 - Paddle Up Pickleball Club
LOCATION:Court 3
CATEGORIES:QuickScores; Pickleball Game
TRANSP:0
DALARM:20250919T150000;PT10M;2;Team Millaway (Millaway/Millaway) vs. Bruns (Bruns/Bruns)
END:VEVENT
BEGIN:VEVENT
DTSTART:20250919T172000
DTEND:20250919T174000
SUMMARY:Sophmore Kitchen-Sinkers (Dokal/LaRose) vs. Team Millaway (Millaway/Millaway)
DESCRIPTION:Nerinx Hall Tournament - 9/19 - Paddle Up Pickleball Club
LOCATION:Court 5
CATEGORIES:QuickScores; Pickleball Game
TRANSP:0
DALARM:20250919T152000;PT10M;2;Sophmore Kitchen-Sinkers (Dokal/LaRose) vs. Team Millaway (Millaway/Millaway)
END:VEVENT
END:VCALENDAR
