BEGIN:VCALENDAR
VERSION:1.0
BEGIN:VEVENT
DTSTART:20250919T160000
DTEND:20250919T162000
SUMMARY:Paynted Whales (Gabriel/McCoy) vs. Dewey, Dinkem & Howe (Beaudoin/Beaudoin)
DESCRIPTION:Nerinx Hall Tournament - 9/19 - Paddle Up Pickleball Club
LOCATION:Court 3
CATEGORIES:QuickScores; Pickleball Game
TRANSP:0
DALARM:20250919T140000;PT10M;2;Paynted Whales (Gabriel/McCoy) vs. Dewey, Dinkem & Howe (Beaudoin/Beaudoin)
END:VEVENT
BEGIN:VEVENT
DTSTART:20250919T162000
DTEND:20250919T164000
SUMMARY:Paynted Whales (Gabriel/McCoy) vs. Hampel Sisters (Hamper/Hampel)
DESCRIPTION:Nerinx Hall Tournament - 9/19 - Paddle Up Pickleball Club
LOCATION:Court 3
CATEGORIES:QuickScores; Pickleball Game
TRANSP:0
DALARM:20250919T142000;PT10M;2;Paynted Whales (Gabriel/McCoy) vs. Hampel Sisters (Hamper/Hampel)
END:VEVENT
BEGIN:VEVENT
DTSTART:20250919T170000
DTEND:20250919T172000
SUMMARY:The Big Dill and Little Gherkin (Meyers/Ohmer) vs. Paynted Whales (Gabriel/McCoy)
DESCRIPTION:Nerinx Hall Tournament - 9/19 - Paddle Up Pickleball Club
LOCATION:Court 2
CATEGORIES:QuickScores; Pickleball Game
TRANSP:0
DALARM:20250919T150000;PT10M;2;The Big Dill and Little Gherkin (Meyers/Ohmer) vs. Paynted Whales (Gabriel/McCoy)
END:VEVENT
BEGIN:VEVENT
DTSTART:20250919T172000
DTEND:20250919T174000
SUMMARY:1996ers (Adamec/McMaster) vs. Paynted Whales (Gabriel/McCoy)
DESCRIPTION:Nerinx Hall Tournament - 9/19 - Paddle Up Pickleball Club
LOCATION:Court 6
CATEGORIES:QuickScores; Pickleball Game
TRANSP:0
DALARM:20250919T152000;PT10M;2;1996ers (Adamec/McMaster) vs. Paynted Whales (Gabriel/McCoy)
END:VEVENT
END:VCALENDAR
