BEGIN:VCALENDAR
VERSION:1.0
BEGIN:VEVENT
DTSTART:20250922T200000
DTEND:20250922T204000
SUMMARY:MatSevilla/JohnPaden/DevoryNewsome/BrianRomine vs. STL Smash
DESCRIPTION:LSL DUPR 18 Mens Squads - 9/22 Start - Paddle Up Pickleball Club
LOCATION:Court 4
CATEGORIES:QuickScores; Pickleball Game
TRANSP:0
DALARM:20250922T180000;PT10M;2;MatSevilla/JohnPaden/DevoryNewsome/BrianRomine vs. STL Smash
END:VEVENT
BEGIN:VEVENT
DTSTART:20250922T210000
DTEND:20250922T214000
SUMMARY:STL Smash vs. ScottMaschmann/JohnCometa/PaigeReque/MatthewStodda
DESCRIPTION:LSL DUPR 18 Mens Squads - 9/22 Start - Paddle Up Pickleball Club
LOCATION:Court 1
CATEGORIES:QuickScores; Pickleball Game
TRANSP:0
DALARM:20250922T190000;PT10M;2;STL Smash vs. ScottMaschmann/JohnCometa/PaigeReque/MatthewStodda
END:VEVENT
BEGIN:VEVENT
DTSTART:20250929T200000
DTEND:20250929T204000
SUMMARY:STL Smash vs. OrlandoPaez/AndrewLee/AndyBlickhan/JonRichert
DESCRIPTION:LSL DUPR 18 Mens Squads - 9/22 Start - Paddle Up Pickleball Club
LOCATION:Court 4
CATEGORIES:QuickScores; Pickleball Game
TRANSP:0
DALARM:20250929T180000;PT10M;2;STL Smash vs. OrlandoPaez/AndrewLee/AndyBlickhan/JonRichert
END:VEVENT
BEGIN:VEVENT
DTSTART:20250929T210000
DTEND:20250929T214000
SUMMARY:BrooksToth/Lotfi/JonHarris/DerekDallas vs. STL Smash
DESCRIPTION:LSL DUPR 18 Mens Squads - 9/22 Start - Paddle Up Pickleball Club
LOCATION:Court 1
CATEGORIES:QuickScores; Pickleball Game
TRANSP:0
DALARM:20250929T190000;PT10M;2;BrooksToth/Lotfi/JonHarris/DerekDallas vs. STL Smash
END:VEVENT
BEGIN:VEVENT
DTSTART:20251006T200000
DTEND:20251006T204000
SUMMARY:ScottMaschmann/JohnCometa/PaigeReque/MatthewStodda vs. STL Smash
DESCRIPTION:LSL DUPR 18 Mens Squads - 9/22 Start - Paddle Up Pickleball Club
LOCATION:Court 7
CATEGORIES:QuickScores; Pickleball Game
TRANSP:0
DALARM:20251006T180000;PT10M;2;ScottMaschmann/JohnCometa/PaigeReque/MatthewStodda vs. STL Smash
END:VEVENT
BEGIN:VEVENT
DTSTART:20251006T210000
DTEND:20251006T214000
SUMMARY:L2R2 vs. STL Smash
DESCRIPTION:LSL DUPR 18 Mens Squads - 9/22 Start - Paddle Up Pickleball Club
LOCATION:Court 7
CATEGORIES:QuickScores; Pickleball Game
TRANSP:0
DALARM:20251006T190000;PT10M;2;L2R2 vs. STL Smash
END:VEVENT
BEGIN:VEVENT
DTSTART:20251013T200000
DTEND:20251013T204000
SUMMARY:OrlandoPaez/AndrewLee/AndyBlickhan/JonRichert vs. STL Smash
DESCRIPTION:LSL DUPR 18 Mens Squads - 9/22 Start - Paddle Up Pickleball Club
LOCATION:Court 1
CATEGORIES:QuickScores; Pickleball Game
TRANSP:0
DALARM:20251013T180000;PT10M;2;OrlandoPaez/AndrewLee/AndyBlickhan/JonRichert vs. STL Smash
END:VEVENT
BEGIN:VEVENT
DTSTART:20251013T210000
DTEND:20251013T214000
SUMMARY:STL Smash vs. MatSevilla/JohnPaden/DevoryNewsome/BrianRomine
DESCRIPTION:LSL DUPR 18 Mens Squads - 9/22 Start - Paddle Up Pickleball Club
LOCATION:Court 7
CATEGORIES:QuickScores; Pickleball Game
TRANSP:0
DALARM:20251013T190000;PT10M;2;STL Smash vs. MatSevilla/JohnPaden/DevoryNewsome/BrianRomine
END:VEVENT
BEGIN:VEVENT
DTSTART:20251027T200000
DTEND:20251027T204000
SUMMARY:STL Smash vs. BrooksToth/Lotfi/JonHarris/DerekDallas
DESCRIPTION:LSL DUPR 18 Mens Squads - 9/22 Start - Paddle Up Pickleball Club
LOCATION:Court 7
CATEGORIES:QuickScores; Pickleball Game
TRANSP:0
DALARM:20251027T180000;PT10M;2;STL Smash vs. BrooksToth/Lotfi/JonHarris/DerekDallas
END:VEVENT
BEGIN:VEVENT
DTSTART:20251027T210000
DTEND:20251027T214000
SUMMARY:STL Smash vs. L2R2
DESCRIPTION:LSL DUPR 18 Mens Squads - 9/22 Start - Paddle Up Pickleball Club
LOCATION:Court 4
CATEGORIES:QuickScores; Pickleball Game
TRANSP:0
DALARM:20251027T190000;PT10M;2;STL Smash vs. L2R2
END:VEVENT
BEGIN:VEVENT
DTSTART:20251103T204500
DTEND:20251103T213000
SUMMARY:[2] STL Smash vs. Winner of Game 2
DESCRIPTION:LSL DUPR 18 Mens Squads - 9/22 Start - Paddle Up Pickleball Club
LOCATION:Court 4
CATEGORIES:QuickScores; Pickleball Game
TRANSP:0
DALARM:20251103T184500;PT10M;2;[2] STL Smash vs. Winner of Game 2
END:VEVENT
END:VCALENDAR
