BEGIN:VCALENDAR
VERSION:1.0
BEGIN:VEVENT
DTSTART:20250910T180000
DTEND:20250910T184000
SUMMARY:Team 1 vs. Team 4
DESCRIPTION:Moorman Park - Wednesday Low/High Intermediate League - Fall25 - Paddle Up Pickleball Club
LOCATION:Moorman 3
CATEGORIES:QuickScores; Pickleball Game
TRANSP:0
DALARM:20250910T160000;PT10M;2;Team 1 vs. Team 4
END:VEVENT
BEGIN:VEVENT
DTSTART:20250910T184000
DTEND:20250910T192000
SUMMARY:Team 1 vs. Team 3
DESCRIPTION:Moorman Park - Wednesday Low/High Intermediate League - Fall25 - Paddle Up Pickleball Club
LOCATION:Moorman 5
CATEGORIES:QuickScores; Pickleball Game
TRANSP:0
DALARM:20250910T164000;PT10M;2;Team 1 vs. Team 3
END:VEVENT
BEGIN:VEVENT
DTSTART:20250917T180000
DTEND:20250917T184000
SUMMARY:Team 1 vs. Team 2
DESCRIPTION:Moorman Park - Wednesday Low/High Intermediate League - Fall25 - Paddle Up Pickleball Club
LOCATION:Moorman 5
CATEGORIES:QuickScores; Pickleball Game
TRANSP:0
DALARM:20250917T160000;PT10M;2;Team 1 vs. Team 2
END:VEVENT
BEGIN:VEVENT
DTSTART:20250917T192000
DTEND:20250917T200000
SUMMARY:Team 1 vs. Team 4
DESCRIPTION:Moorman Park - Wednesday Low/High Intermediate League - Fall25 - Paddle Up Pickleball Club
LOCATION:Moorman 3
CATEGORIES:QuickScores; Pickleball Game
TRANSP:0
DALARM:20250917T172000;PT10M;2;Team 1 vs. Team 4
END:VEVENT
BEGIN:VEVENT
DTSTART:20250924T180000
DTEND:20250924T184000
SUMMARY:Team 1 vs. Team 3
DESCRIPTION:Moorman Park - Wednesday Low/High Intermediate League - Fall25 - Paddle Up Pickleball Club
LOCATION:Moorman 5
CATEGORIES:QuickScores; Pickleball Game
TRANSP:0
DALARM:20250924T160000;PT10M;2;Team 1 vs. Team 3
END:VEVENT
BEGIN:VEVENT
DTSTART:20250924T192000
DTEND:20250924T200000
SUMMARY:Team 1 vs. Team 2
DESCRIPTION:Moorman Park - Wednesday Low/High Intermediate League - Fall25 - Paddle Up Pickleball Club
LOCATION:Moorman 5
CATEGORIES:QuickScores; Pickleball Game
TRANSP:0
DALARM:20250924T172000;PT10M;2;Team 1 vs. Team 2
END:VEVENT
BEGIN:VEVENT
DTSTART:20251008T180000
DTEND:20251008T184000
SUMMARY:Team 1 vs. Team 4
DESCRIPTION:Moorman Park - Wednesday Low/High Intermediate League - Fall25 - Paddle Up Pickleball Club
LOCATION:Moorman 3
CATEGORIES:QuickScores; Pickleball Game
TRANSP:0
DALARM:20251008T160000;PT10M;2;Team 1 vs. Team 4
END:VEVENT
BEGIN:VEVENT
DTSTART:20251008T192000
DTEND:20251008T200000
SUMMARY:Team 1 vs. Team 2
DESCRIPTION:Moorman Park - Wednesday Low/High Intermediate League - Fall25 - Paddle Up Pickleball Club
LOCATION:Moorman 3
CATEGORIES:QuickScores; Pickleball Game
TRANSP:0
DALARM:20251008T172000;PT10M;2;Team 1 vs. Team 2
END:VEVENT
BEGIN:VEVENT
DTSTART:20251015T180000
DTEND:20251015T184000
SUMMARY:Team 2 vs. Team 1
DESCRIPTION:Moorman Park - Wednesday Low/High Intermediate League - Fall25 - Paddle Up Pickleball Club
LOCATION:Moorman 6
CATEGORIES:QuickScores; Pickleball Game
TRANSP:0
DALARM:20251015T160000;PT10M;2;Team 2 vs. Team 1
END:VEVENT
BEGIN:VEVENT
DTSTART:20251015T192000
DTEND:20251015T200000
SUMMARY:Team 1 vs. Team 3
DESCRIPTION:Moorman Park - Wednesday Low/High Intermediate League - Fall25 - Paddle Up Pickleball Club
LOCATION:Moorman 3
CATEGORIES:QuickScores; Pickleball Game
TRANSP:0
DALARM:20251015T172000;PT10M;2;Team 1 vs. Team 3
END:VEVENT
END:VCALENDAR
