BEGIN:VCALENDAR
VERSION:1.0
BEGIN:VEVENT
DTSTART:20250905T182000
DTEND:20250905T184000
SUMMARY:KatherineKline/LeighKline vs. TracyTrupka/MiaTrupka
DESCRIPTION:Friday Night Tournament - 9/5 - Paddle Up Pickleball Club
LOCATION:FMG Court 3
CATEGORIES:QuickScores; Pickleball Game
TRANSP:0
DALARM:20250905T162000;PT10M;2;KatherineKline/LeighKline vs. TracyTrupka/MiaTrupka
END:VEVENT
BEGIN:VEVENT
DTSTART:20250905T184000
DTEND:20250905T190000
SUMMARY:TracyTrupka/MiaTrupka vs. WillSingleton/MichealMalutinok
DESCRIPTION:Friday Night Tournament - 9/5 - Paddle Up Pickleball Club
LOCATION:FMG Court 3
CATEGORIES:QuickScores; Pickleball Game
TRANSP:0
DALARM:20250905T164000;PT10M;2;TracyTrupka/MiaTrupka vs. WillSingleton/MichealMalutinok
END:VEVENT
BEGIN:VEVENT
DTSTART:20250905T190000
DTEND:20250905T192000
SUMMARY:ChristineTessereau/MattSimon vs. TracyTrupka/MiaTrupka
DESCRIPTION:Friday Night Tournament - 9/5 - Paddle Up Pickleball Club
LOCATION:FMG Court 1
CATEGORIES:QuickScores; Pickleball Game
TRANSP:0
DALARM:20250905T170000;PT10M;2;ChristineTessereau/MattSimon vs. TracyTrupka/MiaTrupka
END:VEVENT
BEGIN:VEVENT
DTSTART:20250905T192000
DTEND:20250905T194000
SUMMARY:AlexMalloy/JacobHuber vs. TracyTrupka/MiaTrupka
DESCRIPTION:Friday Night Tournament - 9/5 - Paddle Up Pickleball Club
LOCATION:FMG Court 3
CATEGORIES:QuickScores; Pickleball Game
TRANSP:0
DALARM:20250905T172000;PT10M;2;AlexMalloy/JacobHuber vs. TracyTrupka/MiaTrupka
END:VEVENT
END:VCALENDAR
