BEGIN:VCALENDAR
VERSION:1.0
BEGIN:VEVENT
DTSTART:20250905T182000
DTEND:20250905T184000
SUMMARY:AustenPitkanen/JesseReidelberger vs. WillSingleton/MichealMalutinok
DESCRIPTION:Friday Night Tournament - 9/5 - Paddle Up Pickleball Club
LOCATION:FMG Court 1
CATEGORIES:QuickScores; Pickleball Game
TRANSP:0
DALARM:20250905T162000;PT10M;2;AustenPitkanen/JesseReidelberger vs. WillSingleton/MichealMalutinok
END:VEVENT
BEGIN:VEVENT
DTSTART:20250905T190000
DTEND:20250905T192000
SUMMARY:AustenPitkanen/JesseReidelberger vs. KatherineKline/LeighKline
DESCRIPTION:Friday Night Tournament - 9/5 - Paddle Up Pickleball Club
LOCATION:FMG Court 3
CATEGORIES:QuickScores; Pickleball Game
TRANSP:0
DALARM:20250905T170000;PT10M;2;AustenPitkanen/JesseReidelberger vs. KatherineKline/LeighKline
END:VEVENT
BEGIN:VEVENT
DTSTART:20250905T192000
DTEND:20250905T194000
SUMMARY:ChristineTessereau/MattSimon vs. AustenPitkanen/JesseReidelberger
DESCRIPTION:Friday Night Tournament - 9/5 - Paddle Up Pickleball Club
LOCATION:FMG Court 1
CATEGORIES:QuickScores; Pickleball Game
TRANSP:0
DALARM:20250905T172000;PT10M;2;ChristineTessereau/MattSimon vs. AustenPitkanen/JesseReidelberger
END:VEVENT
BEGIN:VEVENT
DTSTART:20250905T194000
DTEND:20250905T200000
SUMMARY:AlexMalloy/JacobHuber vs. AustenPitkanen/JesseReidelberger
DESCRIPTION:Friday Night Tournament - 9/5 - Paddle Up Pickleball Club
LOCATION:FMG Court 2
CATEGORIES:QuickScores; Pickleball Game
TRANSP:0
DALARM:20250905T174000;PT10M;2;AlexMalloy/JacobHuber vs. AustenPitkanen/JesseReidelberger
END:VEVENT
END:VCALENDAR
