BEGIN:VCALENDAR
VERSION:1.0
BEGIN:VEVENT
DTSTART:20250910T180000
DTEND:20250910T184000
SUMMARY:Hollensteiner/Maas vs. Boualavong/Ebbing
DESCRIPTION:Moorman Park - Wednesday Low/High Intermediate League - Fall25 - Paddle Up Pickleball Club
LOCATION:Moorman 4
CATEGORIES:QuickScores; Pickleball Game
TRANSP:0
DALARM:20250910T160000;PT10M;2;Hollensteiner/Maas vs. Boualavong/Ebbing
END:VEVENT
BEGIN:VEVENT
DTSTART:20250910T184000
DTEND:20250910T192000
SUMMARY:Hollensteiner/Maas vs. Cain/Koester
DESCRIPTION:Moorman Park - Wednesday Low/High Intermediate League - Fall25 - Paddle Up Pickleball Club
LOCATION:Moorman 4
CATEGORIES:QuickScores; Pickleball Game
TRANSP:0
DALARM:20250910T164000;PT10M;2;Hollensteiner/Maas vs. Cain/Koester
END:VEVENT
BEGIN:VEVENT
DTSTART:20250917T180000
DTEND:20250917T184000
SUMMARY:Terry/Terry vs. Hollensteiner/Maas
DESCRIPTION:Moorman Park - Wednesday Low/High Intermediate League - Fall25 - Paddle Up Pickleball Club
LOCATION:Moorman 6
CATEGORIES:QuickScores; Pickleball Game
TRANSP:0
DALARM:20250917T160000;PT10M;2;Terry/Terry vs. Hollensteiner/Maas
END:VEVENT
BEGIN:VEVENT
DTSTART:20250917T192000
DTEND:20250917T200000
SUMMARY:Harris/Harris vs. Hollensteiner/Maas
DESCRIPTION:Moorman Park - Wednesday Low/High Intermediate League - Fall25 - Paddle Up Pickleball Club
LOCATION:Moorman 6
CATEGORIES:QuickScores; Pickleball Game
TRANSP:0
DALARM:20250917T172000;PT10M;2;Harris/Harris vs. Hollensteiner/Maas
END:VEVENT
BEGIN:VEVENT
DTSTART:20250924T180000
DTEND:20250924T184000
SUMMARY:Griffard/Albert vs. Hollensteiner/Maas
DESCRIPTION:Moorman Park - Wednesday Low/High Intermediate League - Fall25 - Paddle Up Pickleball Club
LOCATION:Moorman 6
CATEGORIES:QuickScores; Pickleball Game
TRANSP:0
DALARM:20250924T160000;PT10M;2;Griffard/Albert vs. Hollensteiner/Maas
END:VEVENT
BEGIN:VEVENT
DTSTART:20250924T184000
DTEND:20250924T192000
SUMMARY:Cain/Koester vs. Hollensteiner/Maas
DESCRIPTION:Moorman Park - Wednesday Low/High Intermediate League - Fall25 - Paddle Up Pickleball Club
LOCATION:Moorman 6
CATEGORIES:QuickScores; Pickleball Game
TRANSP:0
DALARM:20250924T164000;PT10M;2;Cain/Koester vs. Hollensteiner/Maas
END:VEVENT
BEGIN:VEVENT
DTSTART:20251008T180000
DTEND:20251008T184000
SUMMARY:Hollensteiner/Maas vs. Griffard/Albert
DESCRIPTION:Moorman Park - Wednesday Low/High Intermediate League - Fall25 - Paddle Up Pickleball Club
LOCATION:Moorman 6
CATEGORIES:QuickScores; Pickleball Game
TRANSP:0
DALARM:20251008T160000;PT10M;2;Hollensteiner/Maas vs. Griffard/Albert
END:VEVENT
BEGIN:VEVENT
DTSTART:20251008T184000
DTEND:20251008T192000
SUMMARY:Hollensteiner/Maas vs. Cramer/Cramer
DESCRIPTION:Moorman Park - Wednesday Low/High Intermediate League - Fall25 - Paddle Up Pickleball Club
LOCATION:Moorman 6
CATEGORIES:QuickScores; Pickleball Game
TRANSP:0
DALARM:20251008T164000;PT10M;2;Hollensteiner/Maas vs. Cramer/Cramer
END:VEVENT
BEGIN:VEVENT
DTSTART:20251015T180000
DTEND:20251015T184000
SUMMARY:Boualavong/Ebbing vs. Hollensteiner/Maas
DESCRIPTION:Moorman Park - Wednesday Low/High Intermediate League - Fall25 - Paddle Up Pickleball Club
LOCATION:Moorman 4
CATEGORIES:QuickScores; Pickleball Game
TRANSP:0
DALARM:20251015T160000;PT10M;2;Boualavong/Ebbing vs. Hollensteiner/Maas
END:VEVENT
BEGIN:VEVENT
DTSTART:20251015T192000
DTEND:20251015T200000
SUMMARY:Hollensteiner/Maas vs. Terry/Terry
DESCRIPTION:Moorman Park - Wednesday Low/High Intermediate League - Fall25 - Paddle Up Pickleball Club
LOCATION:Moorman 6
CATEGORIES:QuickScores; Pickleball Game
TRANSP:0
DALARM:20251015T172000;PT10M;2;Hollensteiner/Maas vs. Terry/Terry
END:VEVENT
END:VCALENDAR
