BEGIN:VCALENDAR
VERSION:1.0
BEGIN:VEVENT
DTSTART:20250908T190000
DTEND:20250908T194000
SUMMARY:Beachem/Hutchens vs. Karstens/Moody
DESCRIPTION:DDTC - Monday High Int. Lg. - Fall25 - Paddle Up Pickleball Club
LOCATION:DDTC Court 21
CATEGORIES:QuickScores; Pickleball Game
TRANSP:0
DALARM:20250908T170000;PT10M;2;Beachem/Hutchens vs. Karstens/Moody
END:VEVENT
BEGIN:VEVENT
DTSTART:20250908T194000
DTEND:20250908T202000
SUMMARY:Beachem/Hutchens vs. Rosehill/Lang
DESCRIPTION:DDTC - Monday High Int. Lg. - Fall25 - Paddle Up Pickleball Club
LOCATION:DDTC Court 21
CATEGORIES:QuickScores; Pickleball Game
TRANSP:0
DALARM:20250908T174000;PT10M;2;Beachem/Hutchens vs. Rosehill/Lang
END:VEVENT
BEGIN:VEVENT
DTSTART:20250915T190000
DTEND:20250915T194000
SUMMARY:Kirkpatrick/Kirkpatrick vs. Beachem/Hutchens
DESCRIPTION:DDTC - Monday High Int. Lg. - Fall25 - Paddle Up Pickleball Club
LOCATION:DDTC Court 21
CATEGORIES:QuickScores; Pickleball Game
TRANSP:0
DALARM:20250915T170000;PT10M;2;Kirkpatrick/Kirkpatrick vs. Beachem/Hutchens
END:VEVENT
BEGIN:VEVENT
DTSTART:20250915T194000
DTEND:20250915T202000
SUMMARY:Beachem/Hutchens vs. Gorman/Gorman
DESCRIPTION:DDTC - Monday High Int. Lg. - Fall25 - Paddle Up Pickleball Club
LOCATION:DDTC Court 21
CATEGORIES:QuickScores; Pickleball Game
TRANSP:0
DALARM:20250915T174000;PT10M;2;Beachem/Hutchens vs. Gorman/Gorman
END:VEVENT
BEGIN:VEVENT
DTSTART:20250922T202000
DTEND:20250922T210000
SUMMARY:Wu/Dalla vs. Beachem/Hutchens
DESCRIPTION:DDTC - Monday High Int. Lg. - Fall25 - Paddle Up Pickleball Club
LOCATION:DDTC Court 11S
CATEGORIES:QuickScores; Pickleball Game
TRANSP:0
DALARM:20250922T182000;PT10M;2;Wu/Dalla vs. Beachem/Hutchens
END:VEVENT
BEGIN:VEVENT
DTSTART:20250922T210000
DTEND:20250922T214000
SUMMARY:Spangler/Murdock vs. Beachem/Hutchens
DESCRIPTION:DDTC - Monday High Int. Lg. - Fall25 - Paddle Up Pickleball Club
LOCATION:DDTC Court 11S
CATEGORIES:QuickScores; Pickleball Game
TRANSP:0
DALARM:20250922T190000;PT10M;2;Spangler/Murdock vs. Beachem/Hutchens
END:VEVENT
BEGIN:VEVENT
DTSTART:20250929T202000
DTEND:20250929T210000
SUMMARY:Ruzicka/Hays vs. Beachem/Hutchens
DESCRIPTION:DDTC - Monday High Int. Lg. - Fall25 - Paddle Up Pickleball Club
LOCATION:DDTC Court 21
CATEGORIES:QuickScores; Pickleball Game
TRANSP:0
DALARM:20250929T182000;PT10M;2;Ruzicka/Hays vs. Beachem/Hutchens
END:VEVENT
BEGIN:VEVENT
DTSTART:20250929T210000
DTEND:20250929T214000
SUMMARY:Beachem/Hutchens vs. Parr/George
DESCRIPTION:DDTC - Monday High Int. Lg. - Fall25 - Paddle Up Pickleball Club
LOCATION:DDTC Court 21
CATEGORIES:QuickScores; Pickleball Game
TRANSP:0
DALARM:20250929T190000;PT10M;2;Beachem/Hutchens vs. Parr/George
END:VEVENT
BEGIN:VEVENT
DTSTART:20251006T202000
DTEND:20251006T210000
SUMMARY:Wofford/Putnam vs. Beachem/Hutchens
DESCRIPTION:DDTC - Monday High Int. Lg. - Fall25 - Paddle Up Pickleball Club
LOCATION:DDTC Court 21
CATEGORIES:QuickScores; Pickleball Game
TRANSP:0
DALARM:20251006T182000;PT10M;2;Wofford/Putnam vs. Beachem/Hutchens
END:VEVENT
BEGIN:VEVENT
DTSTART:20251006T210000
DTEND:20251006T214000
SUMMARY:Beachem/Hutchens vs. Rule/Tredway
DESCRIPTION:DDTC - Monday High Int. Lg. - Fall25 - Paddle Up Pickleball Club
LOCATION:DDTC Court 21
CATEGORIES:QuickScores; Pickleball Game
TRANSP:0
DALARM:20251006T190000;PT10M;2;Beachem/Hutchens vs. Rule/Tredway
END:VEVENT
BEGIN:VEVENT
DTSTART:20251013T184000
DTEND:20251013T191000
SUMMARY:[1] Beachem/Hutchens vs. [16] Gorman/Gorman
DESCRIPTION:DDTC - Monday High Int. Lg. - Fall25 - Paddle Up Pickleball Club
LOCATION:DDTC Court 13S
CATEGORIES:QuickScores; Pickleball Game
TRANSP:0
DALARM:20251013T164000;PT10M;2;[1] Beachem/Hutchens vs. [16] Gorman/Gorman
END:VEVENT
END:VCALENDAR
