BEGIN:VCALENDAR
VERSION:1.0
BEGIN:VEVENT
DTSTART:20250910T192000
DTEND:20250910T200000
SUMMARY:Olsen/Griskauskas vs. Kosztowny/Kosztowny
DESCRIPTION:FMG Wednesday  Intermediate Lg. -  Fall 2025 - Paddle Up Pickleball Club
LOCATION:FMG Court 1
CATEGORIES:QuickScores; Pickleball Game
TRANSP:0
DALARM:20250910T172000;PT10M;2;Olsen/Griskauskas vs. Kosztowny/Kosztowny
END:VEVENT
BEGIN:VEVENT
DTSTART:20250910T204000
DTEND:20250910T212000
SUMMARY:Kelliher/Prastina vs. Kosztowny/Kosztowny
DESCRIPTION:FMG Wednesday  Intermediate Lg. -  Fall 2025 - Paddle Up Pickleball Club
LOCATION:FMG Court 1
CATEGORIES:QuickScores; Pickleball Game
TRANSP:0
DALARM:20250910T184000;PT10M;2;Kelliher/Prastina vs. Kosztowny/Kosztowny
END:VEVENT
BEGIN:VEVENT
DTSTART:20250917T192000
DTEND:20250917T200000
SUMMARY:Kosztowny/Kosztowny vs. TomToeniskoetter/DenBaechle
DESCRIPTION:FMG Wednesday  Intermediate Lg. -  Fall 2025 - Paddle Up Pickleball Club
LOCATION:FMG Court 1
CATEGORIES:QuickScores; Pickleball Game
TRANSP:0
DALARM:20250917T172000;PT10M;2;Kosztowny/Kosztowny vs. TomToeniskoetter/DenBaechle
END:VEVENT
BEGIN:VEVENT
DTSTART:20250917T200000
DTEND:20250917T204000
SUMMARY:Kosztowny/Kosztowny vs. Pisoni/Wetzel
DESCRIPTION:FMG Wednesday  Intermediate Lg. -  Fall 2025 - Paddle Up Pickleball Club
LOCATION:FMG Court 1
CATEGORIES:QuickScores; Pickleball Game
TRANSP:0
DALARM:20250917T180000;PT10M;2;Kosztowny/Kosztowny vs. Pisoni/Wetzel
END:VEVENT
BEGIN:VEVENT
DTSTART:20250924T192000
DTEND:20250924T200000
SUMMARY:Weber/Spurgetis vs. Kosztowny/Kosztowny
DESCRIPTION:FMG Wednesday  Intermediate Lg. -  Fall 2025 - Paddle Up Pickleball Club
LOCATION:FMG Court 1
CATEGORIES:QuickScores; Pickleball Game
TRANSP:0
DALARM:20250924T172000;PT10M;2;Weber/Spurgetis vs. Kosztowny/Kosztowny
END:VEVENT
BEGIN:VEVENT
DTSTART:20250924T200000
DTEND:20250924T204000
SUMMARY:Kosztowny/Kosztowny vs. Langston/Luber
DESCRIPTION:FMG Wednesday  Intermediate Lg. -  Fall 2025 - Paddle Up Pickleball Club
LOCATION:FMG Court 1
CATEGORIES:QuickScores; Pickleball Game
TRANSP:0
DALARM:20250924T180000;PT10M;2;Kosztowny/Kosztowny vs. Langston/Luber
END:VEVENT
BEGIN:VEVENT
DTSTART:20251001T192000
DTEND:20251001T200000
SUMMARY:Baker/Olsen vs. Kosztowny/Kosztowny
DESCRIPTION:FMG Wednesday  Intermediate Lg. -  Fall 2025 - Paddle Up Pickleball Club
LOCATION:FMG Court 1
CATEGORIES:QuickScores; Pickleball Game
TRANSP:0
DALARM:20251001T172000;PT10M;2;Baker/Olsen vs. Kosztowny/Kosztowny
END:VEVENT
BEGIN:VEVENT
DTSTART:20251001T200000
DTEND:20251001T204000
SUMMARY:Stearns/Vinograd vs. Kosztowny/Kosztowny
DESCRIPTION:FMG Wednesday  Intermediate Lg. -  Fall 2025 - Paddle Up Pickleball Club
LOCATION:FMG Court 1
CATEGORIES:QuickScores; Pickleball Game
TRANSP:0
DALARM:20251001T180000;PT10M;2;Stearns/Vinograd vs. Kosztowny/Kosztowny
END:VEVENT
BEGIN:VEVENT
DTSTART:20251008T200000
DTEND:20251008T204000
SUMMARY:Peer/Kogan vs. Kosztowny/Kosztowny
DESCRIPTION:FMG Wednesday  Intermediate Lg. -  Fall 2025 - Paddle Up Pickleball Club
LOCATION:FMG Court 2
CATEGORIES:QuickScores; Pickleball Game
TRANSP:0
DALARM:20251008T180000;PT10M;2;Peer/Kogan vs. Kosztowny/Kosztowny
END:VEVENT
BEGIN:VEVENT
DTSTART:20251008T204000
DTEND:20251008T212000
SUMMARY:Albrecht/Kaminski vs. Kosztowny/Kosztowny
DESCRIPTION:FMG Wednesday  Intermediate Lg. -  Fall 2025 - Paddle Up Pickleball Club
LOCATION:FMG Court 1
CATEGORIES:QuickScores; Pickleball Game
TRANSP:0
DALARM:20251008T184000;PT10M;2;Albrecht/Kaminski vs. Kosztowny/Kosztowny
END:VEVENT
BEGIN:VEVENT
DTSTART:20251015T183000
DTEND:20251015T190000
SUMMARY:[2] Kosztowny/Kosztowny vs. Winner of Game 2
DESCRIPTION:FMG Wednesday  Intermediate Lg. -  Fall 2025 - Paddle Up Pickleball Club
LOCATION:FMG Court 2
CATEGORIES:QuickScores; Pickleball Game
TRANSP:0
DALARM:20251015T163000;PT10M;2;[2] Kosztowny/Kosztowny vs. Winner of Game 2
END:VEVENT
END:VCALENDAR
