BEGIN:VCALENDAR
VERSION:1.0
BEGIN:VEVENT
DTSTART:20250910T192000
DTEND:20250910T200000
SUMMARY:Pisoni/Wetzel vs. Albrecht/Kaminski
DESCRIPTION:FMG Wednesday  Intermediate Lg. -  Fall 2025 - Paddle Up Pickleball Club
LOCATION:FMG Court 3
CATEGORIES:QuickScores; Pickleball Game
TRANSP:0
DALARM:20250910T172000;PT10M;2;Pisoni/Wetzel vs. Albrecht/Kaminski
END:VEVENT
BEGIN:VEVENT
DTSTART:20250910T204000
DTEND:20250910T212000
SUMMARY:Pisoni/Wetzel vs. TomToeniskoetter/DenBaechle
DESCRIPTION:FMG Wednesday  Intermediate Lg. -  Fall 2025 - Paddle Up Pickleball Club
LOCATION:FMG Court 2
CATEGORIES:QuickScores; Pickleball Game
TRANSP:0
DALARM:20250910T184000;PT10M;2;Pisoni/Wetzel vs. TomToeniskoetter/DenBaechle
END:VEVENT
BEGIN:VEVENT
DTSTART:20250917T200000
DTEND:20250917T204000
SUMMARY:Kosztowny/Kosztowny vs. Pisoni/Wetzel
DESCRIPTION:FMG Wednesday  Intermediate Lg. -  Fall 2025 - Paddle Up Pickleball Club
LOCATION:FMG Court 1
CATEGORIES:QuickScores; Pickleball Game
TRANSP:0
DALARM:20250917T180000;PT10M;2;Kosztowny/Kosztowny vs. Pisoni/Wetzel
END:VEVENT
BEGIN:VEVENT
DTSTART:20250917T204000
DTEND:20250917T212000
SUMMARY:Pisoni/Wetzel vs. Olsen/Griskauskas
DESCRIPTION:FMG Wednesday  Intermediate Lg. -  Fall 2025 - Paddle Up Pickleball Club
LOCATION:FMG Court 1
CATEGORIES:QuickScores; Pickleball Game
TRANSP:0
DALARM:20250917T184000;PT10M;2;Pisoni/Wetzel vs. Olsen/Griskauskas
END:VEVENT
BEGIN:VEVENT
DTSTART:20250924T180000
DTEND:20250924T184000
SUMMARY:TomToeniskoetter/DenBaechle vs. Pisoni/Wetzel
DESCRIPTION:FMG Wednesday  Intermediate Lg. -  Fall 2025 - Paddle Up Pickleball Club
LOCATION:FMG Court 1
CATEGORIES:QuickScores; Pickleball Game
TRANSP:0
DALARM:20250924T160000;PT10M;2;TomToeniskoetter/DenBaechle vs. Pisoni/Wetzel
END:VEVENT
BEGIN:VEVENT
DTSTART:20250924T184000
DTEND:20250924T192000
SUMMARY:Pisoni/Wetzel vs. Weber/Spurgetis
DESCRIPTION:FMG Wednesday  Intermediate Lg. -  Fall 2025 - Paddle Up Pickleball Club
LOCATION:FMG Court 1
CATEGORIES:QuickScores; Pickleball Game
TRANSP:0
DALARM:20250924T164000;PT10M;2;Pisoni/Wetzel vs. Weber/Spurgetis
END:VEVENT
BEGIN:VEVENT
DTSTART:20251001T180000
DTEND:20251001T184000
SUMMARY:Pisoni/Wetzel vs. Langston/Luber
DESCRIPTION:FMG Wednesday  Intermediate Lg. -  Fall 2025 - Paddle Up Pickleball Club
LOCATION:FMG Court 2
CATEGORIES:QuickScores; Pickleball Game
TRANSP:0
DALARM:20251001T160000;PT10M;2;Pisoni/Wetzel vs. Langston/Luber
END:VEVENT
BEGIN:VEVENT
DTSTART:20251001T184000
DTEND:20251001T192000
SUMMARY:Peer/Kogan vs. Pisoni/Wetzel
DESCRIPTION:FMG Wednesday  Intermediate Lg. -  Fall 2025 - Paddle Up Pickleball Club
LOCATION:FMG Court 2
CATEGORIES:QuickScores; Pickleball Game
TRANSP:0
DALARM:20251001T164000;PT10M;2;Peer/Kogan vs. Pisoni/Wetzel
END:VEVENT
BEGIN:VEVENT
DTSTART:20251008T180000
DTEND:20251008T184000
SUMMARY:Pisoni/Wetzel vs. Stearns/Vinograd
DESCRIPTION:FMG Wednesday  Intermediate Lg. -  Fall 2025 - Paddle Up Pickleball Club
LOCATION:FMG Court 2
CATEGORIES:QuickScores; Pickleball Game
TRANSP:0
DALARM:20251008T160000;PT10M;2;Pisoni/Wetzel vs. Stearns/Vinograd
END:VEVENT
BEGIN:VEVENT
DTSTART:20251008T184000
DTEND:20251008T192000
SUMMARY:Weber/Spurgetis vs. Pisoni/Wetzel
DESCRIPTION:FMG Wednesday  Intermediate Lg. -  Fall 2025 - Paddle Up Pickleball Club
LOCATION:FMG Court 2
CATEGORIES:QuickScores; Pickleball Game
TRANSP:0
DALARM:20251008T164000;PT10M;2;Weber/Spurgetis vs. Pisoni/Wetzel
END:VEVENT
BEGIN:VEVENT
DTSTART:20251015T180000
DTEND:20251015T183000
SUMMARY:[6] Pisoni/Wetzel vs. [11] Langston/Luber
DESCRIPTION:FMG Wednesday  Intermediate Lg. -  Fall 2025 - Paddle Up Pickleball Club
LOCATION:FMG Court 3
CATEGORIES:QuickScores; Pickleball Game
TRANSP:0
DALARM:20251015T160000;PT10M;2;[6] Pisoni/Wetzel vs. [11] Langston/Luber
END:VEVENT
END:VCALENDAR
