BEGIN:VCALENDAR
VERSION:1.0
BEGIN:VEVENT
DTSTART:20250910T180000
DTEND:20250910T184000
SUMMARY:Baker/Olsen vs. Weber/Spurgetis
DESCRIPTION:FMG Wednesday  Intermediate Lg. -  Fall 2025 - Paddle Up Pickleball Club
LOCATION:FMG Court 2
CATEGORIES:QuickScores; Pickleball Game
TRANSP:0
DALARM:20250910T160000;PT10M;2;Baker/Olsen vs. Weber/Spurgetis
END:VEVENT
BEGIN:VEVENT
DTSTART:20250910T184000
DTEND:20250910T192000
SUMMARY:Baker/Olsen vs. Stearns/Vinograd
DESCRIPTION:FMG Wednesday  Intermediate Lg. -  Fall 2025 - Paddle Up Pickleball Club
LOCATION:FMG Court 2
CATEGORIES:QuickScores; Pickleball Game
TRANSP:0
DALARM:20250910T164000;PT10M;2;Baker/Olsen vs. Stearns/Vinograd
END:VEVENT
BEGIN:VEVENT
DTSTART:20250917T180000
DTEND:20250917T184000
SUMMARY:Langston/Luber vs. Baker/Olsen
DESCRIPTION:FMG Wednesday  Intermediate Lg. -  Fall 2025 - Paddle Up Pickleball Club
LOCATION:FMG Court 2
CATEGORIES:QuickScores; Pickleball Game
TRANSP:0
DALARM:20250917T160000;PT10M;2;Langston/Luber vs. Baker/Olsen
END:VEVENT
BEGIN:VEVENT
DTSTART:20250917T184000
DTEND:20250917T192000
SUMMARY:Baker/Olsen vs. Kelliher/Prastina
DESCRIPTION:FMG Wednesday  Intermediate Lg. -  Fall 2025 - Paddle Up Pickleball Club
LOCATION:FMG Court 2
CATEGORIES:QuickScores; Pickleball Game
TRANSP:0
DALARM:20250917T164000;PT10M;2;Baker/Olsen vs. Kelliher/Prastina
END:VEVENT
BEGIN:VEVENT
DTSTART:20250924T200000
DTEND:20250924T204000
SUMMARY:Stearns/Vinograd vs. Baker/Olsen
DESCRIPTION:FMG Wednesday  Intermediate Lg. -  Fall 2025 - Paddle Up Pickleball Club
LOCATION:FMG Court 2
CATEGORIES:QuickScores; Pickleball Game
TRANSP:0
DALARM:20250924T180000;PT10M;2;Stearns/Vinograd vs. Baker/Olsen
END:VEVENT
BEGIN:VEVENT
DTSTART:20250924T204000
DTEND:20250924T212000
SUMMARY:Baker/Olsen vs. Olsen/Griskauskas
DESCRIPTION:FMG Wednesday  Intermediate Lg. -  Fall 2025 - Paddle Up Pickleball Club
LOCATION:FMG Court 2
CATEGORIES:QuickScores; Pickleball Game
TRANSP:0
DALARM:20250924T184000;PT10M;2;Baker/Olsen vs. Olsen/Griskauskas
END:VEVENT
BEGIN:VEVENT
DTSTART:20251001T184000
DTEND:20251001T192000
SUMMARY:Albrecht/Kaminski vs. Baker/Olsen
DESCRIPTION:FMG Wednesday  Intermediate Lg. -  Fall 2025 - Paddle Up Pickleball Club
LOCATION:FMG Court 1
CATEGORIES:QuickScores; Pickleball Game
TRANSP:0
DALARM:20251001T164000;PT10M;2;Albrecht/Kaminski vs. Baker/Olsen
END:VEVENT
BEGIN:VEVENT
DTSTART:20251001T192000
DTEND:20251001T200000
SUMMARY:Baker/Olsen vs. Kosztowny/Kosztowny
DESCRIPTION:FMG Wednesday  Intermediate Lg. -  Fall 2025 - Paddle Up Pickleball Club
LOCATION:FMG Court 1
CATEGORIES:QuickScores; Pickleball Game
TRANSP:0
DALARM:20251001T172000;PT10M;2;Baker/Olsen vs. Kosztowny/Kosztowny
END:VEVENT
BEGIN:VEVENT
DTSTART:20251008T192000
DTEND:20251008T200000
SUMMARY:Olsen/Griskauskas vs. Baker/Olsen
DESCRIPTION:FMG Wednesday  Intermediate Lg. -  Fall 2025 - Paddle Up Pickleball Club
LOCATION:FMG Court 3
CATEGORIES:QuickScores; Pickleball Game
TRANSP:0
DALARM:20251008T172000;PT10M;2;Olsen/Griskauskas vs. Baker/Olsen
END:VEVENT
BEGIN:VEVENT
DTSTART:20251008T204000
DTEND:20251008T212000
SUMMARY:Peer/Kogan vs. Baker/Olsen
DESCRIPTION:FMG Wednesday  Intermediate Lg. -  Fall 2025 - Paddle Up Pickleball Club
LOCATION:FMG Court 2
CATEGORIES:QuickScores; Pickleball Game
TRANSP:0
DALARM:20251008T184000;PT10M;2;Peer/Kogan vs. Baker/Olsen
END:VEVENT
BEGIN:VEVENT
DTSTART:20251015T183000
DTEND:20251015T190000
SUMMARY:[1] Baker/Olsen vs. Winner of Game 1
DESCRIPTION:FMG Wednesday  Intermediate Lg. -  Fall 2025 - Paddle Up Pickleball Club
LOCATION:FMG Court 1
CATEGORIES:QuickScores; Pickleball Game
TRANSP:0
DALARM:20251015T163000;PT10M;2;[1] Baker/Olsen vs. Winner of Game 1
END:VEVENT
END:VCALENDAR
