BEGIN:VCALENDAR
VERSION:1.0
BEGIN:VEVENT
DTSTART:20250730T180000
DTEND:20250730T184000
SUMMARY:Marcotte/Stout vs. Olsen/Griskauskas
DESCRIPTION:FMG Wednesday Intermediate Lg. - Late Summer 2025 - Paddle Up Pickleball Club
LOCATION:FMG Court 1
CATEGORIES:QuickScores; Pickleball Game
TRANSP:0
DALARM:20250730T160000;PT10M;2;Marcotte/Stout vs. Olsen/Griskauskas
END:VEVENT
BEGIN:VEVENT
DTSTART:20250730T192000
DTEND:20250730T200000
SUMMARY:Marcotte/Stout vs. Weber/Spurgetis
DESCRIPTION:FMG Wednesday Intermediate Lg. - Late Summer 2025 - Paddle Up Pickleball Club
LOCATION:FMG Court 1
CATEGORIES:QuickScores; Pickleball Game
TRANSP:0
DALARM:20250730T172000;PT10M;2;Marcotte/Stout vs. Weber/Spurgetis
END:VEVENT
BEGIN:VEVENT
DTSTART:20250806T200000
DTEND:20250806T204000
SUMMARY:Cohen/Gast vs. Marcotte/Stout
DESCRIPTION:FMG Wednesday Intermediate Lg. - Late Summer 2025 - Paddle Up Pickleball Club
LOCATION:FMG Court 1
CATEGORIES:QuickScores; Pickleball Game
TRANSP:0
DALARM:20250806T180000;PT10M;2;Cohen/Gast vs. Marcotte/Stout
END:VEVENT
BEGIN:VEVENT
DTSTART:20250806T204000
DTEND:20250806T212000
SUMMARY:Albrecht/Kaminski vs. Marcotte/Stout
DESCRIPTION:FMG Wednesday Intermediate Lg. - Late Summer 2025 - Paddle Up Pickleball Club
LOCATION:FMG Court 2
CATEGORIES:QuickScores; Pickleball Game
TRANSP:0
DALARM:20250806T184000;PT10M;2;Albrecht/Kaminski vs. Marcotte/Stout
END:VEVENT
BEGIN:VEVENT
DTSTART:20250813T200000
DTEND:20250813T204000
SUMMARY:Cohen/Gast vs. Marcotte/Stout
DESCRIPTION:FMG Wednesday Intermediate Lg. - Late Summer 2025 - Paddle Up Pickleball Club
LOCATION:FMG Court 1
CATEGORIES:QuickScores; Pickleball Game
TRANSP:0
DALARM:20250813T180000;PT10M;2;Cohen/Gast vs. Marcotte/Stout
END:VEVENT
BEGIN:VEVENT
DTSTART:20250813T204000
DTEND:20250813T212000
SUMMARY:Peer/Kogan vs. Marcotte/Stout
DESCRIPTION:FMG Wednesday Intermediate Lg. - Late Summer 2025 - Paddle Up Pickleball Club
LOCATION:FMG Court 2
CATEGORIES:QuickScores; Pickleball Game
TRANSP:0
DALARM:20250813T184000;PT10M;2;Peer/Kogan vs. Marcotte/Stout
END:VEVENT
BEGIN:VEVENT
DTSTART:20250820T180000
DTEND:20250820T184000
SUMMARY:Marcotte/Stout vs. Baker/Olsen
DESCRIPTION:FMG Wednesday Intermediate Lg. - Late Summer 2025 - Paddle Up Pickleball Club
LOCATION:FMG Court 1
CATEGORIES:QuickScores; Pickleball Game
TRANSP:0
DALARM:20250820T160000;PT10M;2;Marcotte/Stout vs. Baker/Olsen
END:VEVENT
BEGIN:VEVENT
DTSTART:20250820T184000
DTEND:20250820T192000
SUMMARY:Marcotte/Stout vs. Haase/Kapeller
DESCRIPTION:FMG Wednesday Intermediate Lg. - Late Summer 2025 - Paddle Up Pickleball Club
LOCATION:FMG Court 1
CATEGORIES:QuickScores; Pickleball Game
TRANSP:0
DALARM:20250820T164000;PT10M;2;Marcotte/Stout vs. Haase/Kapeller
END:VEVENT
BEGIN:VEVENT
DTSTART:20250827T180000
DTEND:20250827T184000
SUMMARY:Olsen/Griskauskas vs. Marcotte/Stout
DESCRIPTION:FMG Wednesday Intermediate Lg. - Late Summer 2025 - Paddle Up Pickleball Club
LOCATION:FMG Court 2
CATEGORIES:QuickScores; Pickleball Game
TRANSP:0
DALARM:20250827T160000;PT10M;2;Olsen/Griskauskas vs. Marcotte/Stout
END:VEVENT
BEGIN:VEVENT
DTSTART:20250827T184000
DTEND:20250827T192000
SUMMARY:Peer/Kogan vs. Marcotte/Stout
DESCRIPTION:FMG Wednesday Intermediate Lg. - Late Summer 2025 - Paddle Up Pickleball Club
LOCATION:FMG Court 1
CATEGORIES:QuickScores; Pickleball Game
TRANSP:0
DALARM:20250827T164000;PT10M;2;Peer/Kogan vs. Marcotte/Stout
END:VEVENT
BEGIN:VEVENT
DTSTART:20250903T183000
DTEND:20250903T190000
SUMMARY:[8] Marcotte/Stout vs. [9] Weber/Spurgetis
DESCRIPTION:FMG Wednesday Intermediate Lg. - Late Summer 2025 - Paddle Up Pickleball Club
LOCATION:FMG Court 1
CATEGORIES:QuickScores; Pickleball Game
TRANSP:0
DALARM:20250903T163000;PT10M;2;[8] Marcotte/Stout vs. [9] Weber/Spurgetis
END:VEVENT
END:VCALENDAR
