BEGIN:VCALENDAR
VERSION:1.0
BEGIN:VEVENT
DTSTART:20250730T180000
DTEND:20250730T184000
SUMMARY:Langston/Luber vs. Peer/Kogan
DESCRIPTION:FMG Wednesday Intermediate Lg. - Late Summer 2025 - Paddle Up Pickleball Club
LOCATION:FMG Court 2
CATEGORIES:QuickScores; Pickleball Game
TRANSP:0
DALARM:20250730T160000;PT10M;2;Langston/Luber vs. Peer/Kogan
END:VEVENT
BEGIN:VEVENT
DTSTART:20250730T184000
DTEND:20250730T192000
SUMMARY:Langston/Luber vs. Haase/Kapeller
DESCRIPTION:FMG Wednesday Intermediate Lg. - Late Summer 2025 - Paddle Up Pickleball Club
LOCATION:FMG Court 2
CATEGORIES:QuickScores; Pickleball Game
TRANSP:0
DALARM:20250730T164000;PT10M;2;Langston/Luber vs. Haase/Kapeller
END:VEVENT
BEGIN:VEVENT
DTSTART:20250813T180000
DTEND:20250813T184000
SUMMARY:Olsen/Griskauskas vs. Langston/Luber
DESCRIPTION:FMG Wednesday Intermediate Lg. - Late Summer 2025 - Paddle Up Pickleball Club
LOCATION:FMG Court 1
CATEGORIES:QuickScores; Pickleball Game
TRANSP:0
DALARM:20250813T160000;PT10M;2;Olsen/Griskauskas vs. Langston/Luber
END:VEVENT
BEGIN:VEVENT
DTSTART:20250813T192000
DTEND:20250813T200000
SUMMARY:Weber/Spurgetis vs. Langston/Luber
DESCRIPTION:FMG Wednesday Intermediate Lg. - Late Summer 2025 - Paddle Up Pickleball Club
LOCATION:FMG Court 1
CATEGORIES:QuickScores; Pickleball Game
TRANSP:0
DALARM:20250813T172000;PT10M;2;Weber/Spurgetis vs. Langston/Luber
END:VEVENT
BEGIN:VEVENT
DTSTART:20250820T192000
DTEND:20250820T200000
SUMMARY:Langston/Luber vs. Baker/Olsen
DESCRIPTION:FMG Wednesday Intermediate Lg. - Late Summer 2025 - Paddle Up Pickleball Club
LOCATION:FMG Court 1
CATEGORIES:QuickScores; Pickleball Game
TRANSP:0
DALARM:20250820T172000;PT10M;2;Langston/Luber vs. Baker/Olsen
END:VEVENT
BEGIN:VEVENT
DTSTART:20250820T204000
DTEND:20250820T212000
SUMMARY:Langston/Luber vs. Albrecht/Kaminski
DESCRIPTION:FMG Wednesday Intermediate Lg. - Late Summer 2025 - Paddle Up Pickleball Club
LOCATION:FMG Court 1
CATEGORIES:QuickScores; Pickleball Game
TRANSP:0
DALARM:20250820T184000;PT10M;2;Langston/Luber vs. Albrecht/Kaminski
END:VEVENT
BEGIN:VEVENT
DTSTART:20250827T200000
DTEND:20250827T204000
SUMMARY:Peer/Kogan vs. Langston/Luber
DESCRIPTION:FMG Wednesday Intermediate Lg. - Late Summer 2025 - Paddle Up Pickleball Club
LOCATION:FMG Court 2
CATEGORIES:QuickScores; Pickleball Game
TRANSP:0
DALARM:20250827T180000;PT10M;2;Peer/Kogan vs. Langston/Luber
END:VEVENT
BEGIN:VEVENT
DTSTART:20250827T204000
DTEND:20250827T212000
SUMMARY:Haase/Kapeller vs. Langston/Luber
DESCRIPTION:FMG Wednesday Intermediate Lg. - Late Summer 2025 - Paddle Up Pickleball Club
LOCATION:FMG Court 2
CATEGORIES:QuickScores; Pickleball Game
TRANSP:0
DALARM:20250827T184000;PT10M;2;Haase/Kapeller vs. Langston/Luber
END:VEVENT
BEGIN:VEVENT
DTSTART:20250903T193000
DTEND:20250903T200000
SUMMARY:[4] Olsen/Griskauskas vs. [5] Langston/Luber
DESCRIPTION:FMG Wednesday Intermediate Lg. - Late Summer 2025 - Paddle Up Pickleball Club
LOCATION:FMG Court 1
CATEGORIES:QuickScores; Pickleball Game
TRANSP:0
DALARM:20250903T173000;PT10M;2;[4] Olsen/Griskauskas vs. [5] Langston/Luber
END:VEVENT
END:VCALENDAR
