BEGIN:VCALENDAR
VERSION:1.0
BEGIN:VEVENT
DTSTART:20250730T200000
DTEND:20250730T204000
SUMMARY:Cohen/Gast vs. Albrecht/Kaminski
DESCRIPTION:FMG Wednesday Intermediate Lg. - Late Summer 2025 - Paddle Up Pickleball Club
LOCATION:FMG Court 1
CATEGORIES:QuickScores; Pickleball Game
TRANSP:0
DALARM:20250730T180000;PT10M;2;Cohen/Gast vs. Albrecht/Kaminski
END:VEVENT
BEGIN:VEVENT
DTSTART:20250730T204000
DTEND:20250730T212000
SUMMARY:Baker/Olsen vs. Cohen/Gast
DESCRIPTION:FMG Wednesday Intermediate Lg. - Late Summer 2025 - Paddle Up Pickleball Club
LOCATION:FMG Court 2
CATEGORIES:QuickScores; Pickleball Game
TRANSP:0
DALARM:20250730T184000;PT10M;2;Baker/Olsen vs. Cohen/Gast
END:VEVENT
BEGIN:VEVENT
DTSTART:20250806T184000
DTEND:20250806T192000
SUMMARY:Peer/Kogan vs. Cohen/Gast
DESCRIPTION:FMG Wednesday Intermediate Lg. - Late Summer 2025 - Paddle Up Pickleball Club
LOCATION:FMG Court 2
CATEGORIES:QuickScores; Pickleball Game
TRANSP:0
DALARM:20250806T164000;PT10M;2;Peer/Kogan vs. Cohen/Gast
END:VEVENT
BEGIN:VEVENT
DTSTART:20250806T200000
DTEND:20250806T204000
SUMMARY:Cohen/Gast vs. Marcotte/Stout
DESCRIPTION:FMG Wednesday Intermediate Lg. - Late Summer 2025 - Paddle Up Pickleball Club
LOCATION:FMG Court 1
CATEGORIES:QuickScores; Pickleball Game
TRANSP:0
DALARM:20250806T180000;PT10M;2;Cohen/Gast vs. Marcotte/Stout
END:VEVENT
BEGIN:VEVENT
DTSTART:20250813T200000
DTEND:20250813T204000
SUMMARY:Cohen/Gast vs. Marcotte/Stout
DESCRIPTION:FMG Wednesday Intermediate Lg. - Late Summer 2025 - Paddle Up Pickleball Club
LOCATION:FMG Court 1
CATEGORIES:QuickScores; Pickleball Game
TRANSP:0
DALARM:20250813T180000;PT10M;2;Cohen/Gast vs. Marcotte/Stout
END:VEVENT
BEGIN:VEVENT
DTSTART:20250813T204000
DTEND:20250813T212000
SUMMARY:Weber/Spurgetis vs. Cohen/Gast
DESCRIPTION:FMG Wednesday Intermediate Lg. - Late Summer 2025 - Paddle Up Pickleball Club
LOCATION:FMG Court 1
CATEGORIES:QuickScores; Pickleball Game
TRANSP:0
DALARM:20250813T184000;PT10M;2;Weber/Spurgetis vs. Cohen/Gast
END:VEVENT
BEGIN:VEVENT
DTSTART:20250820T200000
DTEND:20250820T204000
SUMMARY:Cohen/Gast vs. Olsen/Griskauskas
DESCRIPTION:FMG Wednesday Intermediate Lg. - Late Summer 2025 - Paddle Up Pickleball Club
LOCATION:FMG Court 2
CATEGORIES:QuickScores; Pickleball Game
TRANSP:0
DALARM:20250820T180000;PT10M;2;Cohen/Gast vs. Olsen/Griskauskas
END:VEVENT
BEGIN:VEVENT
DTSTART:20250820T204000
DTEND:20250820T212000
SUMMARY:Peer/Kogan vs. Cohen/Gast
DESCRIPTION:FMG Wednesday Intermediate Lg. - Late Summer 2025 - Paddle Up Pickleball Club
LOCATION:FMG Court 2
CATEGORIES:QuickScores; Pickleball Game
TRANSP:0
DALARM:20250820T184000;PT10M;2;Peer/Kogan vs. Cohen/Gast
END:VEVENT
BEGIN:VEVENT
DTSTART:20250827T180000
DTEND:20250827T184000
SUMMARY:Cohen/Gast vs. Albrecht/Kaminski
DESCRIPTION:FMG Wednesday Intermediate Lg. - Late Summer 2025 - Paddle Up Pickleball Club
LOCATION:FMG Court 1
CATEGORIES:QuickScores; Pickleball Game
TRANSP:0
DALARM:20250827T160000;PT10M;2;Cohen/Gast vs. Albrecht/Kaminski
END:VEVENT
BEGIN:VEVENT
DTSTART:20250827T184000
DTEND:20250827T192000
SUMMARY:Olsen/Griskauskas vs. Cohen/Gast
DESCRIPTION:FMG Wednesday Intermediate Lg. - Late Summer 2025 - Paddle Up Pickleball Club
LOCATION:FMG Court 2
CATEGORIES:QuickScores; Pickleball Game
TRANSP:0
DALARM:20250827T164000;PT10M;2;Olsen/Griskauskas vs. Cohen/Gast
END:VEVENT
BEGIN:VEVENT
DTSTART:20250903T190000
DTEND:20250903T193000
SUMMARY:[3] Albrecht/Kaminski vs. [6] Cohen/Gast
DESCRIPTION:FMG Wednesday Intermediate Lg. - Late Summer 2025 - Paddle Up Pickleball Club
LOCATION:FMG Court 2
CATEGORIES:QuickScores; Pickleball Game
TRANSP:0
DALARM:20250903T170000;PT10M;2;[3] Albrecht/Kaminski vs. [6] Cohen/Gast
END:VEVENT
END:VCALENDAR
