BEGIN:VCALENDAR
VERSION:1.0
BEGIN:VEVENT
DTSTART:20250724T180000
DTEND:20250724T184000
SUMMARY:Kalish/Kalish vs. Hennessy/Hennessy
DESCRIPTION:PUPC Thursday Night High Int League - LateSummer25 - Paddle Up Pickleball Club
LOCATION:Court 1
CATEGORIES:QuickScores; Pickleball Game
TRANSP:0
DALARM:20250724T160000;PT10M;2;Kalish/Kalish vs. Hennessy/Hennessy
END:VEVENT
BEGIN:VEVENT
DTSTART:20250724T192000
DTEND:20250724T200000
SUMMARY:Kalish/Kalish vs. Richert/Thies
DESCRIPTION:PUPC Thursday Night High Int League - LateSummer25 - Paddle Up Pickleball Club
LOCATION:Court 2
CATEGORIES:QuickScores; Pickleball Game
TRANSP:0
DALARM:20250724T172000;PT10M;2;Kalish/Kalish vs. Richert/Thies
END:VEVENT
BEGIN:VEVENT
DTSTART:20250731T180000
DTEND:20250731T184000
SUMMARY:Kalish/Kalish vs. Hennessy/Hennessy
DESCRIPTION:PUPC Thursday Night High Int League - LateSummer25 - Paddle Up Pickleball Club
LOCATION:Court 2
CATEGORIES:QuickScores; Pickleball Game
TRANSP:0
DALARM:20250731T160000;PT10M;2;Kalish/Kalish vs. Hennessy/Hennessy
END:VEVENT
BEGIN:VEVENT
DTSTART:20250731T192000
DTEND:20250731T200000
SUMMARY:Merrifield/Merrifield vs. Kalish/Kalish
DESCRIPTION:PUPC Thursday Night High Int League - LateSummer25 - Paddle Up Pickleball Club
LOCATION:Court 1
CATEGORIES:QuickScores; Pickleball Game
TRANSP:0
DALARM:20250731T172000;PT10M;2;Merrifield/Merrifield vs. Kalish/Kalish
END:VEVENT
BEGIN:VEVENT
DTSTART:20250807T184000
DTEND:20250807T192000
SUMMARY:Kalish/Kalish vs. Girwood/Morgan
DESCRIPTION:PUPC Thursday Night High Int League - LateSummer25 - Paddle Up Pickleball Club
LOCATION:Court 1
CATEGORIES:QuickScores; Pickleball Game
TRANSP:0
DALARM:20250807T164000;PT10M;2;Kalish/Kalish vs. Girwood/Morgan
END:VEVENT
BEGIN:VEVENT
DTSTART:20250807T200000
DTEND:20250807T204000
SUMMARY:Merrifield/Merrifield vs. Kalish/Kalish
DESCRIPTION:PUPC Thursday Night High Int League - LateSummer25 - Paddle Up Pickleball Club
LOCATION:Court 2
CATEGORIES:QuickScores; Pickleball Game
TRANSP:0
DALARM:20250807T180000;PT10M;2;Merrifield/Merrifield vs. Kalish/Kalish
END:VEVENT
BEGIN:VEVENT
DTSTART:20250814T184000
DTEND:20250814T192000
SUMMARY:Kalish/Kalish vs. Hennessy/Hennessy
DESCRIPTION:PUPC Thursday Night High Int League - LateSummer25 - Paddle Up Pickleball Club
LOCATION:Court 1
CATEGORIES:QuickScores; Pickleball Game
TRANSP:0
DALARM:20250814T164000;PT10M;2;Kalish/Kalish vs. Hennessy/Hennessy
END:VEVENT
BEGIN:VEVENT
DTSTART:20250814T200000
DTEND:20250814T204000
SUMMARY:Richert/Thies vs. Kalish/Kalish
DESCRIPTION:PUPC Thursday Night High Int League - LateSummer25 - Paddle Up Pickleball Club
LOCATION:Court 2
CATEGORIES:QuickScores; Pickleball Game
TRANSP:0
DALARM:20250814T180000;PT10M;2;Richert/Thies vs. Kalish/Kalish
END:VEVENT
BEGIN:VEVENT
DTSTART:20250821T184000
DTEND:20250821T192000
SUMMARY:Kalish/Kalish vs. Girwood/Morgan
DESCRIPTION:PUPC Thursday Night High Int League - LateSummer25 - Paddle Up Pickleball Club
LOCATION:Court 1
CATEGORIES:QuickScores; Pickleball Game
TRANSP:0
DALARM:20250821T164000;PT10M;2;Kalish/Kalish vs. Girwood/Morgan
END:VEVENT
BEGIN:VEVENT
DTSTART:20250821T192000
DTEND:20250821T200000
SUMMARY:Kalish/Kalish vs. Merrifield/Merrifield
DESCRIPTION:PUPC Thursday Night High Int League - LateSummer25 - Paddle Up Pickleball Club
LOCATION:Court 1
CATEGORIES:QuickScores; Pickleball Game
TRANSP:0
DALARM:20250821T172000;PT10M;2;Kalish/Kalish vs. Merrifield/Merrifield
END:VEVENT
BEGIN:VEVENT
DTSTART:20250828T190000
DTEND:20250828T193000
SUMMARY:[4] Kalish/Kalish vs. [5] Richert/Thies
DESCRIPTION:PUPC Thursday Night High Int League - LateSummer25 - Paddle Up Pickleball Club
LOCATION:Court 1
CATEGORIES:QuickScores; Pickleball Game
TRANSP:0
DALARM:20250828T170000;PT10M;2;[4] Kalish/Kalish vs. [5] Richert/Thies
END:VEVENT
END:VCALENDAR
