BEGIN:VCALENDAR
VERSION:1.0
BEGIN:VEVENT
DTSTART:20250726T181000
DTEND:20250726T183000
SUMMARY:BrettTaylor/ChuckTaylor vs. MattLandolt/JonRichert
DESCRIPTION:Paddle Up Club Championship - Championship Divisions 7/26 (6:00 PM Start) - Paddle Up Pickleball Club
LOCATION:Court 6
CATEGORIES:QuickScores; Pickleball Game
TRANSP:0
DALARM:20250726T161000;PT10M;2;BrettTaylor/ChuckTaylor vs. MattLandolt/JonRichert
END:VEVENT
BEGIN:VEVENT
DTSTART:20250726T183000
DTEND:20250726T185000
SUMMARY:MattFleming/PrestonBehlmann vs. MattLandolt/JonRichert
DESCRIPTION:Paddle Up Club Championship - Championship Divisions 7/26 (6:00 PM Start) - Paddle Up Pickleball Club
LOCATION:Court 7
CATEGORIES:QuickScores; Pickleball Game
TRANSP:0
DALARM:20250726T163000;PT10M;2;MattFleming/PrestonBehlmann vs. MattLandolt/JonRichert
END:VEVENT
BEGIN:VEVENT
DTSTART:20250726T185000
DTEND:20250726T191000
SUMMARY:ChaseBlickhan/JohnHarte vs. MattLandolt/JonRichert
DESCRIPTION:Paddle Up Club Championship - Championship Divisions 7/26 (6:00 PM Start) - Paddle Up Pickleball Club
LOCATION:Court 2
CATEGORIES:QuickScores; Pickleball Game
TRANSP:0
DALARM:20250726T165000;PT10M;2;ChaseBlickhan/JohnHarte vs. MattLandolt/JonRichert
END:VEVENT
BEGIN:VEVENT
DTSTART:20250726T191000
DTEND:20250726T193000
SUMMARY:MattLandolt/JonRichert vs. CarterSmith/CadenDavis
DESCRIPTION:Paddle Up Club Championship - Championship Divisions 7/26 (6:00 PM Start) - Paddle Up Pickleball Club
LOCATION:Court 2
CATEGORIES:QuickScores; Pickleball Game
TRANSP:0
DALARM:20250726T171000;PT10M;2;MattLandolt/JonRichert vs. CarterSmith/CadenDavis
END:VEVENT
END:VCALENDAR
