BEGIN:VCALENDAR
VERSION:1.0
BEGIN:VEVENT
DTSTART:20250723T180000
DTEND:20250723T184000
SUMMARY:Arcaro/Arcaro vs. Pickens/Minnick
DESCRIPTION:Moorman Park - Wednesday Rec/Low Intermediate League Late Summer 25 - Paddle Up Pickleball Club
LOCATION:Moorman 5
CATEGORIES:QuickScores; Pickleball Game
TRANSP:0
DALARM:20250723T160000;PT10M;2;Arcaro/Arcaro vs. Pickens/Minnick
END:VEVENT
BEGIN:VEVENT
DTSTART:20250723T184000
DTEND:20250723T192000
SUMMARY:Hollensteiner/Maas vs. Pickens/Minnick
DESCRIPTION:Moorman Park - Wednesday Rec/Low Intermediate League Late Summer 25 - Paddle Up Pickleball Club
LOCATION:Moorman 4
CATEGORIES:QuickScores; Pickleball Game
TRANSP:0
DALARM:20250723T164000;PT10M;2;Hollensteiner/Maas vs. Pickens/Minnick
END:VEVENT
BEGIN:VEVENT
DTSTART:20250806T192000
DTEND:20250806T200000
SUMMARY:Pickens/Minnick vs. Treaster/Harold
DESCRIPTION:Moorman Park - Wednesday Rec/Low Intermediate League Late Summer 25 - Paddle Up Pickleball Club
LOCATION:Moorman 6
CATEGORIES:QuickScores; Pickleball Game
TRANSP:0
DALARM:20250806T172000;PT10M;2;Pickens/Minnick vs. Treaster/Harold
END:VEVENT
BEGIN:VEVENT
DTSTART:20250806T200000
DTEND:20250806T204000
SUMMARY:Day/Day vs. Pickens/Minnick
DESCRIPTION:Moorman Park - Wednesday Rec/Low Intermediate League Late Summer 25 - Paddle Up Pickleball Club
LOCATION:Moorman 5
CATEGORIES:QuickScores; Pickleball Game
TRANSP:0
DALARM:20250806T180000;PT10M;2;Day/Day vs. Pickens/Minnick
END:VEVENT
BEGIN:VEVENT
DTSTART:20250806T204000
DTEND:20250806T212000
SUMMARY:Pickens/Minnick vs. Vandiver/Hull
DESCRIPTION:Moorman Park - Wednesday Rec/Low Intermediate League Late Summer 25 - Paddle Up Pickleball Club
LOCATION:Moorman 4
CATEGORIES:QuickScores; Pickleball Game
TRANSP:0
DALARM:20250806T184000;PT10M;2;Pickens/Minnick vs. Vandiver/Hull
END:VEVENT
BEGIN:VEVENT
DTSTART:20250813T180000
DTEND:20250813T184000
SUMMARY:Pickens/Minnick vs. Smith/Smith
DESCRIPTION:Moorman Park - Wednesday Rec/Low Intermediate League Late Summer 25 - Paddle Up Pickleball Club
LOCATION:Moorman 6
CATEGORIES:QuickScores; Pickleball Game
TRANSP:0
DALARM:20250813T160000;PT10M;2;Pickens/Minnick vs. Smith/Smith
END:VEVENT
BEGIN:VEVENT
DTSTART:20250813T184000
DTEND:20250813T192000
SUMMARY:Parrish/Parrish vs. Pickens/Minnick
DESCRIPTION:Moorman Park - Wednesday Rec/Low Intermediate League Late Summer 25 - Paddle Up Pickleball Club
LOCATION:Moorman 6
CATEGORIES:QuickScores; Pickleball Game
TRANSP:0
DALARM:20250813T164000;PT10M;2;Parrish/Parrish vs. Pickens/Minnick
END:VEVENT
BEGIN:VEVENT
DTSTART:20250813T200000
DTEND:20250813T204000
SUMMARY:Pickens/Minnick vs. Fantz/Wolter
DESCRIPTION:Moorman Park - Wednesday Rec/Low Intermediate League Late Summer 25 - Paddle Up Pickleball Club
LOCATION:Moorman 6
CATEGORIES:QuickScores; Pickleball Game
TRANSP:0
DALARM:20250813T180000;PT10M;2;Pickens/Minnick vs. Fantz/Wolter
END:VEVENT
BEGIN:VEVENT
DTSTART:20250820T192000
DTEND:20250820T200000
SUMMARY:Pickens/Minnick vs. Hollensteiner/Maas
DESCRIPTION:Moorman Park - Wednesday Rec/Low Intermediate League Late Summer 25 - Paddle Up Pickleball Club
LOCATION:Moorman 5
CATEGORIES:QuickScores; Pickleball Game
TRANSP:0
DALARM:20250820T172000;PT10M;2;Pickens/Minnick vs. Hollensteiner/Maas
END:VEVENT
BEGIN:VEVENT
DTSTART:20250820T200000
DTEND:20250820T204000
SUMMARY:Pickens/Minnick vs. Wheelan/Wheelan
DESCRIPTION:Moorman Park - Wednesday Rec/Low Intermediate League Late Summer 25 - Paddle Up Pickleball Club
LOCATION:Moorman 4
CATEGORIES:QuickScores; Pickleball Game
TRANSP:0
DALARM:20250820T180000;PT10M;2;Pickens/Minnick vs. Wheelan/Wheelan
END:VEVENT
BEGIN:VEVENT
DTSTART:20250827T180000
DTEND:20250827T183000
SUMMARY:[7] Parrish/Parrish vs. [10] Pickens/Minnick
DESCRIPTION:Moorman Park - Wednesday Rec/Low Intermediate League Late Summer 25 - Paddle Up Pickleball Club
LOCATION:Moorman 6
CATEGORIES:QuickScores; Pickleball Game
TRANSP:0
DALARM:20250827T160000;PT10M;2;[7] Parrish/Parrish vs. [10] Pickens/Minnick
END:VEVENT
END:VCALENDAR
