BEGIN:VCALENDAR
VERSION:1.0
BEGIN:VEVENT
DTSTART:20250723T192000
DTEND:20250723T200000
SUMMARY:Smith/Smith vs. Treaster/Harold
DESCRIPTION:Moorman Park - Wednesday Rec/Low Intermediate League Late Summer 25 - Paddle Up Pickleball Club
LOCATION:Moorman 6
CATEGORIES:QuickScores; Pickleball Game
TRANSP:0
DALARM:20250723T172000;PT10M;2;Smith/Smith vs. Treaster/Harold
END:VEVENT
BEGIN:VEVENT
DTSTART:20250723T200000
DTEND:20250723T204000
SUMMARY:Parrish/Parrish vs. Treaster/Harold
DESCRIPTION:Moorman Park - Wednesday Rec/Low Intermediate League Late Summer 25 - Paddle Up Pickleball Club
LOCATION:Moorman 5
CATEGORIES:QuickScores; Pickleball Game
TRANSP:0
DALARM:20250723T180000;PT10M;2;Parrish/Parrish vs. Treaster/Harold
END:VEVENT
BEGIN:VEVENT
DTSTART:20250730T184000
DTEND:20250730T192000
SUMMARY:Treaster/Harold vs. Vandiver/Hull
DESCRIPTION:Moorman Park - Wednesday Rec/Low Intermediate League Late Summer 25 - Paddle Up Pickleball Club
LOCATION:Moorman 4
CATEGORIES:QuickScores; Pickleball Game
TRANSP:0
DALARM:20250730T164000;PT10M;2;Treaster/Harold vs. Vandiver/Hull
END:VEVENT
BEGIN:VEVENT
DTSTART:20250806T184000
DTEND:20250806T192000
SUMMARY:Treaster/Harold vs. Arcaro/Arcaro
DESCRIPTION:Moorman Park - Wednesday Rec/Low Intermediate League Late Summer 25 - Paddle Up Pickleball Club
LOCATION:Moorman 6
CATEGORIES:QuickScores; Pickleball Game
TRANSP:0
DALARM:20250806T164000;PT10M;2;Treaster/Harold vs. Arcaro/Arcaro
END:VEVENT
BEGIN:VEVENT
DTSTART:20250806T192000
DTEND:20250806T200000
SUMMARY:Pickens/Minnick vs. Treaster/Harold
DESCRIPTION:Moorman Park - Wednesday Rec/Low Intermediate League Late Summer 25 - Paddle Up Pickleball Club
LOCATION:Moorman 6
CATEGORIES:QuickScores; Pickleball Game
TRANSP:0
DALARM:20250806T172000;PT10M;2;Pickens/Minnick vs. Treaster/Harold
END:VEVENT
BEGIN:VEVENT
DTSTART:20250806T204000
DTEND:20250806T212000
SUMMARY:Hollensteiner/Maas vs. Treaster/Harold
DESCRIPTION:Moorman Park - Wednesday Rec/Low Intermediate League Late Summer 25 - Paddle Up Pickleball Club
LOCATION:Moorman 5
CATEGORIES:QuickScores; Pickleball Game
TRANSP:0
DALARM:20250806T184000;PT10M;2;Hollensteiner/Maas vs. Treaster/Harold
END:VEVENT
BEGIN:VEVENT
DTSTART:20250813T192000
DTEND:20250813T200000
SUMMARY:Day/Day vs. Treaster/Harold
DESCRIPTION:Moorman Park - Wednesday Rec/Low Intermediate League Late Summer 25 - Paddle Up Pickleball Club
LOCATION:Moorman 5
CATEGORIES:QuickScores; Pickleball Game
TRANSP:0
DALARM:20250813T172000;PT10M;2;Day/Day vs. Treaster/Harold
END:VEVENT
BEGIN:VEVENT
DTSTART:20250813T200000
DTEND:20250813T204000
SUMMARY:Treaster/Harold vs. Hollensteiner/Maas
DESCRIPTION:Moorman Park - Wednesday Rec/Low Intermediate League Late Summer 25 - Paddle Up Pickleball Club
LOCATION:Moorman 4
CATEGORIES:QuickScores; Pickleball Game
TRANSP:0
DALARM:20250813T180000;PT10M;2;Treaster/Harold vs. Hollensteiner/Maas
END:VEVENT
BEGIN:VEVENT
DTSTART:20250820T180000
DTEND:20250820T184000
SUMMARY:Treaster/Harold vs. Parrish/Parrish
DESCRIPTION:Moorman Park - Wednesday Rec/Low Intermediate League Late Summer 25 - Paddle Up Pickleball Club
LOCATION:Moorman 5
CATEGORIES:QuickScores; Pickleball Game
TRANSP:0
DALARM:20250820T160000;PT10M;2;Treaster/Harold vs. Parrish/Parrish
END:VEVENT
BEGIN:VEVENT
DTSTART:20250820T184000
DTEND:20250820T192000
SUMMARY:Treaster/Harold vs. Fantz/Wolter
DESCRIPTION:Moorman Park - Wednesday Rec/Low Intermediate League Late Summer 25 - Paddle Up Pickleball Club
LOCATION:Moorman 5
CATEGORIES:QuickScores; Pickleball Game
TRANSP:0
DALARM:20250820T164000;PT10M;2;Treaster/Harold vs. Fantz/Wolter
END:VEVENT
BEGIN:VEVENT
DTSTART:20250827T183000
DTEND:20250827T190000
SUMMARY:[2] Treaster/Harold vs. Winner of Game 2
DESCRIPTION:Moorman Park - Wednesday Rec/Low Intermediate League Late Summer 25 - Paddle Up Pickleball Club
LOCATION:Moorman 6
CATEGORIES:QuickScores; Pickleball Game
TRANSP:0
DALARM:20250827T163000;PT10M;2;[2] Treaster/Harold vs. Winner of Game 2
END:VEVENT
END:VCALENDAR
