BEGIN:VCALENDAR
VERSION:1.0
BEGIN:VEVENT
DTSTART:20250724T184000
DTEND:20250724T192000
SUMMARY:Kough/Kough vs. Stuhlman/Stuhlman
DESCRIPTION:PUPC Thursday Night Low Int./Rec League - LateSummer25 - Paddle Up Pickleball Club
LOCATION:Court 4
CATEGORIES:QuickScores; Pickleball Game
TRANSP:0
DALARM:20250724T164000;PT10M;2;Kough/Kough vs. Stuhlman/Stuhlman
END:VEVENT
BEGIN:VEVENT
DTSTART:20250724T192000
DTEND:20250724T200000
SUMMARY:Stuhlman/Stuhlman vs. Denny/Nettler
DESCRIPTION:PUPC Thursday Night Low Int./Rec League - LateSummer25 - Paddle Up Pickleball Club
LOCATION:Court 4
CATEGORIES:QuickScores; Pickleball Game
TRANSP:0
DALARM:20250724T172000;PT10M;2;Stuhlman/Stuhlman vs. Denny/Nettler
END:VEVENT
BEGIN:VEVENT
DTSTART:20250731T180000
DTEND:20250731T184000
SUMMARY:Stuhlman/Stuhlman vs. GHennessy/BHennessy
DESCRIPTION:PUPC Thursday Night Low Int./Rec League - LateSummer25 - Paddle Up Pickleball Club
LOCATION:Court 6
CATEGORIES:QuickScores; Pickleball Game
TRANSP:0
DALARM:20250731T160000;PT10M;2;Stuhlman/Stuhlman vs. GHennessy/BHennessy
END:VEVENT
BEGIN:VEVENT
DTSTART:20250731T192000
DTEND:20250731T200000
SUMMARY:Clabaugh/Clabaugh vs. Stuhlman/Stuhlman
DESCRIPTION:PUPC Thursday Night Low Int./Rec League - LateSummer25 - Paddle Up Pickleball Club
LOCATION:Court 6
CATEGORIES:QuickScores; Pickleball Game
TRANSP:0
DALARM:20250731T172000;PT10M;2;Clabaugh/Clabaugh vs. Stuhlman/Stuhlman
END:VEVENT
BEGIN:VEVENT
DTSTART:20250807T180000
DTEND:20250807T184000
SUMMARY:Clabaugh/Clabaugh vs. Stuhlman/Stuhlman
DESCRIPTION:PUPC Thursday Night Low Int./Rec League - LateSummer25 - Paddle Up Pickleball Club
LOCATION:Court 6
CATEGORIES:QuickScores; Pickleball Game
TRANSP:0
DALARM:20250807T160000;PT10M;2;Clabaugh/Clabaugh vs. Stuhlman/Stuhlman
END:VEVENT
BEGIN:VEVENT
DTSTART:20250807T184000
DTEND:20250807T192000
SUMMARY:Stuhlman/Stuhlman vs. Steams/Vinograd
DESCRIPTION:PUPC Thursday Night Low Int./Rec League - LateSummer25 - Paddle Up Pickleball Club
LOCATION:Court 6
CATEGORIES:QuickScores; Pickleball Game
TRANSP:0
DALARM:20250807T164000;PT10M;2;Stuhlman/Stuhlman vs. Steams/Vinograd
END:VEVENT
BEGIN:VEVENT
DTSTART:20250814T180000
DTEND:20250814T184000
SUMMARY:Wilson/Wilson vs. Stuhlman/Stuhlman
DESCRIPTION:PUPC Thursday Night Low Int./Rec League - LateSummer25 - Paddle Up Pickleball Club
LOCATION:Court 6
CATEGORIES:QuickScores; Pickleball Game
TRANSP:0
DALARM:20250814T160000;PT10M;2;Wilson/Wilson vs. Stuhlman/Stuhlman
END:VEVENT
BEGIN:VEVENT
DTSTART:20250814T184000
DTEND:20250814T192000
SUMMARY:Denny/Nettler vs. Stuhlman/Stuhlman
DESCRIPTION:PUPC Thursday Night Low Int./Rec League - LateSummer25 - Paddle Up Pickleball Club
LOCATION:Court 6
CATEGORIES:QuickScores; Pickleball Game
TRANSP:0
DALARM:20250814T164000;PT10M;2;Denny/Nettler vs. Stuhlman/Stuhlman
END:VEVENT
BEGIN:VEVENT
DTSTART:20250828T180000
DTEND:20250828T183000
SUMMARY:[3] GHennessy/BHennessy vs. [6] Stuhlman/Stuhlman
DESCRIPTION:PUPC Thursday Night Low Int./Rec League - LateSummer25 - Paddle Up Pickleball Club
LOCATION:Court 4
CATEGORIES:QuickScores; Pickleball Game
TRANSP:0
DALARM:20250828T160000;PT10M;2;[3] GHennessy/BHennessy vs. [6] Stuhlman/Stuhlman
END:VEVENT
END:VCALENDAR
