BEGIN:VCALENDAR
VERSION:1.0
BEGIN:VEVENT
DTSTART:20250724T184000
DTEND:20250724T192000
SUMMARY:Hennessy/Hennessy vs. Merrifield/Merrifield
DESCRIPTION:PUPC Thursday Night High Int League - LateSummer25 - Paddle Up Pickleball Club
LOCATION:Court 1
CATEGORIES:QuickScores; Pickleball Game
TRANSP:0
DALARM:20250724T164000;PT10M;2;Hennessy/Hennessy vs. Merrifield/Merrifield
END:VEVENT
BEGIN:VEVENT
DTSTART:20250724T192000
DTEND:20250724T200000
SUMMARY:Merrifield/Merrifield vs. Girwood/Morgan
DESCRIPTION:PUPC Thursday Night High Int League - LateSummer25 - Paddle Up Pickleball Club
LOCATION:Court 1
CATEGORIES:QuickScores; Pickleball Game
TRANSP:0
DALARM:20250724T172000;PT10M;2;Merrifield/Merrifield vs. Girwood/Morgan
END:VEVENT
BEGIN:VEVENT
DTSTART:20250731T184000
DTEND:20250731T192000
SUMMARY:Merrifield/Merrifield vs. Girwood/Morgan
DESCRIPTION:PUPC Thursday Night High Int League - LateSummer25 - Paddle Up Pickleball Club
LOCATION:Court 1
CATEGORIES:QuickScores; Pickleball Game
TRANSP:0
DALARM:20250731T164000;PT10M;2;Merrifield/Merrifield vs. Girwood/Morgan
END:VEVENT
BEGIN:VEVENT
DTSTART:20250731T192000
DTEND:20250731T200000
SUMMARY:Merrifield/Merrifield vs. Kalish/Kalish
DESCRIPTION:PUPC Thursday Night High Int League - LateSummer25 - Paddle Up Pickleball Club
LOCATION:Court 1
CATEGORIES:QuickScores; Pickleball Game
TRANSP:0
DALARM:20250731T172000;PT10M;2;Merrifield/Merrifield vs. Kalish/Kalish
END:VEVENT
BEGIN:VEVENT
DTSTART:20250807T192000
DTEND:20250807T200000
SUMMARY:Merrifield/Merrifield vs. Hennessy/Hennessy
DESCRIPTION:PUPC Thursday Night High Int League - LateSummer25 - Paddle Up Pickleball Club
LOCATION:Court 1
CATEGORIES:QuickScores; Pickleball Game
TRANSP:0
DALARM:20250807T172000;PT10M;2;Merrifield/Merrifield vs. Hennessy/Hennessy
END:VEVENT
BEGIN:VEVENT
DTSTART:20250807T200000
DTEND:20250807T204000
SUMMARY:Merrifield/Merrifield vs. Kalish/Kalish
DESCRIPTION:PUPC Thursday Night High Int League - LateSummer25 - Paddle Up Pickleball Club
LOCATION:Court 2
CATEGORIES:QuickScores; Pickleball Game
TRANSP:0
DALARM:20250807T180000;PT10M;2;Merrifield/Merrifield vs. Kalish/Kalish
END:VEVENT
BEGIN:VEVENT
DTSTART:20250814T192000
DTEND:20250814T200000
SUMMARY:Richert/Thies vs. Merrifield/Merrifield
DESCRIPTION:PUPC Thursday Night High Int League - LateSummer25 - Paddle Up Pickleball Club
LOCATION:Court 1
CATEGORIES:QuickScores; Pickleball Game
TRANSP:0
DALARM:20250814T172000;PT10M;2;Richert/Thies vs. Merrifield/Merrifield
END:VEVENT
BEGIN:VEVENT
DTSTART:20250814T200000
DTEND:20250814T204000
SUMMARY:Girwood/Morgan vs. Merrifield/Merrifield
DESCRIPTION:PUPC Thursday Night High Int League - LateSummer25 - Paddle Up Pickleball Club
LOCATION:Court 1
CATEGORIES:QuickScores; Pickleball Game
TRANSP:0
DALARM:20250814T180000;PT10M;2;Girwood/Morgan vs. Merrifield/Merrifield
END:VEVENT
BEGIN:VEVENT
DTSTART:20250821T192000
DTEND:20250821T200000
SUMMARY:Kalish/Kalish vs. Merrifield/Merrifield
DESCRIPTION:PUPC Thursday Night High Int League - LateSummer25 - Paddle Up Pickleball Club
LOCATION:Court 1
CATEGORIES:QuickScores; Pickleball Game
TRANSP:0
DALARM:20250821T172000;PT10M;2;Kalish/Kalish vs. Merrifield/Merrifield
END:VEVENT
BEGIN:VEVENT
DTSTART:20250821T200000
DTEND:20250821T204000
SUMMARY:Merrifield/Merrifield vs. Richert/Thies
DESCRIPTION:PUPC Thursday Night High Int League - LateSummer25 - Paddle Up Pickleball Club
LOCATION:Court 2
CATEGORIES:QuickScores; Pickleball Game
TRANSP:0
DALARM:20250821T180000;PT10M;2;Merrifield/Merrifield vs. Richert/Thies
END:VEVENT
BEGIN:VEVENT
DTSTART:20250828T193000
DTEND:20250828T200000
SUMMARY:[2] Merrifield/Merrifield vs. [3] Girwood/Morgan
DESCRIPTION:PUPC Thursday Night High Int League - LateSummer25 - Paddle Up Pickleball Club
LOCATION:Court 2
CATEGORIES:QuickScores; Pickleball Game
TRANSP:0
DALARM:20250828T173000;PT10M;2;[2] Merrifield/Merrifield vs. [3] Girwood/Morgan
END:VEVENT
END:VCALENDAR
