BEGIN:VCALENDAR
VERSION:1.0
BEGIN:VEVENT
DTSTART:20250724T184000
DTEND:20250724T192000
SUMMARY:Jones/Jones vs. Zeisler/Zeisler
DESCRIPTION:FMG Thursday Low Intermediate Lg. -  Late Summer 2025 - Paddle Up Pickleball Club
LOCATION:FMG Court 4
CATEGORIES:QuickScores; Pickleball Game
TRANSP:0
DALARM:20250724T164000;PT10M;2;Jones/Jones vs. Zeisler/Zeisler
END:VEVENT
BEGIN:VEVENT
DTSTART:20250724T200000
DTEND:20250724T204000
SUMMARY:Zeisler/Zeisler vs. Chi/Beauchamp
DESCRIPTION:FMG Thursday Low Intermediate Lg. -  Late Summer 2025 - Paddle Up Pickleball Club
LOCATION:FMG Court 4
CATEGORIES:QuickScores; Pickleball Game
TRANSP:0
DALARM:20250724T180000;PT10M;2;Zeisler/Zeisler vs. Chi/Beauchamp
END:VEVENT
BEGIN:VEVENT
DTSTART:20250731T184000
DTEND:20250731T192000
SUMMARY:Ellebrecht/Brewer vs. Zeisler/Zeisler
DESCRIPTION:FMG Thursday Low Intermediate Lg. -  Late Summer 2025 - Paddle Up Pickleball Club
LOCATION:FMG Court 3
CATEGORIES:QuickScores; Pickleball Game
TRANSP:0
DALARM:20250731T164000;PT10M;2;Ellebrecht/Brewer vs. Zeisler/Zeisler
END:VEVENT
BEGIN:VEVENT
DTSTART:20250731T200000
DTEND:20250731T204000
SUMMARY:Summers/Stugart vs. Zeisler/Zeisler
DESCRIPTION:FMG Thursday Low Intermediate Lg. -  Late Summer 2025 - Paddle Up Pickleball Club
LOCATION:FMG Court 3
CATEGORIES:QuickScores; Pickleball Game
TRANSP:0
DALARM:20250731T180000;PT10M;2;Summers/Stugart vs. Zeisler/Zeisler
END:VEVENT
BEGIN:VEVENT
DTSTART:20250807T184000
DTEND:20250807T192000
SUMMARY:Zeisler/Zeisler vs. Gurgol/Burke
DESCRIPTION:FMG Thursday Low Intermediate Lg. -  Late Summer 2025 - Paddle Up Pickleball Club
LOCATION:FMG Court 3
CATEGORIES:QuickScores; Pickleball Game
TRANSP:0
DALARM:20250807T164000;PT10M;2;Zeisler/Zeisler vs. Gurgol/Burke
END:VEVENT
BEGIN:VEVENT
DTSTART:20250807T192000
DTEND:20250807T200000
SUMMARY:Henderson/Henderson vs. Zeisler/Zeisler
DESCRIPTION:Pm --- FMG Thursday Low Intermediate Lg. -  Late Summer 2025 - Paddle Up Pickleball Club
LOCATION:FMG Court 3
CATEGORIES:QuickScores; Pickleball Game
TRANSP:0
DALARM:20250807T172000;PT10M;2;Henderson/Henderson vs. Zeisler/Zeisler
END:VEVENT
BEGIN:VEVENT
DTSTART:20250814T192000
DTEND:20250814T200000
SUMMARY:Zeisler/Zeisler vs. Jones/Jones
DESCRIPTION:FMG Thursday Low Intermediate Lg. -  Late Summer 2025 - Paddle Up Pickleball Club
LOCATION:FMG Court 4
CATEGORIES:QuickScores; Pickleball Game
TRANSP:0
DALARM:20250814T172000;PT10M;2;Zeisler/Zeisler vs. Jones/Jones
END:VEVENT
BEGIN:VEVENT
DTSTART:20250814T200000
DTEND:20250814T204000
SUMMARY:Zeisler/Zeisler vs. Herdt/Herdt
DESCRIPTION:FMG Thursday Low Intermediate Lg. -  Late Summer 2025 - Paddle Up Pickleball Club
LOCATION:FMG Court 4
CATEGORIES:QuickScores; Pickleball Game
TRANSP:0
DALARM:20250814T180000;PT10M;2;Zeisler/Zeisler vs. Herdt/Herdt
END:VEVENT
BEGIN:VEVENT
DTSTART:20250821T200000
DTEND:20250821T204000
SUMMARY:Chi/Beauchamp vs. Zeisler/Zeisler
DESCRIPTION:FMG Thursday Low Intermediate Lg. -  Late Summer 2025 - Paddle Up Pickleball Club
LOCATION:FMG Court 3
CATEGORIES:QuickScores; Pickleball Game
TRANSP:0
DALARM:20250821T180000;PT10M;2;Chi/Beauchamp vs. Zeisler/Zeisler
END:VEVENT
BEGIN:VEVENT
DTSTART:20250821T204000
DTEND:20250821T212000
SUMMARY:Zeisler/Zeisler vs. Summers/Stugart
DESCRIPTION:FMG Thursday Low Intermediate Lg. -  Late Summer 2025 - Paddle Up Pickleball Club
LOCATION:FMG Court 4
CATEGORIES:QuickScores; Pickleball Game
TRANSP:0
DALARM:20250821T184000;PT10M;2;Zeisler/Zeisler vs. Summers/Stugart
END:VEVENT
END:VCALENDAR
