BEGIN:VCALENDAR
VERSION:1.0
BEGIN:VEVENT
DTSTART:20250724T184000
DTEND:20250724T192000
SUMMARY:Henderson/Henderson vs. Gurgol/Burke
DESCRIPTION:FMG Thursday Low Intermediate Lg. -  Late Summer 2025 - Paddle Up Pickleball Club
LOCATION:FMG Court 2
CATEGORIES:QuickScores; Pickleball Game
TRANSP:0
DALARM:20250724T164000;PT10M;2;Henderson/Henderson vs. Gurgol/Burke
END:VEVENT
BEGIN:VEVENT
DTSTART:20250724T200000
DTEND:20250724T204000
SUMMARY:Henderson/Henderson vs. DuBois/Shouse
DESCRIPTION:FMG Thursday Low Intermediate Lg. -  Late Summer 2025 - Paddle Up Pickleball Club
LOCATION:FMG Court 2
CATEGORIES:QuickScores; Pickleball Game
TRANSP:0
DALARM:20250724T180000;PT10M;2;Henderson/Henderson vs. DuBois/Shouse
END:VEVENT
BEGIN:VEVENT
DTSTART:20250731T180000
DTEND:20250731T184000
SUMMARY:Henderson/Henderson vs. Ellebrecht/Brewer
DESCRIPTION:FMG Thursday Low Intermediate Lg. -  Late Summer 2025 - Paddle Up Pickleball Club
LOCATION:FMG Court 3
CATEGORIES:QuickScores; Pickleball Game
TRANSP:0
DALARM:20250731T160000;PT10M;2;Henderson/Henderson vs. Ellebrecht/Brewer
END:VEVENT
BEGIN:VEVENT
DTSTART:20250731T184000
DTEND:20250731T192000
SUMMARY:Henderson/Henderson vs. Arras/Malloy
DESCRIPTION:FMG Thursday Low Intermediate Lg. -  Late Summer 2025 - Paddle Up Pickleball Club
LOCATION:FMG Court 2
CATEGORIES:QuickScores; Pickleball Game
TRANSP:0
DALARM:20250731T164000;PT10M;2;Henderson/Henderson vs. Arras/Malloy
END:VEVENT
BEGIN:VEVENT
DTSTART:20250807T180000
DTEND:20250807T184000
SUMMARY:Henderson/Henderson vs. Ellebrecht/Brewer
DESCRIPTION:FMG Thursday Low Intermediate Lg. -  Late Summer 2025 - Paddle Up Pickleball Club
LOCATION:FMG Court 3
CATEGORIES:QuickScores; Pickleball Game
TRANSP:0
DALARM:20250807T160000;PT10M;2;Henderson/Henderson vs. Ellebrecht/Brewer
END:VEVENT
BEGIN:VEVENT
DTSTART:20250807T192000
DTEND:20250807T200000
SUMMARY:Henderson/Henderson vs. Zeisler/Zeisler
DESCRIPTION:Pm --- FMG Thursday Low Intermediate Lg. -  Late Summer 2025 - Paddle Up Pickleball Club
LOCATION:FMG Court 3
CATEGORIES:QuickScores; Pickleball Game
TRANSP:0
DALARM:20250807T172000;PT10M;2;Henderson/Henderson vs. Zeisler/Zeisler
END:VEVENT
BEGIN:VEVENT
DTSTART:20250814T200000
DTEND:20250814T204000
SUMMARY:Gurgol/Burke vs. Henderson/Henderson
DESCRIPTION:FMG Thursday Low Intermediate Lg. -  Late Summer 2025 - Paddle Up Pickleball Club
LOCATION:FMG Court 2
CATEGORIES:QuickScores; Pickleball Game
TRANSP:0
DALARM:20250814T180000;PT10M;2;Gurgol/Burke vs. Henderson/Henderson
END:VEVENT
BEGIN:VEVENT
DTSTART:20250814T204000
DTEND:20250814T212000
SUMMARY:Jones/Jones vs. Henderson/Henderson
DESCRIPTION:FMG Thursday Low Intermediate Lg. -  Late Summer 2025 - Paddle Up Pickleball Club
LOCATION:FMG Court 3
CATEGORIES:QuickScores; Pickleball Game
TRANSP:0
DALARM:20250814T184000;PT10M;2;Jones/Jones vs. Henderson/Henderson
END:VEVENT
BEGIN:VEVENT
DTSTART:20250821T200000
DTEND:20250821T204000
SUMMARY:Summers/Stugart vs. Henderson/Henderson
DESCRIPTION:FMG Thursday Low Intermediate Lg. -  Late Summer 2025 - Paddle Up Pickleball Club
LOCATION:FMG Court 2
CATEGORIES:QuickScores; Pickleball Game
TRANSP:0
DALARM:20250821T180000;PT10M;2;Summers/Stugart vs. Henderson/Henderson
END:VEVENT
BEGIN:VEVENT
DTSTART:20250821T204000
DTEND:20250821T212000
SUMMARY:Chi/Beauchamp vs. Henderson/Henderson
DESCRIPTION:FMG Thursday Low Intermediate Lg. -  Late Summer 2025 - Paddle Up Pickleball Club
LOCATION:FMG Court 3
CATEGORIES:QuickScores; Pickleball Game
TRANSP:0
DALARM:20250821T184000;PT10M;2;Chi/Beauchamp vs. Henderson/Henderson
END:VEVENT
END:VCALENDAR
