BEGIN:VCALENDAR
VERSION:1.0
BEGIN:VEVENT
DTSTART:20250727T093000
DTEND:20250727T095000
SUMMARY:DawnTegeler/KevinTegeler vs. JanAnderson/DougLemmons
DESCRIPTION:Paddle Up Club Championship - Mixed Doubles 7/27 (9:00 AM Start) - Paddle Up Pickleball Club
LOCATION:Court 3
CATEGORIES:QuickScores; Pickleball Game
TRANSP:0
DALARM:20250727T073000;PT10M;2;DawnTegeler/KevinTegeler vs. JanAnderson/DougLemmons
END:VEVENT
BEGIN:VEVENT
DTSTART:20250727T095000
DTEND:20250727T101000
SUMMARY:JanAnderson/DougLemmons vs. LonnieNeckermann/DevonWoody
DESCRIPTION:Paddle Up Club Championship - Mixed Doubles 7/27 (9:00 AM Start) - Paddle Up Pickleball Club
LOCATION:Court 2
CATEGORIES:QuickScores; Pickleball Game
TRANSP:0
DALARM:20250727T075000;PT10M;2;JanAnderson/DougLemmons vs. LonnieNeckermann/DevonWoody
END:VEVENT
BEGIN:VEVENT
DTSTART:20250727T103000
DTEND:20250727T105000
SUMMARY:SteveDubois/CherylDubois vs. JanAnderson/DougLemmons
DESCRIPTION:Paddle Up Club Championship - Mixed Doubles 7/27 (9:00 AM Start) - Paddle Up Pickleball Club
LOCATION:Court 4
CATEGORIES:QuickScores; Pickleball Game
TRANSP:0
DALARM:20250727T083000;PT10M;2;SteveDubois/CherylDubois vs. JanAnderson/DougLemmons
END:VEVENT
BEGIN:VEVENT
DTSTART:20250727T105000
DTEND:20250727T111000
SUMMARY:JanAnderson/DougLemmons vs. TrishEddy/JeffreyEddy
DESCRIPTION:Paddle Up Club Championship - Mixed Doubles 7/27 (9:00 AM Start) - Paddle Up Pickleball Club
LOCATION:Court 6
CATEGORIES:QuickScores; Pickleball Game
TRANSP:0
DALARM:20250727T085000;PT10M;2;JanAnderson/DougLemmons vs. TrishEddy/JeffreyEddy
END:VEVENT
BEGIN:VEVENT
DTSTART:20250727T113000
DTEND:20250727T115000
SUMMARY:MikeChambers/TiffanyChambers vs. JanAnderson/DougLemmons
DESCRIPTION:Paddle Up Club Championship - Mixed Doubles 7/27 (9:00 AM Start) - Paddle Up Pickleball Club
LOCATION:Court 3
CATEGORIES:QuickScores; Pickleball Game
TRANSP:0
DALARM:20250727T093000;PT10M;2;MikeChambers/TiffanyChambers vs. JanAnderson/DougLemmons
END:VEVENT
BEGIN:VEVENT
DTSTART:20250727T115000
DTEND:20250727T121000
SUMMARY:JanAnderson/DougLemmons vs. JenikaHernandez/GioHernandez
DESCRIPTION:Paddle Up Club Championship - Mixed Doubles 7/27 (9:00 AM Start) - Paddle Up Pickleball Club
LOCATION:Court 9
CATEGORIES:QuickScores; Pickleball Game
TRANSP:0
DALARM:20250727T095000;PT10M;2;JanAnderson/DougLemmons vs. JenikaHernandez/GioHernandez
END:VEVENT
END:VCALENDAR
