BEGIN:VCALENDAR
VERSION:1.0
BEGIN:VEVENT
DTSTART:20250727T091000
DTEND:20250727T093000
SUMMARY:PaigeReque/NickBorger vs. KayleighTrokey/CooperWeseli
DESCRIPTION:Paddle Up Club Championship - Mixed Doubles 7/27 (9:00 AM Start) - Paddle Up Pickleball Club
LOCATION:Court 1
CATEGORIES:QuickScores; Pickleball Game
TRANSP:0
DALARM:20250727T071000;PT10M;2;PaigeReque/NickBorger vs. KayleighTrokey/CooperWeseli
END:VEVENT
BEGIN:VEVENT
DTSTART:20250727T095000
DTEND:20250727T101000
SUMMARY:KayleighTrokey/CooperWeseli vs. RebeccaHawkins/PrestonLanglois
DESCRIPTION:Paddle Up Club Championship - Mixed Doubles 7/27 (9:00 AM Start) - Paddle Up Pickleball Club
LOCATION:Court 7
CATEGORIES:QuickScores; Pickleball Game
TRANSP:0
DALARM:20250727T075000;PT10M;2;KayleighTrokey/CooperWeseli vs. RebeccaHawkins/PrestonLanglois
END:VEVENT
BEGIN:VEVENT
DTSTART:20250727T103000
DTEND:20250727T105000
SUMMARY:KayleighTrokey/CooperWeseli vs. MaryGraves/DuaneMuntzing
DESCRIPTION:Paddle Up Club Championship - Mixed Doubles 7/27 (9:00 AM Start) - Paddle Up Pickleball Club
LOCATION:Court 8
CATEGORIES:QuickScores; Pickleball Game
TRANSP:0
DALARM:20250727T083000;PT10M;2;KayleighTrokey/CooperWeseli vs. MaryGraves/DuaneMuntzing
END:VEVENT
BEGIN:VEVENT
DTSTART:20250727T111000
DTEND:20250727T113000
SUMMARY:TabbethaBohac/CurtisMcKenney vs. KayleighTrokey/CooperWeseli
DESCRIPTION:Paddle Up Club Championship - Mixed Doubles 7/27 (9:00 AM Start) - Paddle Up Pickleball Club
LOCATION:Court 1
CATEGORIES:QuickScores; Pickleball Game
TRANSP:0
DALARM:20250727T091000;PT10M;2;TabbethaBohac/CurtisMcKenney vs. KayleighTrokey/CooperWeseli
END:VEVENT
BEGIN:VEVENT
DTSTART:20250727T113000
DTEND:20250727T115000
SUMMARY:KayleighTrokey/CooperWeseli vs. TobiOla/BekahOla
DESCRIPTION:Paddle Up Club Championship - Mixed Doubles 7/27 (9:00 AM Start) - Paddle Up Pickleball Club
LOCATION:Court 8
CATEGORIES:QuickScores; Pickleball Game
TRANSP:0
DALARM:20250727T093000;PT10M;2;KayleighTrokey/CooperWeseli vs. TobiOla/BekahOla
END:VEVENT
BEGIN:VEVENT
DTSTART:20250727T121000
DTEND:20250727T123000
SUMMARY:KevinRoach/KaliPruss vs. KayleighTrokey/CooperWeseli
DESCRIPTION:Paddle Up Club Championship - Mixed Doubles 7/27 (9:00 AM Start) - Paddle Up Pickleball Club
LOCATION:Court 2
CATEGORIES:QuickScores; Pickleball Game
TRANSP:0
DALARM:20250727T101000;PT10M;2;KevinRoach/KaliPruss vs. KayleighTrokey/CooperWeseli
END:VEVENT
END:VCALENDAR
