BEGIN:VCALENDAR
VERSION:1.0
BEGIN:VEVENT
DTSTART:20250727T091000
DTEND:20250727T093000
SUMMARY:PaigeReque/NickBorger vs. KayleighTrokey/CooperWeseli
DESCRIPTION:Paddle Up Club Championship - Mixed Doubles 7/27 (9:00 AM Start) - Paddle Up Pickleball Club
LOCATION:Court 1
CATEGORIES:QuickScores; Pickleball Game
TRANSP:0
DALARM:20250727T071000;PT10M;2;PaigeReque/NickBorger vs. KayleighTrokey/CooperWeseli
END:VEVENT
BEGIN:VEVENT
DTSTART:20250727T093000
DTEND:20250727T095000
SUMMARY:RebeccaHawkins/PrestonLanglois vs. PaigeReque/NickBorger
DESCRIPTION:Paddle Up Club Championship - Mixed Doubles 7/27 (9:00 AM Start) - Paddle Up Pickleball Club
LOCATION:Court 8
CATEGORIES:QuickScores; Pickleball Game
TRANSP:0
DALARM:20250727T073000;PT10M;2;RebeccaHawkins/PrestonLanglois vs. PaigeReque/NickBorger
END:VEVENT
BEGIN:VEVENT
DTSTART:20250727T095000
DTEND:20250727T101000
SUMMARY:KevinRoach/KaliPruss vs. PaigeReque/NickBorger
DESCRIPTION:Paddle Up Club Championship - Mixed Doubles 7/27 (9:00 AM Start) - Paddle Up Pickleball Club
LOCATION:Court 6
CATEGORIES:QuickScores; Pickleball Game
TRANSP:0
DALARM:20250727T075000;PT10M;2;KevinRoach/KaliPruss vs. PaigeReque/NickBorger
END:VEVENT
BEGIN:VEVENT
DTSTART:20250727T101000
DTEND:20250727T103000
SUMMARY:PaigeReque/NickBorger vs. MaryGraves/DuaneMuntzing
DESCRIPTION:Paddle Up Club Championship - Mixed Doubles 7/27 (9:00 AM Start) - Paddle Up Pickleball Club
LOCATION:Court 6
CATEGORIES:QuickScores; Pickleball Game
TRANSP:0
DALARM:20250727T081000;PT10M;2;PaigeReque/NickBorger vs. MaryGraves/DuaneMuntzing
END:VEVENT
BEGIN:VEVENT
DTSTART:20250727T105000
DTEND:20250727T111000
SUMMARY:TobiOla/BekahOla vs. PaigeReque/NickBorger
DESCRIPTION:Paddle Up Club Championship - Mixed Doubles 7/27 (9:00 AM Start) - Paddle Up Pickleball Club
LOCATION:Court 4
CATEGORIES:QuickScores; Pickleball Game
TRANSP:0
DALARM:20250727T085000;PT10M;2;TobiOla/BekahOla vs. PaigeReque/NickBorger
END:VEVENT
BEGIN:VEVENT
DTSTART:20250727T113000
DTEND:20250727T115000
SUMMARY:PaigeReque/NickBorger vs. TabbethaBohac/CurtisMcKenney
DESCRIPTION:Paddle Up Club Championship - Mixed Doubles 7/27 (9:00 AM Start) - Paddle Up Pickleball Club
LOCATION:Court 2
CATEGORIES:QuickScores; Pickleball Game
TRANSP:0
DALARM:20250727T093000;PT10M;2;PaigeReque/NickBorger vs. TabbethaBohac/CurtisMcKenney
END:VEVENT
END:VCALENDAR
