BEGIN:VCALENDAR
VERSION:1.0
BEGIN:VEVENT
DTSTART:20250726T181000
DTEND:20250726T183000
SUMMARY:TabbethaBohac/KaliPruss vs. KayleighTrokey/KatieMckee
DESCRIPTION:Paddle Up Club Championship - Championship Divisions 7/26 (6:00 PM Start) - Paddle Up Pickleball Club
LOCATION:Court 9
CATEGORIES:QuickScores; Pickleball Game
TRANSP:0
DALARM:20250726T161000;PT10M;2;TabbethaBohac/KaliPruss vs. KayleighTrokey/KatieMckee
END:VEVENT
BEGIN:VEVENT
DTSTART:20250726T183000
DTEND:20250726T185000
SUMMARY:LatoyaBranscomb/JoyThurman vs. KayleighTrokey/KatieMckee
DESCRIPTION:Paddle Up Club Championship - Championship Divisions 7/26 (6:00 PM Start) - Paddle Up Pickleball Club
LOCATION:Court 9
CATEGORIES:QuickScores; Pickleball Game
TRANSP:0
DALARM:20250726T163000;PT10M;2;LatoyaBranscomb/JoyThurman vs. KayleighTrokey/KatieMckee
END:VEVENT
BEGIN:VEVENT
DTSTART:20250726T185000
DTEND:20250726T191000
SUMMARY:KayleighTrokey/KatieMckee vs. PaigeReque/KrissyDickey
DESCRIPTION:Paddle Up Club Championship - Championship Divisions 7/26 (6:00 PM Start) - Paddle Up Pickleball Club
LOCATION:Court 1
CATEGORIES:QuickScores; Pickleball Game
TRANSP:0
DALARM:20250726T165000;PT10M;2;KayleighTrokey/KatieMckee vs. PaigeReque/KrissyDickey
END:VEVENT
END:VCALENDAR
