BEGIN:VCALENDAR
VERSION:1.0
BEGIN:VEVENT
DTSTART:20250609T182000
DTEND:20250609T190000
SUMMARY:Borrowman/Miller vs. Sausen/Ramrup
DESCRIPTION:DDTC - Monday Recreational Lg. - EarlySummer25 - Paddle Up Pickleball Club
LOCATION:DDTC Court 13N
CATEGORIES:QuickScores; Pickleball Game
TRANSP:0
DALARM:20250609T162000;PT10M;2;Borrowman/Miller vs. Sausen/Ramrup
END:VEVENT
BEGIN:VEVENT
DTSTART:20250609T190000
DTEND:20250609T194000
SUMMARY:Borrowman/Miller vs. Hudson/Harwood
DESCRIPTION:DDTC - Monday Recreational Lg. - EarlySummer25 - Paddle Up Pickleball Club
LOCATION:DDTC Court 13N
CATEGORIES:QuickScores; Pickleball Game
TRANSP:0
DALARM:20250609T170000;PT10M;2;Borrowman/Miller vs. Hudson/Harwood
END:VEVENT
BEGIN:VEVENT
DTSTART:20250616T202000
DTEND:20250616T210000
SUMMARY:Borrowman/Miller vs. Hertogs/Nissen
DESCRIPTION:DDTC - Monday Recreational Lg. - EarlySummer25 - Paddle Up Pickleball Club
LOCATION:DDTC Court 13N
CATEGORIES:QuickScores; Pickleball Game
TRANSP:0
DALARM:20250616T182000;PT10M;2;Borrowman/Miller vs. Hertogs/Nissen
END:VEVENT
BEGIN:VEVENT
DTSTART:20250616T210000
DTEND:20250616T214000
SUMMARY:Odell/Lanpoint vs. Borrowman/Miller
DESCRIPTION:DDTC - Monday Recreational Lg. - EarlySummer25 - Paddle Up Pickleball Club
LOCATION:DDTC Court 12S
CATEGORIES:QuickScores; Pickleball Game
TRANSP:0
DALARM:20250616T190000;PT10M;2;Odell/Lanpoint vs. Borrowman/Miller
END:VEVENT
BEGIN:VEVENT
DTSTART:20250623T202000
DTEND:20250623T210000
SUMMARY:Borrowman/Miller vs. Cotton/Reagan
DESCRIPTION:DDTC - Monday Recreational Lg. - EarlySummer25 - Paddle Up Pickleball Club
LOCATION:DDTC Court 13N
CATEGORIES:QuickScores; Pickleball Game
TRANSP:0
DALARM:20250623T182000;PT10M;2;Borrowman/Miller vs. Cotton/Reagan
END:VEVENT
BEGIN:VEVENT
DTSTART:20250623T210000
DTEND:20250623T214000
SUMMARY:Borrowman/Miller vs. BStewart/PStewart
DESCRIPTION:DDTC - Monday Recreational Lg. - EarlySummer25 - Paddle Up Pickleball Club
LOCATION:DDTC Court 12S
CATEGORIES:QuickScores; Pickleball Game
TRANSP:0
DALARM:20250623T190000;PT10M;2;Borrowman/Miller vs. BStewart/PStewart
END:VEVENT
BEGIN:VEVENT
DTSTART:20250630T190000
DTEND:20250630T194000
SUMMARY:Vandercar/Scrivner vs. Borrowman/Miller
DESCRIPTION:DDTC - Monday Recreational Lg. - EarlySummer25 - Paddle Up Pickleball Club
LOCATION:DDTC Court 13N
CATEGORIES:QuickScores; Pickleball Game
TRANSP:0
DALARM:20250630T170000;PT10M;2;Vandercar/Scrivner vs. Borrowman/Miller
END:VEVENT
BEGIN:VEVENT
DTSTART:20250630T202000
DTEND:20250630T210000
SUMMARY:Johnston/Yarkoni vs. Borrowman/Miller
DESCRIPTION:DDTC - Monday Recreational Lg. - EarlySummer25 - Paddle Up Pickleball Club
LOCATION:DDTC Court 13N
CATEGORIES:QuickScores; Pickleball Game
TRANSP:0
DALARM:20250630T182000;PT10M;2;Johnston/Yarkoni vs. Borrowman/Miller
END:VEVENT
BEGIN:VEVENT
DTSTART:20250707T182000
DTEND:20250707T190000
SUMMARY:Sausen/Ramrup vs. Borrowman/Miller
DESCRIPTION:DDTC - Monday Recreational Lg. - EarlySummer25 - Paddle Up Pickleball Club
LOCATION:DDTC Court 13N
CATEGORIES:QuickScores; Pickleball Game
TRANSP:0
DALARM:20250707T162000;PT10M;2;Sausen/Ramrup vs. Borrowman/Miller
END:VEVENT
BEGIN:VEVENT
DTSTART:20250707T190000
DTEND:20250707T194000
SUMMARY:Odell/Lanpoint vs. Borrowman/Miller
DESCRIPTION:DDTC - Monday Recreational Lg. - EarlySummer25 - Paddle Up Pickleball Club
LOCATION:DDTC Court 13N
CATEGORIES:QuickScores; Pickleball Game
TRANSP:0
DALARM:20250707T170000;PT10M;2;Odell/Lanpoint vs. Borrowman/Miller
END:VEVENT
END:VCALENDAR
