BEGIN:VCALENDAR
VERSION:1.0
BEGIN:VEVENT
DTSTART:20250609T174000
DTEND:20250609T182000
SUMMARY:Fogerty/Fogarty vs. Barbeau/Courtney
DESCRIPTION:DDTC - Monday High Intermediate Lg. - EarlySummer25 - Paddle Up Pickleball Club
LOCATION:DDTC Court 22
CATEGORIES:QuickScores; Pickleball Game
TRANSP:0
DALARM:20250609T154000;PT10M;2;Fogerty/Fogarty vs. Barbeau/Courtney
END:VEVENT
BEGIN:VEVENT
DTSTART:20250609T182000
DTEND:20250609T190000
SUMMARY:Fogerty/Fogarty vs. Phalke/Veqar
DESCRIPTION:DDTC - Monday High Intermediate Lg. - EarlySummer25 - Paddle Up Pickleball Club
LOCATION:DDTC Court 22
CATEGORIES:QuickScores; Pickleball Game
TRANSP:0
DALARM:20250609T162000;PT10M;2;Fogerty/Fogarty vs. Phalke/Veqar
END:VEVENT
BEGIN:VEVENT
DTSTART:20250630T190000
DTEND:20250630T194000
SUMMARY:Fogerty/Fogarty vs. Thompson/Thompson
DESCRIPTION:DDTC - Monday High Intermediate Lg. - EarlySummer25 - Paddle Up Pickleball Club
LOCATION:DDTC Court 11N
CATEGORIES:QuickScores; Pickleball Game
TRANSP:0
DALARM:20250630T170000;PT10M;2;Fogerty/Fogarty vs. Thompson/Thompson
END:VEVENT
END:VCALENDAR
