BEGIN:VCALENDAR
VERSION:1.0
BEGIN:VEVENT
DTSTART:20250609T174000
DTEND:20250609T182000
SUMMARY:Falconi/Tin vs. Hessler/Hessler
DESCRIPTION:DDTC - Monday High Intermediate Lg. - EarlySummer25 - Paddle Up Pickleball Club
LOCATION:DDTC Court 12N
CATEGORIES:QuickScores; Pickleball Game
TRANSP:0
DALARM:20250609T154000;PT10M;2;Falconi/Tin vs. Hessler/Hessler
END:VEVENT
BEGIN:VEVENT
DTSTART:20250609T190000
DTEND:20250609T194000
SUMMARY:Falconi/Tin vs. Kirkpatrick/Kirkpatrick
DESCRIPTION:DDTC - Monday High Intermediate Lg. - EarlySummer25 - Paddle Up Pickleball Club
LOCATION:DDTC Court 11S
CATEGORIES:QuickScores; Pickleball Game
TRANSP:0
DALARM:20250609T170000;PT10M;2;Falconi/Tin vs. Kirkpatrick/Kirkpatrick
END:VEVENT
BEGIN:VEVENT
DTSTART:20250616T174000
DTEND:20250616T182000
SUMMARY:Falconi/Tin vs. Barbeau/Courtney
DESCRIPTION:DDTC - Monday High Intermediate Lg. - EarlySummer25 - Paddle Up Pickleball Club
LOCATION:DDTC Court 12N
CATEGORIES:QuickScores; Pickleball Game
TRANSP:0
DALARM:20250616T154000;PT10M;2;Falconi/Tin vs. Barbeau/Courtney
END:VEVENT
BEGIN:VEVENT
DTSTART:20250616T182000
DTEND:20250616T190000
SUMMARY:Lanter/Baalman vs. Falconi/Tin
DESCRIPTION:DDTC - Monday High Intermediate Lg. - EarlySummer25 - Paddle Up Pickleball Club
LOCATION:DDTC Court 12N
CATEGORIES:QuickScores; Pickleball Game
TRANSP:0
DALARM:20250616T162000;PT10M;2;Lanter/Baalman vs. Falconi/Tin
END:VEVENT
BEGIN:VEVENT
DTSTART:20250623T190000
DTEND:20250623T194000
SUMMARY:Lansing/Cage vs. Falconi/Tin
DESCRIPTION:DDTC - Monday High Intermediate Lg. - EarlySummer25 - Paddle Up Pickleball Club
LOCATION:DDTC Court 22
CATEGORIES:QuickScores; Pickleball Game
TRANSP:0
DALARM:20250623T170000;PT10M;2;Lansing/Cage vs. Falconi/Tin
END:VEVENT
BEGIN:VEVENT
DTSTART:20250623T194000
DTEND:20250623T202000
SUMMARY:Beachem/Hutchens vs. Falconi/Tin
DESCRIPTION:DDTC - Monday High Intermediate Lg. - EarlySummer25 - Paddle Up Pickleball Club
LOCATION:DDTC Court 22
CATEGORIES:QuickScores; Pickleball Game
TRANSP:0
DALARM:20250623T174000;PT10M;2;Beachem/Hutchens vs. Falconi/Tin
END:VEVENT
BEGIN:VEVENT
DTSTART:20250630T202000
DTEND:20250630T210000
SUMMARY:Hutchens/Rainford vs. Falconi/Tin
DESCRIPTION:DDTC - Monday High Intermediate Lg. - EarlySummer25 - Paddle Up Pickleball Club
LOCATION:DDTC Court 22
CATEGORIES:QuickScores; Pickleball Game
TRANSP:0
DALARM:20250630T182000;PT10M;2;Hutchens/Rainford vs. Falconi/Tin
END:VEVENT
BEGIN:VEVENT
DTSTART:20250630T210000
DTEND:20250630T214000
SUMMARY:Falconi/Tin vs. Ecklund/Fleming
DESCRIPTION:DDTC - Monday High Intermediate Lg. - EarlySummer25 - Paddle Up Pickleball Club
LOCATION:DDTC Court 22
CATEGORIES:QuickScores; Pickleball Game
TRANSP:0
DALARM:20250630T190000;PT10M;2;Falconi/Tin vs. Ecklund/Fleming
END:VEVENT
BEGIN:VEVENT
DTSTART:20250707T190000
DTEND:20250707T194000
SUMMARY:Falconi/Tin vs. Hatzigeorgiou/Klohmann
DESCRIPTION:DDTC - Monday High Intermediate Lg. - EarlySummer25 - Paddle Up Pickleball Club
LOCATION:DDTC Court 11S
CATEGORIES:QuickScores; Pickleball Game
TRANSP:0
DALARM:20250707T170000;PT10M;2;Falconi/Tin vs. Hatzigeorgiou/Klohmann
END:VEVENT
BEGIN:VEVENT
DTSTART:20250707T194000
DTEND:20250707T202000
SUMMARY:Falconi/Tin vs. Gorman/Gorman
DESCRIPTION:DDTC - Monday High Intermediate Lg. - EarlySummer25 - Paddle Up Pickleball Club
LOCATION:DDTC Court 11S
CATEGORIES:QuickScores; Pickleball Game
TRANSP:0
DALARM:20250707T174000;PT10M;2;Falconi/Tin vs. Gorman/Gorman
END:VEVENT
END:VCALENDAR
